{"text_format":"1","workbook":"xlsx","n_sheets":8,"sheets":["様式A","様式B","様式C_研究責任医師","様式C_研究分担医師等","様式D_研究責任医師","様式D_研究分担医師等","様式E","使用不可_選択肢"],"not_rendered":{"charts":0,"images":3,"macros":1,"external_links":0,"defined_names":14,"comments":0,"pivot_tables":0},"unopened":[],"bounds":{"document_bytes":16777216,"sheet_cells":100000,"rows_first":2000,"rows_last":500,"rows_between":2000,"halvings":0,"cell_chars":16384,"cell_head_chars":4096},"cells_cut":0,"cells_raw":0,"read":"whole","date_system":"1900"}

{"sheet":"様式A","index":0,"n_rows":22,"n_cols":7,"rows_kept":22,"cut":false,"hidden":false,"merged":[[12,1,12,6],[13,1,13,6],[21,1,21,6],[16,1,16,6],[17,1,17,6],[18,1,18,6],[19,1,19,6],[14,1,14,6],[20,4,20,6],[15,1,15,6],[8,5,8,6],[9,5,9,6],[10,1,10,3],[1,0,1,6],[3,0,3,5],[4,0,4,6],[5,5,5,6],[6,5,6,6],[7,5,7,6]]}
[null,null,null,null,null,null,"ver.2.2"]
["様式A　利益相反管理基準"]
[]
["認定臨床研究審査委員会　御中"]
["本研究課題について、以下の通りの利益相反管理基準を定め、研究責任医師、分担研究医師、そのほか利益相反 管理が必要な者について、本基準に基づき利益相反管理計画を作成しております。"]
[null,null,null,null,"日付"]
[null,null,null,null,"所属機関"]
[null,null,null,null,"立場"]
[null,null,null,null,"氏名"]
[null,null,null,null,"利用基準"," ■ 推奨基準　　　　　"]
["本研究課題："]
[]
["基準１","臨床研究に従事する者等は、本研究と関わりのある企業等と利益相反については直接・間接問わず、研究計画書に正確に記載し、説明文書に明示し、研究成果公表時に開示する。"]
["基準２","臨床研究に従事する者等は、企業等から本研究に関わりのある研究資金等の提供は、契約を締結する。"]
["基準３","研究責任医師・研究代表医師は、研究開始後、新たに本研究と関わりのある企業等が生じた場合には、認定臨床研究審査委員会へ、利益相反管理計画書（様式E）の意見を聴く。利益相反申告者は、本研究と関わりの\nある企業等との間に新たな利益相反が発生した場合には、研究者利益相反自己申告書（様式C）を再度作成し、所属機関の確認を受けるとともに、研究責任医師・研究代表医師は認定臨床研究審査委員会へ、当該申告\n内容が基準4～8に該当する場合には利益相反管理計画（様式E）の意見を聴き、それ以外の場合は定期報告時に報告する。"]
["基準４","研究責任医師は、以下の要件に該当する場合、原則として研究責任医師から外れる。\n　　　　　（１）本研究と関わりのある企業等の寄附講座に所属し、当該企業が拠出する資金から給与を得ている\n　　　　　（２）本研究と関わりのある企業等から、当該年度あるいは前年度に年間合計250万円以上の個人的利益を得ている\n　　　　　（３）本研究と関わりのある企業等の役員に就任している\n　　　　　（４）本研究と関わりのある企業等の株式（新株予約権を含む）を保有（公開株式は5%以上、未公開株式は1株以上、新株予約権は１個以上）している\n　　　　　（５）本研究と関わりのある企業等の本研究の医薬品等に関係する特許権を保有あるいは特許を出願している\n　　　　　　　　（特許を受ける権利を所属機関に譲渡している場合（職務発明）であっても、当該特許に基づき相当の対価を受ける権利を有している場合には該当する）"]
["基準５","研究責任医師は、基準4の（１）～（５）の要件に該当しているが、研究責任医師として研究に関与する場合には、データ管理（※1）、モニタリング、統計・解析に関与する業務には従事しないものとし、かつ研究期間中に\n監査を受けるものとする。"]
["基準６","研究責任医師は、生計を同じにする自身の配偶者や一親等の親族が、基準4の（２）～（５）の要件に該当する場合、データ管理（※1）、モニタリング、統計・解析に関与する業務には従事しないものとする。"]
["基準７","研究分担医師は、基準4の（１）～（５）の要件に該当する場合、データ管理（※1）、モニタリング、統計・解析に関与する業務には従事しないものとする。"]
["基準８","研究責任医師は、本研究と関わりのある企業等の研究者が研究に関与する場合、原則として企業等の研究者に被験者のリクルート及びデータ管理（※1）、モニタリング、統計・解析に関与する業務には関与させないものとする\n(1)。　ただし、企業等の研究者をデータ管理（※2）、統計・解析に関与する業務に関与させる必要がある場合には、研究期間中に監査を受けるものとする（2)。"]
[]
[null,"（※１）効果安全性評価委員会への参画を含む。\n（※２）効果安全性評価委員会への参画を含まない。"]

{"sheet":"様式B","index":1,"n_rows":60,"n_cols":11,"rows_kept":60,"cut":false,"hidden":false,"merged":[[46,0,48,0],[49,0,51,0],[32,0,33,0],[34,0,36,0],[37,0,39,0],[40,0,42,0],[43,0,45,0],[16,0,19,0],[20,0,23,0],[24,0,27,0],[28,0,29,0],[30,0,31,0],[59,3,59,10],[53,7,53,8],[53,10,57,10],[54,7,54,8],[57,7,57,8],[53,3,57,5],[56,7,56,8],[55,7,55,8],[49,1,51,1],[46,1,48,1],[43,1,45,1],[43,3,51,5],[43,6,51,6],[40,1,42,1],[37,1,39,1],[34,1,36,1],[34,10,36,10],[37,10,39,10],[37,7,39,7],[40,7,42,7],[34,6,42,6],[34,3,42,5],[34,7,36,7],[30,1,31,1],[30,7,31,7],[30,10,31,10],[28,1,29,1],[28,6,33,6],[28,7,29,7],[32,1,33,1],[32,7,33,7],[32,10,33,10],[28,3,33,5],[28,10,29,10],[2,3,2,4],[3,3,3,10],[10,8,10,9],[20,1,23,1],[20,7,23,7],[20,10,23,10],[16,1,19,1],[16,6,27,6],[16,7,19,7],[24,1,27,1],[24,10,27,10],[16,3,27,5],[16,10,19,10],[4,3,5,3],[7,3,8,7],[43,10,45,10],[46,10,48,10],[49,10,51,10],[11,8,15,8],[4,4,5,7],[11,3,15,5],[11,6,15,6],[10,3,10,5],[40,10,42,10],[24,7,27,7],[49,7,51,7],[43,7,45,7],[46,7,48,7]]}
[null,null,null,null,null,null,null,"様式B　関係企業等報告書",null,null,"ver.2.2"]
[]
[null,null,null,"所属機関殿"]
[null,null,null,"本研究課題と関わりのある企業等について以下の通り報告します。"]
[null,null,null,"本研究課題：",{"$f":"IF(様式A!B11=\"\",\"\",様式A!B11)","v":""},null,null,null,null,"日付"]
[null,null,null,null,null,null,null,null,null,"所属機関",{"$f":"IF(様式A!F7=\"\",\"\",様式A!F7)","v":""}]
[null,null,null,"【特記事項】",null,null,null,null,null,"立場",{"$f":"IF(様式A!F8=\"\",\"\",様式A!F8)","v":""}]
[null,null,null,null,null,null,null,null,null,"氏名",{"$f":"IF(様式A!F9=\"\",\"\",様式A!F9)","v":""}]
[null,null,null,null,null,null,null,null,null,"メールアドレス"]
[]
["Q2からQ5までの企業等","Q1からQ5までの企業等",null,"設問",null,null,"回答を\n選択","「はい」の場合\n企業等の名を入力","「はい」の場合詳細を記載",null,"管理計画"]
[null,{"$f":"IF(H12=\"\",0,1)","v":0},null,"Q１.本研究は、 企業等が製造販売する、もしくは製造販売しようとする医薬品・医療機器等を用いているか？\n\n・企業等が当該医薬品等の特許権を有しない場合であっても、臨床研究の結果によって、特許権の売却等を行う旨の契約等が締結されている場合等は、該当するものとする。\n・研究者自ら開発した未承認の医薬品等について医師主導臨床研究を実施する場合で、医薬品等製造販売業者等が当該医薬品等の特許ライセンスを受ける等医薬品等を製造販売する予定の場合も該当する。",null,null,null,null,"本研究対象の医薬品\n・医療機器等の名称"]
[null,{"$f":"IF(H13=\"\",B12,IF(ISNA(VLOOKUP($H13,$H$12:$I12,2,FALSE)),1,0)+B12)","v":0}]
[null,{"$f":"IF(H14=\"\",B13,IF(ISNA(VLOOKUP($H14,$H$12:$I13,2,FALSE)),1,0)+B13)","v":0}]
[null,{"$f":"IF(H15=\"\",B14,IF(ISNA(VLOOKUP($H15,$H$12:$I14,2,FALSE)),1,0)+B14)","v":0}]
[null,{"$f":"IF(H16=\"\",B15,IF(ISNA(VLOOKUP($H16,$H$12:$I15,2,FALSE)),1,0)+B15)","v":0}]
[{"$f":"IF(G17=\"\",0,1)","v":0},{"$f":"IF(H17=\"\",B14,IF(ISNA(VLOOKUP($H17,$H12:$I$14,2,FALSE)),1,0)+B14)","v":0},null,"Q２．本研究の実施に、企業等から受け入れた研究費等を使用するか？\n\n・当該企業等が製造販売をし、又はしようとする医薬品等を用いない臨床研究の場合も含む。\n・研究費等については、直接・間接問わず資金提供を行った企業、及び当該資金提供を仲介する法人（非営利法人、公益法人等）を含む\n・共同研究（臨床研究）、受託研究、学術指導、研究助成金、寄附金（ただし、当該臨床研究に用いる医薬品・医療機器等を製造販売する、もしくは製造販売しようとする企業等からの寄附金については、契約の締結が求められています）  等\n・1円でも受け入れていれば申告対象\n・本研究にかかる人件費を受け入れる場合も対象",null,null,null,null,"研究費の受入形態\n(その他の場合には具体的な受入形態を記載）",null,{"$f":"IF(H17=\"\",\"\",VLOOKUP(\"基準1と2\",基準選択肢B,2,FALSE))","v":""}]
[null,null,null,null,null,null,null,null,"受入方法：直接・間接\n(間接の場合には経由機関を入力)"]
[null,null,null,null,null,null,null,null,"受入金額（円）"]
[null,null,null,null,null,null,null,null,"契約締結状況"]
[{"$f":"IF(H21=\"\",A17,IF(ISNA(VLOOKUP($H21,$H$12:$I20,2,FALSE)),1,0)+A17)","v":0},{"$f":"IF(H21=\"\",B17,IF(ISNA(VLOOKUP($H21,$H$12:$I20,2,FALSE)),1,0)+B17)","v":0},null,null,null,null,null,null,"研究費の受入形態\n(その他の場合には具体的な受入形態を記載）",null,{"$f":"IF(H21=\"\",\"\",VLOOKUP(\"基準1と2\",基準選択肢B,2,FALSE))","v":""}]
[null,null,null,null,null,null,null,null,"受入方法：直接・間接\n(間接の場合には経由機関を入力)"]
[null,null,null,null,null,null,null,null,"受入金額（円）"]
[null,null,null,null,null,null,null,null,"契約締結状況"]
[{"$f":"IF(H25=\"\",A21,IF(ISNA(VLOOKUP($H25,$H$12:$I24,2,FALSE)),1,0)+A21)","v":0},{"$f":"IF(H25=\"\",B21,IF(ISNA(VLOOKUP($H25,$H$12:$I24,2,FALSE)),1,0)+B21)","v":0},null,null,null,null,null,null,"研究費の受入形態\n(その他の場合には具体的な受入形態を記載）",null,{"$f":"IF(H25=\"\",\"\",VLOOKUP(\"基準1と2\",基準選択肢B,2,FALSE))","v":""}]
[null,null,null,null,null,null,null,null,"受入方法：直接・間接\n(間接の場合には経由機関を入力)"]
[null,null,null,null,null,null,null,null,"受入金額（円）"]
[null,null,null,null,null,null,null,null,"契約締結状況"]
[{"$f":"IF(H29=\"\",A25,IF(ISNA(VLOOKUP($H29,$H$12:$I28,2,FALSE)),1,0)+A25)","v":0},{"$f":"IF(H29=\"\",B25,IF(ISNA(VLOOKUP($H29,$H$12:$I28,2,FALSE)),1,0)+B25)","v":0},null,"Q３．本研究に使用する医薬品、医療機器、機材、試料、物品、施設等を企業等から、無償あるいは相当程度安価で受領・借用するか？\n\n・本研究で薬剤、機器、機材、試料、物品、施設等を使用する場合で企業等から購入する場合には対象外",null,null,null,null,"受領するモノの種類",null,{"$f":"IF(H29=\"\",\"\",VLOOKUP(\"基準1\",基準選択肢B,2,FALSE))","v":""}]
[null,null,null,null,null,null,null,null,"契約締結状況",null,{"$f":"IF(#REF!=\"\",\"\",VLOOKUP(#REF!,使用不可_選択肢!$A$8:$C$11,2,FALSE))","v":{"$error":"#REF!"}}]
[{"$f":"IF(H31=\"\",A29,IF(ISNA(VLOOKUP($H31,$H$12:$I30,2,FALSE)),1,0)+A29)","v":0},{"$f":"IF(H31=\"\",B29,IF(ISNA(VLOOKUP($H31,$H$12:$I30,2,FALSE)),1,0)+B29)","v":0},null,null,null,null,null,null,"受領するモノの種類",null,{"$f":"IF(H31=\"\",\"\",VLOOKUP(\"基準1\",基準選択肢B,2,FALSE))","v":""}]
[null,null,null,null,null,null,null,null,"契約締結状況",null,{"$f":"IF(#REF!=\"\",\"\",VLOOKUP(#REF!,使用不可_選択肢!$A$8:$C$11,2,FALSE))","v":{"$error":"#REF!"}}]
[{"$f":"IF(H33=\"\",A31,IF(ISNA(VLOOKUP($H33,$H$12:$I32,2,FALSE)),1,0)+A31)","v":0},{"$f":"IF(H33=\"\",B31,IF(ISNA(VLOOKUP($H33,$H$12:$I32,2,FALSE)),1,0)+B31)","v":0},null,null,null,null,null,null,"受領するモノの種類",null,{"$f":"IF(H33=\"\",\"\",VLOOKUP(\"基準1\",基準選択肢B,2,FALSE))","v":""}]
[null,null,null,null,null,null,null,null,"契約締結状況",null,{"$f":"IF(#REF!=\"\",\"\",VLOOKUP(#REF!,使用不可_選択肢!$A$8:$C$11,2,FALSE))","v":{"$error":"#REF!"}}]
[{"$f":"IF(H35=\"\",A33,IF(ISNA(VLOOKUP($H35,$H$12:$I34,2,FALSE)),1,0)+A33)","v":0},{"$f":"IF(H35=\"\",B33,IF(ISNA(VLOOKUP($H35,$H$12:$I34,2,FALSE)),1,0)+B33)","v":0},null,"Q４．企業等から無償もしくは相当程度安価での役務、又は特定役務を受領（業務委託を含む）するか？\n\n・役務提供はデータの生成・固定・解析に関与する業務（データ入力、データ管理、モニタリング、統計・解析等）研究計画書作成、発表資料作成協力（論文作成協力、予稿作成、報告書作成等）、被験者リクルート等に関与している場合。\n・特定役務（当該企業等からデータ管理、モニタリング、統計・解析又は監査に関する役務）の場合で、有償での提供の場合。\n・契約を締結している受託臨床試験機関（CRO）、試験実施機構管理機関（SMO）は記載不要",null,null,null,null,"受領する役務の内容",null,{"$f":"IF(H35=\"\",\"\",IF(J37=\"有\",VLOOKUP(\"基準1と8-2\",基準選択肢B,2,FALSE),IF(J37=\"無\",VLOOKUP(\"基準1と8-1\",基準選択肢B,2,FALSE),\"\")))","v":""}]
[null,null,null,null,null,null,null,null,"契約締結状況"]
[null,null,null,null,null,null,null,null,"企業等の研究者による被験者のリクルート及びデータ管理、モニタリング、統計・解析への関与の有無"]
[{"$f":"IF(H38=\"\",A35,IF(ISNA(VLOOKUP($H38,$H$12:$I36,2,FALSE)),1,0)+A35)","v":0},{"$f":"IF(H38=\"\",B35,IF(ISNA(VLOOKUP($H38,$H$12:$I36,2,FALSE)),1,0)+B35)","v":0},null,null,null,null,null,null,"受領する役務の内容",null,{"$f":"IF(H38=\"\",\"\",IF(J40=\"有\",VLOOKUP(\"基準1と8-2\",基準選択肢B,2,FALSE),IF(J40=\"無\",VLOOKUP(\"基準1と8-1\",基準選択肢B,2,FALSE),\"\")))","v":""}]
[null,null,null,null,null,null,null,null,"契約締結状況"]
[null,null,null,null,null,null,null,null,"企業等の研究者による被験者のリクルート及びデータ管理、モニタリング、統計・解析への関与の有無"]
[{"$f":"IF(H41=\"\",A38,IF(ISNA(VLOOKUP($H41,$H$12:$I39,2,FALSE)),1,0)+A38)","v":0},{"$f":"IF(H41=\"\",B38,IF(ISNA(VLOOKUP($H41,$H$12:$I39,2,FALSE)),1,0)+B38)","v":0},null,null,null,null,null,null,"受領する役務の内容",null,{"$f":"IF(H41=\"\",\"\",IF(J43=\"有\",VLOOKUP(\"基準1と8-2\",基準選択肢B,2,FALSE),IF(J43=\"無\",VLOOKUP(\"基準1と8-1\",基準選択肢B,2,FALSE),\"\")))","v":""}]
[null,null,null,null,null,null,null,null,"契約締結状況"]
[null,null,null,null,null,null,null,null,"企業等の研究者による被験者のリクルート及びデータ管理、モニタリング、統計・解析への関与の有無"]
[{"$f":"IF(H44=\"\",A41,IF(ISNA(VLOOKUP($H44,$H$12:$I42,2,FALSE)),1,0)+A41)","v":0},{"$f":"IF(H44=\"\",B41,IF(ISNA(VLOOKUP($H44,$H$12:$I42,2,FALSE)),1,0)+B41)","v":0},null,"Q5．本研究に、企業等に在籍している者（実施医療機関等が受け入れている研究員・社会人学生（博士研究員等含む）又は実施医療機関等への出向者等含む）及び過去2年間在籍していた者の当該臨床研究への従事があるか？\n\n・研究分担医師、協力者として参画する場合を含む",null,null,null,null,"参加・従事により担う役割の内容",null,{"$f":"IF(H44=\"\",\"\",IF(J46=\"有\",VLOOKUP(\"基準1と8-2\",基準選択肢B,2,FALSE),IF(J46=\"無\",VLOOKUP(\"基準1と8-1\",基準選択肢B,2,FALSE),\"\")))","v":""}]
[null,null,null,null,null,null,null,null,"契約締結状況"]
[null,null,null,null,null,null,null,null,"企業等の研究者による被験者のリクルート及びデータ管理、モニタリング、統計・解析への関与の有無"]
[{"$f":"IF(H47=\"\",A44,IF(ISNA(VLOOKUP($H47,$H$12:$I45,2,FALSE)),1,0)+A44)","v":0},{"$f":"IF(H47=\"\",B44,IF(ISNA(VLOOKUP($H47,$H$12:$I45,2,FALSE)),1,0)+B44)","v":0},null,null,null,null,null,null,"参加・従事により担う役割の内容",null,{"$f":"IF(H47=\"\",\"\",IF(J49=\"有\",VLOOKUP(\"基準1と8-2\",基準選択肢B,2,FALSE),IF(J49=\"無\",VLOOKUP(\"基準1と8-1\",基準選択肢B,2,FALSE),\"\")))","v":""}]
[null,null,null,null,null,null,null,null,"契約締結状況"]
[null,null,null,null,null,null,null,null,"企業等の研究者による被験者のリクルート及びデータ管理、モニタリング、統計・解析への関与の有無"]
[{"$f":"IF(H50=\"\",A47,IF(ISNA(VLOOKUP($H50,$H$12:$I48,2,FALSE)),1,0)+A47)","v":0},{"$f":"IF(H50=\"\",B47,IF(ISNA(VLOOKUP($H50,$H$12:$I48,2,FALSE)),1,0)+B47)","v":0},null,null,null,null,null,null,"参加・従事により担う役割の内容",null,{"$f":"IF(H50=\"\",\"\",IF(J52=\"有\",VLOOKUP(\"基準1と8-2\",基準選択肢B,2,FALSE),IF(J52=\"無\",VLOOKUP(\"基準1と8-1\",基準選択肢B,2,FALSE),\"\")))","v":""}]
[null,null,null,null,null,null,null,null,"契約締結状況"]
[null,null,null,null,null,null,null,null,"企業等の研究者による被験者のリクルート及びデータ管理、モニタリング、統計・解析への関与の有無"]
[]
[null,null,null,"本研究に関係のある企業等名",null,null,"①",null,null,{"$f":"IF(ISNA(VLOOKUP(1,$B$12:$H$51,7,FALSE)),\"\",VLOOKUP(1,$B$12:$H$51,7,FALSE))","v":""},"Q1~Q5のG列に記載のある企業が法人の場合には、当該法人を実質的に支配している企業等についてもQ1~Q5のG列に記載して申告する"]
[null,null,null,null,null,null,"②",null,null,{"$f":"IF(ISNA(VLOOKUP(2,$B$12:$H$51,7,FALSE)),\"\",VLOOKUP(2,$B$12:$H$51,7,FALSE))","v":""}]
[null,null,null,null,null,null,"③",null,null,{"$f":"IF(ISNA(VLOOKUP(3,$B$12:$H$51,7,FALSE)),\"\",VLOOKUP(3,$B$12:$H$51,7,FALSE))","v":""}]
[null,null,null,null,null,null,"④",null,null,{"$f":"IF(ISNA(VLOOKUP(4,$B$12:$H$51,7,FALSE)),\"\",VLOOKUP(4,$B$12:$H$51,7,FALSE))","v":""}]
[null,null,null,null,null,null,"⑤",null,null,{"$f":"IF(ISNA(VLOOKUP(5,$B$12:$H$51,7,FALSE)),\"\",VLOOKUP(5,$B$12:$H$51,7,FALSE))","v":""}]
[]
[null,null,null,{"$f":"IF($G$12=\"はい\",\"本研究は、企業等が製造または販売する可能性のある薬剤を対象とする研究になります。\n様式C（研究者利益相反申告書）へ進み、自ら記載するとともに、利益相反管理が必要な者に対し、様式Cの記入と所属機関事務局への提出を依頼してください。\",\"本研究は、企業等が製造または販売する可能性のある薬剤を対象とする研究ではないため、様式E（利益相反管理計画書）へ進み当該シートを完成させ、\n様式A（利益相反管理基準）と様式Eを認定臨床研究審査委員会へ提出してください。\")","v":"本研究は、企業等が製造または販売する可能性のある薬剤を対象とする研究ではないため、様式E（利益相反管理計画書）へ進み当該シートを完成させ、\n様式A（利益相反管理基準）と様式Eを認定臨床研究審査委員会へ提出してください。"}]

{"sheet":"様式C_研究責任医師","index":2,"n_rows":135,"n_cols":14,"rows_kept":135,"cut":false,"hidden":false,"merged":[[119,13,120,13],[121,13,122,13],[123,13,124,13],[75,13,76,13],[77,13,78,13],[79,13,80,13],[81,13,82,13],[125,13,126,13],[127,13,128,13],[116,12,116,13],[117,12,117,13],[118,12,118,13],[125,12,126,12],[121,12,122,12],[83,13,84,13],[97,12,98,12],[77,12,78,12],[94,12,94,13],[95,12,95,13],[96,12,96,13],[97,13,98,13],[59,13,60,13],[61,13,62,13],[37,13,38,13],[39,13,40,13],[50,12,50,13],[51,12,51,13],[52,12,52,13],[51,7,51,8],[51,9,52,9],[51,10,51,11],[52,10,52,11],[39,12,40,12],[48,6,48,12],[50,6,50,8],[50,9,50,11],[53,13,54,13],[55,13,56,13],[39,9,40,9],[29,7,29,8],[29,9,30,9],[31,2,32,5],[33,2,36,4],[33,5,34,5],[31,6,32,6],[31,9,32,9],[57,13,58,13],[41,2,42,4],[45,2,46,4],[43,2,44,4],[37,2,40,4],[37,5,38,5],[6,2,7,2],[9,6,9,7],[9,9,9,10],[22,6,22,8],[22,9,22,12],[6,10,6,11],[16,9,16,10],[17,9,17,10],[20,9,20,12],[11,6,11,7],[10,12,13,12],[5,10,5,11],[4,10,4,11],[30,7,30,8],[30,10,30,11],[21,6,21,8],[21,9,21,12],[15,9,15,10],[29,6,30,6],[29,10,29,11],[10,6,10,7],[7,10,7,11],[6,3,7,8],[19,6,19,8],[19,9,19,12],[10,9,10,10],[11,9,11,10],[12,9,12,10],[13,9,13,10],[14,9,14,10],[12,6,12,7],[13,6,13,7],[14,6,14,7],[15,6,15,7],[16,6,16,7],[17,6,17,7],[35,9,36,9],[37,12,38,12],[52,7,52,8],[37,6,38,6],[37,9,38,9],[35,5,36,5],[33,6,34,6],[35,12,36,12],[23,6,23,8],[28,6,28,8],[28,2,30,5],[23,9,23,12],[28,12,28,13],[29,12,29,13],[30,12,30,13],[31,13,32,13],[33,13,34,13],[28,9,28,11],[26,6,26,12],[33,9,34,9],[33,12,34,12],[31,12,32,12],[35,13,36,13],[39,5,40,5],[59,9,60,9],[59,12,60,12],[61,5,62,5],[61,6,62,6],[61,9,62,9],[61,12,62,12],[51,6,52,6],[53,2,54,5],[53,6,54,6],[53,9,54,9],[53,12,54,12],[55,2,58,4],[55,5,56,5],[55,6,56,6],[55,9,56,9],[55,12,56,12],[57,6,58,6],[57,9,58,9],[57,12,58,12],[73,9,74,9],[73,10,73,11],[74,7,74,8],[74,10,74,11],[73,12,73,13],[74,12,74,13],[63,2,64,4],[65,2,66,4],[67,2,68,4],[70,6,70,12],[72,6,72,8],[72,9,72,11],[72,12,72,13],[81,9,82,9],[81,12,82,12],[83,5,84,5],[83,6,84,6],[83,9,84,9],[83,12,84,12],[75,2,76,5],[75,6,76,6],[75,9,76,9],[75,12,76,12],[77,2,80,4],[77,5,78,5],[77,6,78,6],[77,9,78,9],[79,5,80,5],[79,6,80,6],[79,9,80,9],[79,12,80,12],[99,13,100,13],[101,5,102,5],[101,6,102,6],[101,9,102,9],[101,13,102,13],[95,6,96,6],[95,7,95,8],[95,9,96,9],[95,10,95,11],[99,12,100,12],[96,7,96,8],[96,10,96,11],[97,9,98,9],[99,9,100,9],[103,13,104,13],[105,5,106,5],[105,6,106,6],[105,9,106,9],[105,13,106,13],[118,7,118,8],[103,12,104,12],[101,12,102,12],[103,6,104,6],[119,9,120,9],[119,12,120,12],[0,5,0,11],[129,2,130,4],[125,9,126,9],[3,10,3,11],[117,9,118,9],[117,10,117,11],[121,2,124,4],[123,5,124,5],[123,6,124,6],[123,9,124,9],[123,12,124,12],[127,5,128,5],[127,6,128,6],[127,9,128,9],[127,12,128,12],[121,9,122,9],[118,10,118,11],[121,5,122,5],[121,6,122,6],[89,2,90,4],[92,6,92,12],[94,6,94,8],[131,2,132,4],[133,2,134,4],[19,2,23,4],[125,2,128,4],[125,5,126,5],[125,6,126,6],[107,2,108,4],[25,2,25,8],[117,7,117,8],[109,2,110,4],[119,2,120,5],[119,6,120,6],[81,2,84,4],[81,5,82,5],[81,6,82,6],[73,6,74,6],[73,7,73,8],[57,5,58,5],[59,2,62,4],[59,5,60,5],[59,6,60,6],[20,6,20,8],[35,6,36,6],[39,6,40,6],[50,2,52,5],[72,2,74,5],[94,2,96,5],[116,2,118,5],[97,2,98,5],[97,6,98,6],[85,2,86,4],[117,6,118,6],[99,2,102,4],[99,5,100,5],[87,2,88,4],[103,2,106,4],[103,5,104,5],[111,2,112,4],[114,6,114,12],[116,6,116,8],[103,9,104,9],[105,12,106,12],[116,9,116,11],[99,6,100,6],[94,9,94,11]]}
[null,null,null,null,null,"様式C＜研究責任医師用＞　研究者利益相反自己申告書",null,null,null,null,null,null,"ver.2.2"]
[null,null,"所属機関殿"]
[null,null,"本研究課題と関わりのある企業等との関係について、下記の通り報告すると共に、当該企業等との利益相反の有無、及び利益相反管理計画を提案いたします。"]
[null,null,null,null,null,null,null,null,null,null,"日　　付"]
[null,null,null,null,null,null,null,null,null,null,"所　属　機　関"]
[null,null,null,null,null,null,null,null,null,null,"立　　場",null,"研究責任医師"]
[null,null,"本研究課題：",{"$f":"IF(様式B!E5=\"\",\"\",様式B!E5)","v":""},null,null,null,null,null,null,"研究責任医師　氏名"]
[null,null,null,null,null,null,null,null,null,null,"メールアドレス"]
[null,null,"【研究者利益相反自己申告書（様式C)が必要な者】 "]
[null,null,"所属機関","立場","氏名",null,"所属機関",null,"立場","氏名",null,null,"【特記事項(任意)】例：Q1で寄附金を使用すると申告しているが、寄附金は2017年度以前に受け入れたものを使用する。"]
[]
[]
[]
[]
[]
[]
[]
[]
[null,null,"1. 本研究対象医薬品等の製造販売業者等について：（記載不要）様式BのQ1に該当、記載された内容が自動的に反映されます"]
[null,null,"本研究は、 企業等が製造販売する、もしくは製造販売しようとする医薬品薬剤・医療機器等を用いている。(様式BのQ1)",null,null,"①",{"$f":"IF(様式B!H12=\"\",\"\",様式B!H12)","v":""},null,null,{"$f":"IF(G20=\"\",\"\",\"本研究対象薬剤・機器名：\"&様式B!J12)","v":""}]
[null,null,null,null,null,"②",{"$f":"IF(様式B!H13=\"\",\"\",様式B!H13)","v":""},null,null,{"$f":"IF(G21=\"\",\"\",\"本研究対象薬剤・機器名：\"&様式B!J13)","v":""}]
[null,null,null,null,null,"③",{"$f":"IF(様式B!H14=\"\",\"\",様式B!H14)","v":""},null,null,{"$f":"IF(G22=\"\",\"\",\"本研究対象薬剤・機器名：\"&様式B!J14)","v":""}]
[null,null,null,null,null,"④",{"$f":"IF(様式B!H15=\"\",\"\",様式B!H15)","v":""},null,null,{"$f":"IF(G23=\"\",\"\",\"本研究対象薬剤・機器名：\"&様式B!J15)","v":""}]
[null,null,null,null,null,"⑤",{"$f":"IF(様式B!H16=\"\",\"\",様式B!H16)","v":""},null,null,{"$f":"IF(G24=\"\",\"\",\"本研究対象薬剤・機器名：\"&様式B!J16)","v":""}]
[]
[null,null,"2. 本研究対象医薬品等の製造販売業者等との利益相反報告"]
[null,null,null,null,"本研究対象医薬品等の製造販売業者等名：","①",{"$f":"IF(G20=\"\",\"\",G20)","v":""}]
[]
[null,null,"COI状況の有無",null,null,null,"前年度",null,null,"当該年度",null,null,"前年度＋当該年度"]
[null,null,null,null,null,null,"有無","「はい」と回答した項目について",null,"有無","「はい」と回答した項目について",null,"「はい」と回答した項目について"]
[null,null,null,null,null,null,null,"COIの内容について\n詳細を選択・記述",null,null,"COIの内容について\n詳細を選択・記述",null,"COI管理計画"]
[null,null,"Q１．当該企業等から申告者が実質的に使途を決定し得る寄附金の総額が、年間200万円を超えているか？\n・　実質的に使途を決定し得るとは、当該寄附金の管理をするという意味で、受入研究者に申告を求めている。間接経費を除き、直接経費のみを指すものではない。\n※寄附金については、2017年度以前に受入れた寄附金以外は使うことができません。",null,null,null,null,"形態",{"$f":"IF(G32=\"はい\",\"寄附金\",\"\")","v":""},null,"形態",{"$f":"IF(J32=\"はい\",\"寄附金\",\"\")","v":""},{"$f":"IF(G32=\"はい\",VLOOKUP(\"基準1\",基準選択肢C,2),IF(J32=\"はい\",VLOOKUP(\"基準1\",基準選択肢C,2),\"\"))","v":""},{"$f":"IF(G32=\"はい\",\"基準1\",IF(J32=\"はい\",\"基準1\",\"\"))","v":""}]
[null,null,null,null,null,null,null,"受入金額(円)",null,null,"受入金額(円)"]
[null,null,"Q２.　当該企業等が提供する寄附講座に所属しているか？\n\n・　寄附講座の資金から給与を取得しているか否かに関わらない。",null,null,"本人",null,"期間",null,null,"期間",null,{"$f":"IF(AND($G34=\"はい\",$I35=\"有\"),VLOOKUP(\"基準1と5\",基準選択肢C,2),IF(AND($J34=\"はい\",$L35=\"有\"),VLOOKUP(\"基準1と5\",基準選択肢C,2),IF($G34=\"はい\",VLOOKUP(\"基準1\",基準選択肢C,2),IF($J34=\"はい\",VLOOKUP(\"基準1\",基準選択肢C,2),\"\"))))","v":""},{"$f":"IF(AND($G34=\"はい\",$I35=\"有\"),\"基準1と5\",IF(AND($J34=\"はい\",$L35=\"有\"),\"基準1と5\",IF($G34=\"はい\",\"基準1\",IF($J34=\"はい\",\"基準1\",\"\"))))","v":""}]
[null,null,null,null,null,null,null,"給与の有無",null,null,"給与の有無"]
[null,null,null,null,null,"申告者と生計を同じにする配偶者及びその一親等の親族",null,"期間",null,null,"期間",null,{"$f":"IF($G36=\"はい\",VLOOKUP(\"基準1\",基準選択肢C,2),IF($J36=\"はい\",VLOOKUP(\"基準1\",基準選択肢C,2),\"\"))","v":""},{"$f":"IF($G36=\"はい\",\"基準1\",IF($J36=\"はい\",\"基準1\",\"\"))","v":""}]
[null,null,null,null,null,null,null,"給与の有無",null,null,"給与の有無"]
[null,null,"Q3．当該企業等との間に、申告者本人又は申告者と生計を同じにする配偶者及びその一親等の親族（親・子）が年間合計100万円以上の個人的な利益関係があるか？\n　\n・　個人的利益関係とは、給与・講演・原稿・コンサルティング・ライセンス・贈答・接遇等による収入。",null,null,"本人",null,"経済的利益の内容(複数ある場合はすべて記載)",null,null,"経済的利益の内容(複数ある場合はすべて記載)",null,{"$f":"IF(OR(I39>=2500000,L39>=2500000),VLOOKUP(\"基準1と5\",基準選択肢C,2),IF(OR(I39>=1000000,L39>=1000000),VLOOKUP(\"基準1\",基準選択肢C,2),\"\"))","v":""},{"$f":"IF(OR(I39>=2500000,L39>=2500000),\"基準1と5\",IF(OR(I39>=1000000,L39>=1000000),\"基準1\",\"\"))","v":""}]
[null,null,null,null,null,null,null,"受入金額(円)",null,null,"受入金額(円)"]
[null,null,null,null,null,"申告者と生計を同じにする配偶者及びその一親等の親族",null,"経済的利益の内容(複数ある場合はすべて記載)",null,null,"経済的利益の内容(複数ある場合はすべて記載)",null,{"$f":"IF(OR(I41>=2500000,L41>=2500000),VLOOKUP(\"基準1と6\",基準選択肢C,2),IF(OR(I41>=1000000,L41>=1000000),VLOOKUP(\"基準1\",基準選択肢C,2),\"\"))","v":""},{"$f":"IF(OR(I41>=2500000,L41>=2500000),\"基準1と6\",IF(OR(I41>=1000000,L41>=1000000),\"基準1\",\"\"))","v":""}]
[null,null,null,null,null,null,null,"受入金額(円)",null,null,"受入金額(円)"]
[null,null,"Q4．当該企業等の役員等に、申告者本人又は申告者と生計を同じにする配偶者及びその一親等の親族（親・子）が就任しているか？\n\n・　役員等とは、株式会社の代表取締役・取締役、合同会社の代表者等代表権限を有する者、監査役。",null,null,"本人",null,"役職等の種類",null,null,"役職等の種類",null,{"$f":"IF(G42=\"はい\",VLOOKUP(\"基準1と5\",基準選択肢C,2),IF(J42=\"はい\",VLOOKUP(\"基準1と5\",基準選択肢C,2),\"\"))","v":""},{"$f":"IF(G42=\"はい\",\"基準1と5\",IF(J42=\"はい\",\"基準1と5\",\"\"))","v":""}]
[null,null,null,null,null,"申告者と生計を同じにする配偶者及びその一親等の親族",null,"役職等の種類",null,null,"役職等の種類",null,{"$f":"IF(G43=\"はい\",VLOOKUP(\"基準1と6\",基準選択肢C,2),IF(J43=\"はい\",VLOOKUP(\"基準1と6\",基準選択肢C,2),\"\"))","v":""},{"$f":"IF(G43=\"はい\",\"基準1と6\",IF(J43=\"はい\",\"基準1と6\",\"\"))","v":""}]
[null,null,"Q5.申告者本人又は申告者と生計を同じにする配偶者及びその一親等の親族（親・子）が当該企業等の株式（新株予約権を含む）を保有(公開株式については５％以上、未公開株式は1株以上、新株予約権は１個以上)しているか？あるいは当該企業等に出資を行っているか？",null,null,"本人",null,"内容\n（その他を選択の場合は自由記載)\n例：新株予約権と株式の保有",null,null,"内容\n（その他を選択の場合は自由記載)\n例：新株予約権と株式の保有",null,{"$f":"IF(G44=\"はい\",VLOOKUP(\"基準1と5\",基準選択肢C,2),IF(J44=\"はい\",VLOOKUP(\"基準1と5\",基準選択肢C,2),\"\"))","v":""},{"$f":"IF(G44=\"はい\",\"基準1と5\",IF(J44=\"はい\",\"基準1と5\",\"\"))","v":""}]
[null,null,null,null,null,"申告者と生計を同じにする配偶者及びその一親等の親族",null,"内容\n（その他を選択の場合は自由記載)\n例：新株予約権と株式の保有",null,null,"内容\n（その他を選択の場合は自由記載)\n例：新株予約権と株式の保有",null,{"$f":"IF(G45=\"はい\",VLOOKUP(\"基準1と6\",基準選択肢C,2),IF(J45=\"はい\",VLOOKUP(\"基準1と6\",基準選択肢C,2),\"\"))","v":""},{"$f":"IF(G45=\"はい\",\"基準1と6\",IF(J45=\"はい\",\"基準1と6\",\"\"))","v":""}]
[null,null,"Q6.その他、当該企業等と利益関係があるか？\n\n・　その他とは、寄附講座の受入れを行っている場合（受入れをしている講座の代表＝親講座）や、本研究に関する知的財産に関与している（本研究に関する特許出願中である、特許出願済みである）場合\n\n*これら以外に該当する場合には、内容と管理計画を特記事項に記載。",null,null,"本人",null,"内容",null,null,"内容",null,{"$f":"IF(N46=\"\",\"\",VLOOKUP(N46,基準選択肢C,2))","v":""},{"$f":"IF(AND(I46=L46,I46=\"\"),\"\",IF(AND(I46=L46,I46=\"寄附講座（親講座）の受入をしている\"),\"基準1\",IF(AND(I46=\"\",L46=\"寄附講座（親講座）の受入をしている\"),\"基準1\",IF(AND(L46=\"\",I46=\"寄附講座（親講座）の受入をしている\"),\"基準1\",\"基準1と5\"))))","v":""}]
[null,null,null,null,null,"申告者と生計を同じにする配偶者及びその一親等の親族",null,"内容",null,null,"内容",null,{"$f":"IF(N47=\"\",\"\",VLOOKUP(N47,基準選択肢C,2))","v":""},{"$f":"IF(AND(I47=L47,I47=\"\"),\"\",IF(AND(I47=L47,I47=\"寄附講座（親講座）の受入をしている\"),\"基準1\",IF(AND(I47=\"\",L47=\"寄附講座（親講座）の受入をしている\"),\"基準1\",IF(AND(L47=\"\",I47=\"寄附講座（親講座）の受入をしている\"),\"基準1\",\"基準1と6\"))))","v":""}]
[]
[null,null,null,null,"本研究対象医薬品等の製造販売業者等名：","②",{"$f":"IF(G21=\"\",\"\",G21)","v":""}]
[]
[null,null,"COI状況の有無",null,null,null,"前年度",null,null,"当該年度",null,null,"前年度＋当該年度"]
[null,null,null,null,null,null,"有無","「はい」と回答した項目について",null,"有無","「はい」と回答した項目について",null,"「はい」と回答した項目について"]
[null,null,null,null,null,null,null,"COIの内容について\n詳細を選択・記述",null,null,"COIの内容について\n詳細を選択・記述",null,"COI管理計画"]
[null,null,"Q１．当該企業等から申告者が実質的に使途を決定し得る寄附金の総額が、年間200万円を超えているか？\n・　実質的に使途を決定し得るとは、当該寄附金の管理をするという意味で、受入研究者に申告を求めている。間接経費を除き、直接経費のみを指すものではない。\n※寄附金については、2017年度以前に受入れた寄附金以外は使うことができません。",null,null,null,null,"形態",{"$f":"IF(G54=\"はい\",\"寄附金\",\"\")","v":""},null,"形態",{"$f":"IF(J54=\"はい\",\"寄附金\",\"\")","v":""},{"$f":"IF(G54=\"はい\",VLOOKUP(\"基準1\",基準選択肢C,2),IF(J54=\"はい\",VLOOKUP(\"基準1\",基準選択肢C,2),\"\"))","v":""},{"$f":"IF(G54=\"はい\",\"基準1\",IF(J54=\"はい\",\"基準1\",\"\"))","v":""}]
[null,null,null,null,null,null,null,"受入金額(円)",null,null,"受入金額(円)"]
[null,null,"Q２.　当該企業等が提供する寄附講座に所属しているか？\n\n・　寄附講座の資金から給与を取得しているか否かに関わらない。",null,null,"本人",null,"期間",null,null,"期間",null,{"$f":"IF(AND($G56=\"はい\",$I57=\"有\"),VLOOKUP(\"基準1と5\",基準選択肢C,2),IF(AND($J56=\"はい\",$L57=\"有\"),VLOOKUP(\"基準1と5\",基準選択肢C,2),IF($G56=\"はい\",VLOOKUP(\"基準1\",基準選択肢C,2),IF($J56=\"はい\",VLOOKUP(\"基準1\",基準選択肢C,2),\"\"))))","v":""},{"$f":"IF(AND($G56=\"はい\",$I57=\"有\"),\"基準1と5\",IF(AND($J56=\"はい\",$L57=\"有\"),\"基準1と5\",IF($G56=\"はい\",\"基準1\",IF($J56=\"はい\",\"基準1\",\"\"))))","v":""}]
[null,null,null,null,null,null,null,"給与の有無",null,null,"給与の有無"]
[null,null,null,null,null,"申告者と生計を同じにする配偶者及びその一親等の親族",null,"期間",null,null,"期間",null,{"$f":"IF($G58=\"はい\",VLOOKUP(\"基準1\",基準選択肢C,2),IF($J58=\"はい\",VLOOKUP(\"基準1\",基準選択肢C,2),\"\"))","v":""},{"$f":"IF($G58=\"はい\",\"基準1\",IF($J58=\"はい\",\"基準1\",\"\"))","v":""}]
[null,null,null,null,null,null,null,"給与の有無",null,null,"給与の有無"]
[null,null,"Q3．当該企業等との間に、申告者本人又は申告者と生計を同じにする配偶者及びその一親等の親族（親・子）が年間合計100万円以上の個人的な利益関係があるか？\n　\n・　個人的利益関係とは、給与・講演・原稿・コンサルティング・ライセンス・贈答・接遇等による収入。",null,null,"本人",null,"経済的利益の内容(複数ある場合はすべて記載)",null,null,"経済的利益の内容(複数ある場合はすべて記載)",null,{"$f":"IF(OR(I61>=2500000,L61>=2500000),VLOOKUP(\"基準1と5\",基準選択肢C,2),IF(OR(I61>=1000000,L61>=1000000),VLOOKUP(\"基準1\",基準選択肢C,2),\"\"))","v":""},{"$f":"IF(OR(I61>=2500000,L61>=2500000),\"基準1と5\",IF(OR(I61>=1000000,L61>=1000000),\"基準1\",\"\"))","v":""}]
[null,null,null,null,null,null,null,"受入金額(円)",null,null,"受入金額(円)"]
[null,null,null,null,null,"申告者と生計を同じにする配偶者及びその一親等の親族",null,"経済的利益の内容(複数ある場合はすべて記載)",null,null,"経済的利益の内容(複数ある場合はすべて記載)",null,{"$f":"IF(OR(I63>=2500000,L63>=2500000),VLOOKUP(\"基準1と6\",基準選択肢C,2),IF(OR(I63>=1000000,L63>=1000000),VLOOKUP(\"基準1\",基準選択肢C,2),\"\"))","v":""},{"$f":"IF(OR(I63>=2500000,L63>=2500000),\"基準1と6\",IF(OR(I63>=1000000,L63>=1000000),\"基準1\",\"\"))","v":""}]
[null,null,null,null,null,null,null,"受入金額(円)",null,null,"受入金額(円)"]
[null,null,"Q4．当該企業等の役員等に、申告者本人又は申告者と生計を同じにする配偶者及びその一親等の親族（親・子）が就任しているか？\n\n・　役員等とは、株式会社の代表取締役・取締役、合同会社の代表者等代表権限を有する者、監査役。",null,null,"本人",null,"役職等の種類",null,null,"役職等の種類",null,{"$f":"IF(G64=\"はい\",VLOOKUP(\"基準1と5\",基準選択肢C,2),IF(J64=\"はい\",VLOOKUP(\"基準1と5\",基準選択肢C,2),\"\"))","v":""},{"$f":"IF(G64=\"はい\",\"基準1と5\",IF(J64=\"はい\",\"基準1と5\",\"\"))","v":""}]
[null,null,null,null,null,"申告者と生計を同じにする配偶者及びその一親等の親族",null,"役職等の種類",null,null,"役職等の種類",null,{"$f":"IF(G65=\"はい\",VLOOKUP(\"基準1と6\",基準選択肢C,2),IF(J65=\"はい\",VLOOKUP(\"基準1と6\",基準選択肢C,2),\"\"))","v":""},{"$f":"IF(G65=\"はい\",\"基準1と6\",IF(J65=\"はい\",\"基準1と6\",\"\"))","v":""}]
[null,null,"Q5.申告者本人又は申告者と生計を同じにする配偶者及びその一親等の親族（親・子）が当該企業等の株式（新株予約権を含む）を保有(公開株式については５％以上、未公開株式は1株以上、新株予約権は１個以上)しているか？あるいは当該企業等に出資を行っているか？",null,null,"本人",null,"内容\n（その他を選択の場合は自由記載)\n例：新株予約権と株式の保有",null,null,"内容\n（その他を選択の場合は自由記載)\n例：新株予約権と株式の保有",null,{"$f":"IF(G66=\"はい\",VLOOKUP(\"基準1と5\",基準選択肢C,2),IF(J66=\"はい\",VLOOKUP(\"基準1と5\",基準選択肢C,2),\"\"))","v":""},{"$f":"IF(G66=\"はい\",\"基準1と5\",IF(J66=\"はい\",\"基準1と5\",\"\"))","v":""}]
[null,null,null,null,null,"申告者と生計を同じにする配偶者及びその一親等の親族",null,"内容\n（その他を選択の場合は自由記載)\n例：新株予約権と株式の保有",null,null,"内容\n（その他を選択の場合は自由記載)\n例：新株予約権と株式の保有",null,{"$f":"IF(G67=\"はい\",VLOOKUP(\"基準1と6\",基準選択肢C,2),IF(J67=\"はい\",VLOOKUP(\"基準1と6\",基準選択肢C,2),\"\"))","v":""},{"$f":"IF(G67=\"はい\",\"基準1と6\",IF(J67=\"はい\",\"基準1と6\",\"\"))","v":""}]
[null,null,"Q6.その他、当該企業等と利益関係があるか？\n\n・　その他とは、寄附講座の受入れを行っている場合（受入れをしている講座の代表＝親講座）や、本研究に関する知的財産に関与している（本研究に関する特許出願中である、特許出願済みである）場合\n\n*これら以外に該当する場合には、内容と管理計画を特記事項に記載。",null,null,"本人",null,"内容",null,null,"内容",null,{"$f":"IF(N68=\"\",\"\",VLOOKUP(N68,基準選択肢C,2))","v":""},{"$f":"IF(AND(I68=L68,I68=\"\"),\"\",IF(AND(I68=L68,I68=\"寄附講座（親講座）の受入をしている\"),\"基準1\",IF(AND(I68=\"\",L68=\"寄附講座（親講座）の受入をしている\"),\"基準1\",IF(AND(L68=\"\",I68=\"寄附講座（親講座）の受入をしている\"),\"基準1\",\"基準1と5\"))))","v":""}]
[null,null,null,null,null,"申告者と生計を同じにする配偶者及びその一親等の親族",null,"内容",null,null,"内容",null,{"$f":"IF(N69=\"\",\"\",VLOOKUP(N69,基準選択肢C,2))","v":""},{"$f":"IF(AND(I69=L69,I69=\"\"),\"\",IF(AND(I69=L69,I69=\"寄附講座（親講座）の受入をしている\"),\"基準1\",IF(AND(I69=\"\",L69=\"寄附講座（親講座）の受入をしている\"),\"基準1\",IF(AND(L69=\"\",I69=\"寄附講座（親講座）の受入をしている\"),\"基準1\",\"基準1と6\"))))","v":""}]
[]
[null,null,null,null,"本研究対象医薬品等の製造販売業者等名：","③",{"$f":"IF(G22=\"\",\"\",G22)","v":""}]
[]
[null,null,"COI状況の有無",null,null,null,"前年度",null,null,"当該年度",null,null,"前年度＋当該年度"]
[null,null,null,null,null,null,"有無","「はい」と回答した項目について",null,"有無","「はい」と回答した項目について",null,"「はい」と回答した項目について"]
[null,null,null,null,null,null,null,"COIの内容について\n詳細を選択・記述",null,null,"COIの内容について\n詳細を選択・記述",null,"COI管理計画"]
[null,null,"Q１．当該企業等から申告者が実質的に使途を決定し得る寄附金の総額が、年間200万円を超えているか？\n・　実質的に使途を決定し得るとは、当該寄附金の管理をするという意味で、受入研究者に申告を求めている。間接経費を除き、直接経費のみを指すものではない。\n※寄附金については、2017年度以前に受入れた寄附金以外は使うことができません。",null,null,null,null,"形態",{"$f":"IF(G76=\"はい\",\"寄附金\",\"\")","v":""},null,"形態",{"$f":"IF(J76=\"はい\",\"寄附金\",\"\")","v":""},{"$f":"IF(G76=\"はい\",VLOOKUP(\"基準1\",基準選択肢C,2),IF(J76=\"はい\",VLOOKUP(\"基準1\",基準選択肢C,2),\"\"))","v":""},{"$f":"IF(G76=\"はい\",\"基準1\",IF(J76=\"はい\",\"基準1\",\"\"))","v":""}]
[null,null,null,null,null,null,null,"受入金額(円)",null,null,"受入金額(円)"]
[null,null,"Q２.　当該企業等が提供する寄附講座に所属しているか？\n\n・　寄附講座の資金から給与を取得しているか否かに関わらない。",null,null,"本人",null,"期間",null,null,"期間",null,{"$f":"IF(AND($G78=\"はい\",$I79=\"有\"),VLOOKUP(\"基準1と5\",基準選択肢C,2),IF(AND($J78=\"はい\",$L79=\"有\"),VLOOKUP(\"基準1と5\",基準選択肢C,2),IF($G78=\"はい\",VLOOKUP(\"基準1\",基準選択肢C,2),IF($J78=\"はい\",VLOOKUP(\"基準1\",基準選択肢C,2),\"\"))))","v":""},{"$f":"IF(AND($G78=\"はい\",$I79=\"有\"),\"基準1と5\",IF(AND($J78=\"はい\",$L79=\"有\"),\"基準1と5\",IF($G78=\"はい\",\"基準1\",IF($J78=\"はい\",\"基準1\",\"\"))))","v":""}]
[null,null,null,null,null,null,null,"給与の有無",null,null,"給与の有無"]
[null,null,null,null,null,"申告者と生計を同じにする配偶者及びその一親等の親族",null,"期間",null,null,"期間",null,{"$f":"IF($G80=\"はい\",VLOOKUP(\"基準1\",基準選択肢C,2),IF($J80=\"はい\",VLOOKUP(\"基準1\",基準選択肢C,2),\"\"))","v":""},{"$f":"IF($G80=\"はい\",\"基準1\",IF($J80=\"はい\",\"基準1\",\"\"))","v":""}]
[null,null,null,null,null,null,null,"給与の有無",null,null,"給与の有無"]
[null,null,"Q3．当該企業等との間に、申告者本人又は申告者と生計を同じにする配偶者及びその一親等の親族（親・子）が年間合計100万円以上の個人的な利益関係があるか？\n　\n・　個人的利益関係とは、給与・講演・原稿・コンサルティング・ライセンス・贈答・接遇等による収入。",null,null,"本人",null,"経済的利益の内容(複数ある場合はすべて記載)",null,null,"経済的利益の内容(複数ある場合はすべて記載)",null,{"$f":"IF(OR(I83>=2500000,L83>=2500000),VLOOKUP(\"基準1と5\",基準選択肢C,2),IF(OR(I83>=1000000,L83>=1000000),VLOOKUP(\"基準1\",基準選択肢C,2),\"\"))","v":""},{"$f":"IF(OR(I83>=2500000,L83>=2500000),\"基準1と5\",IF(OR(I83>=1000000,L83>=1000000),\"基準1\",\"\"))","v":""}]
[null,null,null,null,null,null,null,"受入金額(円)",null,null,"受入金額(円)"]
[null,null,null,null,null,"申告者と生計を同じにする配偶者及びその一親等の親族",null,"経済的利益の内容(複数ある場合はすべて記載)",null,null,"経済的利益の内容(複数ある場合はすべて記載)",null,{"$f":"IF(OR(I85>=2500000,L85>=2500000),VLOOKUP(\"基準1と6\",基準選択肢C,2),IF(OR(I85>=1000000,L85>=1000000),VLOOKUP(\"基準1\",基準選択肢C,2),\"\"))","v":""},{"$f":"IF(OR(I85>=2500000,L85>=2500000),\"基準1と6\",IF(OR(I85>=1000000,L85>=1000000),\"基準1\",\"\"))","v":""}]
[null,null,null,null,null,null,null,"受入金額(円)",null,null,"受入金額(円)"]
[null,null,"Q4．当該企業等の役員等に、申告者本人又は申告者と生計を同じにする配偶者及びその一親等の親族（親・子）が就任しているか？\n\n・　役員等とは、株式会社の代表取締役・取締役、合同会社の代表者等代表権限を有する者、監査役。",null,null,"本人",null,"役職等の種類",null,null,"役職等の種類",null,{"$f":"IF(G86=\"はい\",VLOOKUP(\"基準1と5\",基準選択肢C,2),IF(J86=\"はい\",VLOOKUP(\"基準1と5\",基準選択肢C,2),\"\"))","v":""},{"$f":"IF(G86=\"はい\",\"基準1と5\",IF(J86=\"はい\",\"基準1と5\",\"\"))","v":""}]
[null,null,null,null,null,"申告者と生計を同じにする配偶者及びその一親等の親族",null,"役職等の種類",null,null,"役職等の種類",null,{"$f":"IF(G87=\"はい\",VLOOKUP(\"基準1と6\",基準選択肢C,2),IF(J87=\"はい\",VLOOKUP(\"基準1と6\",基準選択肢C,2),\"\"))","v":""},{"$f":"IF(G87=\"はい\",\"基準1と6\",IF(J87=\"はい\",\"基準1と6\",\"\"))","v":""}]
[null,null,"Q5.申告者本人又は申告者と生計を同じにする配偶者及びその一親等の親族（親・子）が当該企業等の株式（新株予約権を含む）を保有(公開株式については５％以上、未公開株式は1株以上、新株予約権は１個以上)しているか？あるいは当該企業等に出資を行っているか？",null,null,"本人",null,"内容\n（その他を選択の場合は自由記載)\n例：新株予約権と株式の保有",null,null,"内容\n（その他を選択の場合は自由記載)\n例：新株予約権と株式の保有",null,{"$f":"IF(G88=\"はい\",VLOOKUP(\"基準1と5\",基準選択肢C,2),IF(J88=\"はい\",VLOOKUP(\"基準1と5\",基準選択肢C,2),\"\"))","v":""},{"$f":"IF(G88=\"はい\",\"基準1と5\",IF(J88=\"はい\",\"基準1と5\",\"\"))","v":""}]
[null,null,null,null,null,"申告者と生計を同じにする配偶者及びその一親等の親族",null,"内容\n（その他を選択の場合は自由記載)\n例：新株予約権と株式の保有",null,null,"内容\n（その他を選択の場合は自由記載)\n例：新株予約権と株式の保有",null,{"$f":"IF(G89=\"はい\",VLOOKUP(\"基準1と6\",基準選択肢C,2),IF(J89=\"はい\",VLOOKUP(\"基準1と6\",基準選択肢C,2),\"\"))","v":""},{"$f":"IF(G89=\"はい\",\"基準1と6\",IF(J89=\"はい\",\"基準1と6\",\"\"))","v":""}]
[null,null,"Q6.その他、当該企業等と利益関係があるか？\n\n・　その他とは、寄附講座の受入れを行っている場合（受入れをしている講座の代表＝親講座）や、本研究に関する知的財産に関与している（本研究に関する特許出願中である、特許出願済みである）場合\n\n*これら以外に該当する場合には、内容と管理計画を特記事項に記載。",null,null,"本人",null,"内容",null,null,"内容",null,{"$f":"IF(N90=\"\",\"\",VLOOKUP(N90,基準選択肢C,2))","v":""},{"$f":"IF(AND(I90=L90,I90=\"\"),\"\",IF(AND(I90=L90,I90=\"寄附講座（親講座）の受入をしている\"),\"基準1\",IF(AND(I90=\"\",L90=\"寄附講座（親講座）の受入をしている\"),\"基準1\",IF(AND(L90=\"\",I90=\"寄附講座（親講座）の受入をしている\"),\"基準1\",\"基準1と5\"))))","v":""}]
[null,null,null,null,null,"申告者と生計を同じにする配偶者及びその一親等の親族",null,"内容",null,null,"内容",null,{"$f":"IF(N91=\"\",\"\",VLOOKUP(N91,基準選択肢C,2))","v":""},{"$f":"IF(AND(I91=L91,I91=\"\"),\"\",IF(AND(I91=L91,I91=\"寄附講座（親講座）の受入をしている\"),\"基準1\",IF(AND(I91=\"\",L91=\"寄附講座（親講座）の受入をしている\"),\"基準1\",IF(AND(L91=\"\",I91=\"寄附講座（親講座）の受入をしている\"),\"基準1\",\"基準1と6\"))))","v":""}]
[]
[null,null,null,null,"本研究対象医薬品等の製造販売業者等名：","④",{"$f":"IF(G23=\"\",\"\",G23)","v":""}]
[]
[null,null,"COI状況の有無",null,null,null,"前年度",null,null,"当該年度",null,null,"前年度＋当該年度"]
[null,null,null,null,null,null,"有無","「はい」と回答した項目について",null,"有無","「はい」と回答した項目について",null,"「はい」と回答した項目について"]
[null,null,null,null,null,null,null,"COIの内容について\n詳細を選択・記述",null,null,"COIの内容について\n詳細を選択・記述",null,"COI管理計画"]
[null,null,"Q１．当該企業等から申告者が実質的に使途を決定し得る寄附金の総額が、年間200万円を超えているか？\n・　実質的に使途を決定し得るとは、当該寄附金の管理をするという意味で、受入研究者に申告を求めている。間接経費を除き、直接経費のみを指すものではない。\n※寄附金については、2017年度以前に受入れた寄附金以外は使うことができません。",null,null,null,null,"形態",{"$f":"IF(G98=\"はい\",\"寄附金\",\"\")","v":""},null,"形態",{"$f":"IF(J98=\"はい\",\"寄附金\",\"\")","v":""},{"$f":"IF(G98=\"はい\",VLOOKUP(\"基準1\",基準選択肢C,2),IF(J98=\"はい\",VLOOKUP(\"基準1\",基準選択肢C,2),\"\"))","v":""},{"$f":"IF(G98=\"はい\",\"基準1\",IF(J98=\"はい\",\"基準1\",\"\"))","v":""}]
[null,null,null,null,null,null,null,"受入金額(円)",null,null,"受入金額(円)"]
[null,null,"Q２.　当該企業等が提供する寄附講座に所属しているか？\n\n・　寄附講座の資金から給与を取得しているか否かに関わらない。",null,null,"本人",null,"期間",null,null,"期間",null,{"$f":"IF(AND($G100=\"はい\",$I101=\"有\"),VLOOKUP(\"基準1と5\",基準選択肢C,2),IF(AND($J100=\"はい\",$L101=\"有\"),VLOOKUP(\"基準1と5\",基準選択肢C,2),IF($G100=\"はい\",VLOOKUP(\"基準1\",基準選択肢C,2),IF($J100=\"はい\",VLOOKUP(\"基準1\",基準選択肢C,2),\"\"))))","v":""},{"$f":"IF(AND($G100=\"はい\",$I101=\"有\"),\"基準1と5\",IF(AND($J100=\"はい\",$L101=\"有\"),\"基準1と5\",IF($G100=\"はい\",\"基準1\",IF($J100=\"はい\",\"基準1\",\"\"))))","v":""}]
[null,null,null,null,null,null,null,"給与の有無",null,null,"給与の有無"]
[null,null,null,null,null,"申告者と生計を同じにする配偶者及びその一親等の親族",null,"期間",null,null,"期間",null,{"$f":"IF($G102=\"はい\",VLOOKUP(\"基準1\",基準選択肢C,2),IF($J102=\"はい\",VLOOKUP(\"基準1\",基準選択肢C,2),\"\"))","v":""},{"$f":"IF($G102=\"はい\",\"基準1\",IF($J102=\"はい\",\"基準1\",\"\"))","v":""}]
[null,null,null,null,null,null,null,"給与の有無",null,null,"給与の有無"]
[null,null,"Q3．当該企業等との間に、申告者本人又は申告者と生計を同じにする配偶者及びその一親等の親族（親・子）が年間合計100万円以上の個人的な利益関係があるか？\n　\n・　個人的利益関係とは、給与・講演・原稿・コンサルティング・ライセンス・贈答・接遇等による収入。",null,null,"本人",null,"経済的利益の内容(複数ある場合はすべて記載)",null,null,"経済的利益の内容(複数ある場合はすべて記載)",null,{"$f":"IF(OR(I105>=2500000,L105>=2500000),VLOOKUP(\"基準1と5\",基準選択肢C,2),IF(OR(I105>=1000000,L105>=1000000),VLOOKUP(\"基準1\",基準選択肢C,2),\"\"))","v":""},{"$f":"IF(OR(I105>=2500000,L105>=2500000),\"基準1と5\",IF(OR(I105>=1000000,L105>=1000000),\"基準1\",\"\"))","v":""}]
[null,null,null,null,null,null,null,"受入金額(円)",null,null,"受入金額(円)"]
[null,null,null,null,null,"申告者と生計を同じにする配偶者及びその一親等の親族",null,"経済的利益の内容(複数ある場合はすべて記載)",null,null,"経済的利益の内容(複数ある場合はすべて記載)",null,{"$f":"IF(OR(I107>=2500000,L107>=2500000),VLOOKUP(\"基準1と6\",基準選択肢C,2),IF(OR(I107>=1000000,L107>=1000000),VLOOKUP(\"基準1\",基準選択肢C,2),\"\"))","v":""},{"$f":"IF(OR(I107>=2500000,L107>=2500000),\"基準1と6\",IF(OR(I107>=1000000,L107>=1000000),\"基準1\",\"\"))","v":""}]
[null,null,null,null,null,null,null,"受入金額(円)",null,null,"受入金額(円)"]
[null,null,"Q4．当該企業等の役員等に、申告者本人又は申告者と生計を同じにする配偶者及びその一親等の親族（親・子）が就任しているか？\n\n・　役員等とは、株式会社の代表取締役・取締役、合同会社の代表者等代表権限を有する者、監査役。",null,null,"本人",null,"役職等の種類",null,null,"役職等の種類",null,{"$f":"IF(G108=\"はい\",VLOOKUP(\"基準1と5\",基準選択肢C,2),IF(J108=\"はい\",VLOOKUP(\"基準1と5\",基準選択肢C,2),\"\"))","v":""},{"$f":"IF(G108=\"はい\",\"基準1と5\",IF(J108=\"はい\",\"基準1と5\",\"\"))","v":""}]
[null,null,null,null,null,"申告者と生計を同じにする配偶者及びその一親等の親族",null,"役職等の種類",null,null,"役職等の種類",null,{"$f":"IF(G109=\"はい\",VLOOKUP(\"基準1と6\",基準選択肢C,2),IF(J109=\"はい\",VLOOKUP(\"基準1と6\",基準選択肢C,2),\"\"))","v":""},{"$f":"IF(G109=\"はい\",\"基準1と6\",IF(J109=\"はい\",\"基準1と6\",\"\"))","v":""}]
[null,null,"Q5.申告者本人又は申告者と生計を同じにする配偶者及びその一親等の親族（親・子）が当該企業等の株式（新株予約権を含む）を保有(公開株式については５％以上、未公開株式は1株以上、新株予約権は１個以上)しているか？あるいは当該企業等に出資を行っているか？",null,null,"本人",null,"内容\n（その他を選択の場合は自由記載)\n例：新株予約権と株式の保有",null,null,"内容\n（その他を選択の場合は自由記載)\n例：新株予約権と株式の保有",null,{"$f":"IF(G110=\"はい\",VLOOKUP(\"基準1と5\",基準選択肢C,2),IF(J110=\"はい\",VLOOKUP(\"基準1と5\",基準選択肢C,2),\"\"))","v":""},{"$f":"IF(G110=\"はい\",\"基準1と5\",IF(J110=\"はい\",\"基準1と5\",\"\"))","v":""}]
[null,null,null,null,null,"申告者と生計を同じにする配偶者及びその一親等の親族",null,"内容\n（その他を選択の場合は自由記載)\n例：新株予約権と株式の保有",null,null,"内容\n（その他を選択の場合は自由記載)\n例：新株予約権と株式の保有",null,{"$f":"IF(G111=\"はい\",VLOOKUP(\"基準1と6\",基準選択肢C,2),IF(J111=\"はい\",VLOOKUP(\"基準1と6\",基準選択肢C,2),\"\"))","v":""},{"$f":"IF(G111=\"はい\",\"基準1と6\",IF(J111=\"はい\",\"基準1と6\",\"\"))","v":""}]
[null,null,"Q6.その他、当該企業等と利益関係があるか？\n\n・　その他とは、寄附講座の受入れを行っている場合（受入れをしている講座の代表＝親講座）や、本研究に関する知的財産に関与している（本研究に関する特許出願中である、特許出願済みである）場合\n\n*これら以外に該当する場合には、内容と管理計画を特記事項に記載。",null,null,"本人",null,"内容",null,null,"内容",null,{"$f":"IF(N112=\"\",\"\",VLOOKUP(N112,基準選択肢C,2))","v":""},{"$f":"IF(AND(I112=L112,I112=\"\"),\"\",IF(AND(I112=L112,I112=\"寄附講座（親講座）の受入をしている\"),\"基準1\",IF(AND(I112=\"\",L112=\"寄附講座（親講座）の受入をしている\"),\"基準1\",IF(AND(L112=\"\",I112=\"寄附講座（親講座）の受入をしている\"),\"基準1\",\"基準1と5\"))))","v":""}]
[null,null,null,null,null,"申告者と生計を同じにする配偶者及びその一親等の親族",null,"内容",null,null,"内容",null,{"$f":"IF(N113=\"\",\"\",VLOOKUP(N113,基準選択肢C,2))","v":""},{"$f":"IF(AND(I113=L113,I113=\"\"),\"\",IF(AND(I113=L113,I113=\"寄附講座（親講座）の受入をしている\"),\"基準1\",IF(AND(I113=\"\",L113=\"寄附講座（親講座）の受入をしている\"),\"基準1\",IF(AND(L113=\"\",I113=\"寄附講座（親講座）の受入をしている\"),\"基準1\",\"基準1と6\"))))","v":""}]
[]
[null,null,null,null,"本研究対象医薬品等の製造販売業者等名：","⑤",{"$f":"IF(G24=\"\",\"\",G24)","v":""}]
[]
[null,null,"COI状況の有無",null,null,null,"前年度",null,null,"当該年度",null,null,"前年度＋当該年度"]
[null,null,null,null,null,null,"有無","「はい」と回答した項目について",null,"有無","「はい」と回答した項目について",null,"「はい」と回答した項目について"]
[null,null,null,null,null,null,null,"COIの内容について\n詳細を選択・記述",null,null,"COIの内容について\n詳細を選択・記述",null,"COI管理計画"]
[null,null,"Q１．当該企業等から申告者が実質的に使途を決定し得る寄附金の総額が、年間200万円を超えているか？\n・　実質的に使途を決定し得るとは、当該寄附金の管理をするという意味で、受入研究者に申告を求めている。間接経費を除き、直接経費のみを指すものではない。\n※寄附金については、2017年度以前に受入れた寄附金以外は使うことができません。",null,null,null,null,"形態",{"$f":"IF(G120=\"はい\",\"寄附金\",\"\")","v":""},null,"形態",{"$f":"IF(J120=\"はい\",\"寄附金\",\"\")","v":""},{"$f":"IF(G120=\"はい\",VLOOKUP(\"基準1\",基準選択肢C,2),IF(J120=\"はい\",VLOOKUP(\"基準1\",基準選択肢C,2),\"\"))","v":""},{"$f":"IF(G120=\"はい\",\"基準1\",IF(J120=\"はい\",\"基準1\",\"\"))","v":""}]
[null,null,null,null,null,null,null,"受入金額(円)",null,null,"受入金額(円)"]
[null,null,"Q２.　当該企業等が提供する寄附講座に所属しているか？\n\n・　寄附講座の資金から給与を取得しているか否かに関わらない。",null,null,"本人",null,"期間",null,null,"期間",null,{"$f":"IF(AND($G122=\"はい\",$I123=\"有\"),VLOOKUP(\"基準1と5\",基準選択肢C,2),IF(AND($J122=\"はい\",$L123=\"有\"),VLOOKUP(\"基準1と5\",基準選択肢C,2),IF($G122=\"はい\",VLOOKUP(\"基準1\",基準選択肢C,2),IF($J122=\"はい\",VLOOKUP(\"基準1\",基準選択肢C,2),\"\"))))","v":""},{"$f":"IF(AND($G122=\"はい\",$I123=\"有\"),\"基準1と5\",IF(AND($J122=\"はい\",$L123=\"有\"),\"基準1と5\",IF($G122=\"はい\",\"基準1\",IF($J122=\"はい\",\"基準1\",\"\"))))","v":""}]
[null,null,null,null,null,null,null,"給与の有無",null,null,"給与の有無"]
[null,null,null,null,null,"申告者と生計を同じにする配偶者及びその一親等の親族",null,"期間",null,null,"期間",null,{"$f":"IF($G124=\"はい\",VLOOKUP(\"基準1\",基準選択肢C,2),IF($J124=\"はい\",VLOOKUP(\"基準1\",基準選択肢C,2),\"\"))","v":""},{"$f":"IF($G124=\"はい\",\"基準1\",IF($J124=\"はい\",\"基準1\",\"\"))","v":""}]
[null,null,null,null,null,null,null,"給与の有無",null,null,"給与の有無"]
[null,null,"Q3．当該企業等との間に、申告者本人又は申告者と生計を同じにする配偶者及びその一親等の親族（親・子）が年間合計100万円以上の個人的な利益関係があるか？\n　\n・　個人的利益関係とは、給与・講演・原稿・コンサルティング・ライセンス・贈答・接遇等による収入。",null,null,"本人",null,"経済的利益の内容(複数ある場合はすべて記載)",null,null,"経済的利益の内容(複数ある場合はすべて記載)",null,{"$f":"IF(OR(I127>=2500000,L127>=2500000),VLOOKUP(\"基準1と5\",基準選択肢C,2),IF(OR(I127>=1000000,L127>=1000000),VLOOKUP(\"基準1\",基準選択肢C,2),\"\"))","v":""},{"$f":"IF(OR(I127>=2500000,L127>=2500000),\"基準1と5\",IF(OR(I127>=1000000,L127>=1000000),\"基準1\",\"\"))","v":""}]
[null,null,null,null,null,null,null,"受入金額(円)",null,null,"受入金額(円)"]
[null,null,null,null,null,"申告者と生計を同じにする配偶者及びその一親等の親族",null,"経済的利益の内容(複数ある場合はすべて記載)",null,null,"経済的利益の内容(複数ある場合はすべて記載)",null,{"$f":"IF(OR(I129>=2500000,L129>=2500000),VLOOKUP(\"基準1と6\",基準選択肢C,2),IF(OR(I129>=1000000,L129>=1000000),VLOOKUP(\"基準1\",基準選択肢C,2),\"\"))","v":""},{"$f":"IF(OR(I129>=2500000,L129>=2500000),\"基準1と6\",IF(OR(I129>=1000000,L129>=1000000),\"基準1\",\"\"))","v":""}]
[null,null,null,null,null,null,null,"受入金額(円)",null,null,"受入金額(円)"]
[null,null,"Q4．当該企業等の役員等に、申告者本人又は申告者と生計を同じにする配偶者及びその一親等の親族（親・子）が就任しているか？\n\n・　役員等とは、株式会社の代表取締役・取締役、合同会社の代表者等代表権限を有する者、監査役。",null,null,"本人",null,"役職等の種類",null,null,"役職等の種類",null,{"$f":"IF(G130=\"はい\",VLOOKUP(\"基準1と5\",基準選択肢C,2),IF(J130=\"はい\",VLOOKUP(\"基準1と5\",基準選択肢C,2),\"\"))","v":""},{"$f":"IF(G130=\"はい\",\"基準1と5\",IF(J130=\"はい\",\"基準1と5\",\"\"))","v":""}]
[null,null,null,null,null,"申告者と生計を同じにする配偶者及びその一親等の親族",null,"役職等の種類",null,null,"役職等の種類",null,{"$f":"IF(G131=\"はい\",VLOOKUP(\"基準1と6\",基準選択肢C,2),IF(J131=\"はい\",VLOOKUP(\"基準1と6\",基準選択肢C,2),\"\"))","v":""},{"$f":"IF(G131=\"はい\",\"基準1と6\",IF(J131=\"はい\",\"基準1と6\",\"\"))","v":""}]
[null,null,"Q5.申告者本人又は申告者と生計を同じにする配偶者及びその一親等の親族（親・子）が当該企業等の株式（新株予約権を含む）を保有(公開株式については５％以上、未公開株式は1株以上、新株予約権は１個以上)しているか？あるいは当該企業等に出資を行っているか？",null,null,"本人",null,"内容\n（その他を選択の場合は自由記載)\n例：新株予約権と株式の保有",null,null,"内容\n（その他を選択の場合は自由記載)\n例：新株予約権と株式の保有",null,{"$f":"IF(G132=\"はい\",VLOOKUP(\"基準1と5\",基準選択肢C,2),IF(J132=\"はい\",VLOOKUP(\"基準1と5\",基準選択肢C,2),\"\"))","v":""},{"$f":"IF(G132=\"はい\",\"基準1と5\",IF(J132=\"はい\",\"基準1と5\",\"\"))","v":""}]
[null,null,null,null,null,"申告者と生計を同じにする配偶者及びその一親等の親族",null,"内容\n（その他を選択の場合は自由記載)\n例：新株予約権と株式の保有",null,null,"内容\n（その他を選択の場合は自由記載)\n例：新株予約権と株式の保有",null,{"$f":"IF(G133=\"はい\",VLOOKUP(\"基準1と6\",基準選択肢C,2),IF(J133=\"はい\",VLOOKUP(\"基準1と6\",基準選択肢C,2),\"\"))","v":""},{"$f":"IF(G133=\"はい\",\"基準1と6\",IF(J133=\"はい\",\"基準1と6\",\"\"))","v":""}]
[null,null,"Q6.その他、当該企業等と利益関係があるか？\n\n・　その他とは、寄附講座の受入れを行っている場合（受入れをしている講座の代表＝親講座）や、本研究に関する知的財産に関与している（本研究に関する特許出願中である、特許出願済みである）場合\n\n*これら以外に該当する場合には、内容と管理計画を特記事項に記載。",null,null,"本人",null,"内容",null,null,"内容",null,{"$f":"IF(N134=\"\",\"\",VLOOKUP(N134,基準選択肢C,2))","v":""},{"$f":"IF(AND(I134=L134,I134=\"\"),\"\",IF(AND(I134=L134,I134=\"寄附講座（親講座）の受入をしている\"),\"基準1\",IF(AND(I134=\"\",L134=\"寄附講座（親講座）の受入をしている\"),\"基準1\",IF(AND(L134=\"\",I134=\"寄附講座（親講座）の受入をしている\"),\"基準1\",\"基準1と5\"))))","v":""}]
[null,null,null,null,null,"申告者と生計を同じにする配偶者及びその一親等の親族",null,"内容",null,null,"内容",null,{"$f":"IF(N135=\"\",\"\",VLOOKUP(N135,基準選択肢C,2))","v":""},{"$f":"IF(AND(I135=L135,I135=\"\"),\"\",IF(AND(I135=L135,I135=\"寄附講座（親講座）の受入をしている\"),\"基準1\",IF(AND(I135=\"\",L135=\"寄附講座（親講座）の受入をしている\"),\"基準1\",IF(AND(L135=\"\",I135=\"寄附講座（親講座）の受入をしている\"),\"基準1\",\"基準1と6\"))))","v":""}]

{"sheet":"様式C_研究分担医師等","index":3,"n_rows":128,"n_cols":13,"rows_kept":128,"cut":false,"hidden":false,"merged":[[120,12,121,12],[68,12,69,12],[70,12,71,12],[72,12,73,12],[74,12,75,12],[76,12,77,12],[98,12,99,12],[90,12,91,12],[92,12,93,12],[94,12,95,12],[96,12,97,12],[112,12,113,12],[114,12,115,12],[116,12,117,12],[118,12,119,12],[26,12,27,12],[28,12,29,12],[30,12,31,12],[32,12,33,12],[46,12,47,12],[48,12,49,12],[50,12,51,12],[52,12,53,12],[54,12,55,12],[34,2,35,3],[36,2,37,3],[28,5,29,5],[28,8,29,8],[26,4,27,4],[28,4,29,4],[26,2,29,3],[38,2,39,3],[26,11,27,11],[30,2,33,3],[30,4,31,4],[30,11,31,11],[32,4,33,4],[32,11,33,11],[26,5,27,5],[30,5,31,5],[32,5,33,5],[26,8,27,8],[30,8,31,8],[32,8,33,8],[28,11,29,11],[23,6,23,7],[23,9,23,10],[24,8,25,8],[24,11,25,11],[22,5,23,5],[22,6,22,7],[22,8,23,8],[22,9,22,10],[24,2,25,4],[21,11,23,12],[24,12,25,12],[6,9,6,10],[7,9,7,10],[6,3,7,7],[15,5,15,7],[14,8,14,11],[15,8,15,11],[24,5,25,5],[4,9,4,10],[5,9,5,10],[12,2,16,3],[12,5,12,7],[12,8,12,11],[13,5,13,7],[13,8,13,11],[16,5,16,7],[16,8,16,11],[14,5,14,7],[6,2,7,2],[10,9,10,11],[18,2,18,3],[21,5,21,7],[21,8,21,10],[19,5,19,11],[21,2,23,4],[41,5,41,11],[43,5,43,7],[43,8,43,10],[44,5,45,5],[44,6,44,7],[44,8,45,8],[44,9,44,10],[45,6,45,7],[45,9,45,10],[43,11,45,12],[46,5,47,5],[46,8,47,8],[46,11,47,11],[48,2,51,3],[48,4,49,4],[48,5,49,5],[48,8,49,8],[48,11,49,11],[50,4,51,4],[50,5,51,5],[50,8,51,8],[50,11,51,11],[46,2,47,4],[52,2,55,3],[52,4,53,4],[52,5,53,5],[52,8,53,8],[52,11,53,11],[54,4,55,4],[54,5,55,5],[54,8,55,8],[54,11,55,11],[66,5,67,5],[66,6,66,7],[66,8,67,8],[66,9,66,10],[67,6,67,7],[67,9,67,10],[68,5,69,5],[68,8,69,8],[56,2,57,3],[58,2,59,3],[60,2,61,3],[63,5,63,11],[65,5,65,7],[65,8,65,10],[65,11,67,12],[68,11,69,11],[70,2,73,3],[70,4,71,4],[70,5,71,5],[70,8,71,8],[70,11,71,11],[72,4,73,4],[72,5,73,5],[72,8,73,8],[72,11,73,11],[68,2,69,4],[74,2,77,3],[74,4,75,4],[74,5,75,5],[74,8,75,8],[74,11,75,11],[76,4,77,4],[76,5,77,5],[76,8,77,8],[76,11,77,11],[88,5,89,5],[88,6,88,7],[88,8,89,8],[88,9,88,10],[89,6,89,7],[89,9,89,10],[90,5,91,5],[90,8,91,8],[78,2,79,3],[80,2,81,3],[82,2,83,3],[85,5,85,11],[87,5,87,7],[87,8,87,10],[87,11,89,12],[96,5,97,5],[96,8,97,8],[96,11,97,11],[98,4,99,4],[98,5,99,5],[98,8,99,8],[98,11,99,11],[90,11,91,11],[92,2,95,3],[92,4,93,4],[92,5,93,5],[92,8,93,8],[92,11,93,11],[94,4,95,4],[94,5,95,5],[94,8,95,8],[94,11,95,11],[90,2,91,4],[120,11,121,11],[112,5,113,5],[112,8,113,8],[112,11,113,11],[114,4,115,4],[114,5,115,5],[116,4,117,4],[116,5,117,5],[116,8,117,8],[116,11,117,11],[118,11,119,11],[114,11,115,11],[124,2,125,3],[126,2,127,3],[118,2,121,3],[118,4,119,4],[118,5,119,5],[118,8,119,8],[120,4,121,4],[120,5,121,5],[120,8,121,8],[43,2,45,4],[65,2,67,4],[87,2,89,4],[109,2,111,4],[3,9,3,10],[122,2,123,3],[114,2,117,3],[114,8,115,8],[112,2,113,4],[100,2,101,3],[110,8,111,8],[110,9,110,10],[111,6,111,7],[111,9,111,10],[102,2,103,3],[104,2,105,3],[107,5,107,11],[109,5,109,7],[109,8,109,10],[109,11,111,12],[110,5,111,5],[110,6,110,7],[96,2,99,3],[96,4,97,4]]}
[null,null,null,null,"　　様式C＜研究分担医師等用＞　研究者利益相反自己申告書",null,null,null,null,null,null,"ver.2.2"]
[null,null,"所属機関殿"]
[null,null,"本研究課題と関わりのある企業等との関係について、下記の通り報告すると共に、当該企業等との利益相反の有無、及び利益相反管理計画を提案いたします。"]
[null,null,null,null,null,null,null,null,null,"日　　付"]
[null,null,null,null,null,null,null,null,null,"所 属 機 関",null,{"$f":"IF(様式C_研究責任医師!M5=\"\",\"\",様式C_研究責任医師!M5)","v":""}]
[null,null,null,null,null,null,null,null,null,"研究責任医師　氏名",null,{"$f":"IF(様式C_研究責任医師!M7=\"\",\"\",様式C_研究責任医師!M7)","v":""}]
[null,null,"本研究課題：",{"$f":"IF(様式B!E5=\"\",\"\",様式B!E5)","v":""},null,null,null,null,null,"立　　場"]
[null,null,null,null,null,null,null,null,null,"氏　　名"]
[]
[null,null,null,null,null,null,null,null,null,"【特記事項(任意)】例：基準４に該当し、研究責任医師から外れた"]
[]
[null,null,"1. 本研究対象医薬品等の製造販売業者等について：（記載不要）様式BのQ1に該当、記載された内容が自動的に反映されます"]
[null,null,"本研究は、 企業等が製造販売する、もしくは製造販売しようとする医薬品薬剤・医療機器等を用いている。(様式BのQ1)",null,"①",{"$f":"IF(様式B!H12=\"\",\"\",様式B!H12)","v":""},null,null,{"$f":"IF(F13=\"\",\"\",\"本研究対象薬剤・機器名：\"&様式B!J12)","v":""}]
[null,null,null,null,"②",{"$f":"IF(様式B!H13=\"\",\"\",様式B!H13)","v":""},null,null,{"$f":"IF(F14=\"\",\"\",\"本研究対象薬剤・機器名：\"&様式B!J13)","v":""}]
[null,null,null,null,"③",{"$f":"IF(様式B!H14=\"\",\"\",様式B!H14)","v":""},null,null,{"$f":"IF(F15=\"\",\"\",\"本研究対象薬剤・機器名：\"&様式B!J14)","v":""}]
[null,null,null,null,"④",{"$f":"IF(様式B!H15=\"\",\"\",様式B!H15)","v":""},null,null,{"$f":"IF(F16=\"\",\"\",\"本研究対象薬剤・機器名：\"&様式B!J15)","v":""}]
[null,null,null,null,"⑤",{"$f":"IF(様式B!H16=\"\",\"\",様式B!H16)","v":""},null,null,{"$f":"IF(F17=\"\",\"\",\"本研究対象薬剤・機器名：\"&様式B!J16)","v":""}]
[]
[null,null,"2. 本研究対象医薬品等の製造販売業者等との利益相反報告"]
[null,null,null,"本研究対象医薬品等の製造販売業者等名：","①",{"$f":"IF(F13=\"\",\"\",F13)","v":""}]
[]
[null,null,"COI状況の有無",null,null,"前年度",null,null,"当該年度",null,null,"管理計画"]
[null,null,null,null,null,"有無","「はい」と回答した項目について",null,"有無","「はい」と回答した項目について"]
[null,null,null,null,null,null,"COIの内容について\n詳細を選択・記述",null,null,"COIの内容について\n詳細を選択・記述"]
[null,null,"Q１．当該企業等から申告者が実質的に使途を決定し得る寄附金の総額が、年間200万円を超えているか？\n　・　実質的に使途を決定し得るとは、当該寄附金の管理をするという意味で、受入研究者に申告を求めている。間接経費を除き、直接経費のみを指すものではない。\n※寄附金については、2017年度以前に受入れた寄附金以外は使うことができません。",null,null,null,"形態",{"$f":"IF(F25=\"はい\",\"寄附金\",\"\")","v":""},null,"形態",{"$f":"IF(I25=\"はい\",\"寄附金\",\"\")","v":""},{"$f":"IF(F25=\"はい\",VLOOKUP(\"基準1\",基準選択肢C,2,FALSE),IF(I25=\"はい\",VLOOKUP(\"基準1\",基準選択肢C,2,FALSE),\"\"))","v":""},{"$f":"IF(F25=\"はい\",\"基準1\",IF(I25=\"はい\",\"基準1\",\"\"))","v":""}]
[null,null,null,null,null,null,"受入金額(円)",null,null,"受入金額(円)"]
[null,null,"Q２.　当該企業等が提供する寄附講座に所属しているか？\n\n・　寄附講座の資金から給与を取得しているか否かに関わらない。",null,"本人",null,"期間",null,null,"期間",null,{"$f":"IF(AND($F27=\"はい\",$H28=\"有\"),VLOOKUP(\"基準1と7\",基準選択肢C,2,FALSE),IF(AND($I27=\"はい\",$K28=\"有\"),VLOOKUP(\"基準1と7\",基準選択肢C,2,FALSE),IF($F27=\"はい\",VLOOKUP(\"基準1\",基準選択肢C,2,FALSE),IF($I27=\"はい\",VLOOKUP(\"基準1\",基準選択肢C,2,FALSE),\"\"))))","v":""},{"$f":"IF(AND($F27=\"はい\",$H28=\"有\"),\"基準1と7\",IF(AND($I27=\"はい\",$K28=\"有\"),\"基準1と7\",IF($F27=\"はい\",\"基準1\",IF($I27=\"はい\",\"基準1\",\"\"))))","v":""}]
[null,null,null,null,null,null,"給与の有無",null,null,"給与の有無"]
[null,null,null,null,"申告者と生計を同じにする配偶者及びその一親等の親族",null,"期間",null,null,"期間",null,{"$f":"IF(F29=\"はい\",VLOOKUP(\"基準1\",基準選択肢C,2,FALSE),IF(I29=\"はい\",VLOOKUP(\"基準1\",基準選択肢C,2,FALSE),\"\"))","v":""},{"$f":"IF(F29=\"はい\",\"基準1\",IF(I29=\"はい\",\"基準1\",\"\"))","v":""}]
[null,null,null,null,null,null,"給与の有無",null,null,"給与の有無"]
[null,null,"Q3．当該企業等との間に、申告者本人又は申告者と生計を同じにする配偶者及びその一親等の親族（親・子）が年間合計100万円以上の個人的な利益関係があるか？\n\n・　個人的利益関係とは、給与・講演・原稿・コンサルティング・ライセンス・贈答・接遇等による収入。",null,"本人",null,"経済的利益の内容(複数ある場合はすべて記載)",null,null,"経済的利益の内容(複数ある場合はすべて記載)",null,{"$f":"IF(OR(H32>=2500000,K32>=2500000),VLOOKUP(\"基準1と7\",基準選択肢C,2),IF(OR(H32>=1000000,K32>=1000000),VLOOKUP(\"基準1\",基準選択肢C,2),\"\"))","v":""},{"$f":"IF(OR(H32>=2500000,K32>=2500000),\"基準1と7\",IF(OR(H32>=1000000,K32>=1000000),\"基準1\",\"\"))","v":""}]
[null,null,null,null,null,null,"受入金額(円)",null,null,"受入金額(円)"]
[null,null,null,null,"申告者と生計を同じにする配偶者及びその一親等の親族",null,"経済的利益の内容(複数ある場合はすべて記載)",null,null,"経済的利益の内容(複数ある場合はすべて記載)",null,{"$f":"IF(F33=\"はい\",VLOOKUP(\"基準1\",基準選択肢C,2,FALSE),IF(I33=\"はい\",VLOOKUP(\"基準1\",基準選択肢C,2,FALSE),\"\"))","v":""},{"$f":"IF(F33=\"はい\",\"基準1\",IF(I33=\"はい\",\"基準1\",\"\"))","v":""}]
[null,null,null,null,null,null,"受入金額(円)",null,null,"受入金額(円)"]
[null,null,"Q4．当該企業等の役員等に、申告者本人又は申告者と生計を同じにする配偶者及びその一親等の親族（親・子）が就任しているか？\n\n・　役員等とは、株式会社の代表取締役・取締役、合同会社の代表者等代表権限を有する者、監査役。",null,"本人",null,"役職等の種類",null,null,"役職等の種類",null,{"$f":"IF(F35=\"はい\",VLOOKUP(\"基準1と7\",基準選択肢C,2,FALSE),IF(I35=\"はい\",VLOOKUP(\"基準1と7\",基準選択肢C,2,FALSE),\"\"))","v":""},{"$f":"IF(F35=\"はい\",\"基準1と7\",IF(I35=\"はい\",\"基準1と7\",\"\"))","v":""}]
[null,null,null,null,"申告者と生計を同じにする配偶者及びその一親等の親族",null,"役職等の種類",null,null,"役職等の種類",null,{"$f":"IF(F36=\"はい\",VLOOKUP(\"基準1\",基準選択肢C,2,FALSE),IF(I36=\"はい\",VLOOKUP(\"基準1\",基準選択肢C,2,FALSE),\"\"))","v":""},{"$f":"IF(F36=\"はい\",\"基準1\",IF(I36=\"はい\",\"基準1\",\"\"))","v":""}]
[null,null,"Q5.申告者本人又は申告者と生計を同じにする配偶者及びその一親等の親族（親・子）が当該企業等の株式（新株予約権を含む）を保有(公開株式については５％以上、未公開株式は1株以上、新株予約権は１個以上)しているか？あるいは当該企業に出資を行っているか？",null,"本人",null,"内容\n（その他を選択の場合は自由記載)\n例：新株予約権と株式の保有",null,null,"内容\n（その他を選択の場合は自由記載)\n例：新株予約権と株式の保有",null,{"$f":"IF(F37=\"はい\",VLOOKUP(\"基準1と7\",基準選択肢C,2,FALSE),IF(I37=\"はい\",VLOOKUP(\"基準1と7\",基準選択肢C,2,FALSE),\"\"))","v":""},{"$f":"IF(F37=\"はい\",\"基準1と7\",IF(I37=\"はい\",\"基準1と7\",\"\"))","v":""}]
[null,null,null,null,"申告者と生計を同じにする配偶者及びその一親等の親族",null,"内容\n（その他を選択の場合は自由記載)\n例：新株予約権と株式の保有",null,null,"内容\n（その他を選択の場合は自由記載)\n例：新株予約権と株式の保有",null,{"$f":"IF(F38=\"はい\",VLOOKUP(\"基準1\",基準選択肢C,2,FALSE),IF(I38=\"はい\",VLOOKUP(\"基準1\",基準選択肢C,2,FALSE),\"\"))","v":""},{"$f":"IF(F38=\"はい\",\"基準1\",IF(I38=\"はい\",\"基準1\",\"\"))","v":""}]
[null,null,"Q6.その他、当該企業等と利益関係があるか？\n\n・　その他とは、寄附講座の受入れを行っている場合（受入れをしている講座の代表＝親講座）や、本研究に関する知的財産に関与している（本研究に関する特許出願中である、特許出願済みである）場合\n\n*これら以外に該当する場合には、内容と管理計画を特記事項に記載。",null,"本人",null,"内容",null,null,"内容",null,{"$f":"IF(M39=\"\",\"\",VLOOKUP(M39,基準選択肢C,2))","v":""},{"$f":"IF(AND(H39=K39,H39=\"\"),\"\",IF(AND(H39=K39,H39=\"寄附講座（親講座）の受入をしている\"),\"基準1\",IF(AND(H39=\"\",K39=\"寄附講座（親講座）の受入をしている\"),\"基準1\",IF(AND(K39=\"\",H39=\"寄附講座（親講座）の受入をしている\"),\"基準1\",\"基準1と7\"))))","v":""}]
[null,null,null,null,"申告者と生計を同じにする配偶者及びその一親等の親族",null,"内容",null,null,"内容",null,{"$f":"IF(M40=\"\",\"\",VLOOKUP(M40,基準選択肢C,2))","v":""},{"$f":"IF(F40=\"はい\",\"基準1\",IF(I40=\"はい\",\"基準1\",\"\"))","v":""}]
[]
[null,null,null,"本研究対象医薬品等の製造販売業者等名：","②",{"$f":"IF(F14=\"\",\"\",F14)","v":""}]
[]
[null,null,"COI状況の有無",null,null,"前年度",null,null,"当該年度",null,null,"管理計画"]
[null,null,null,null,null,"有無","「はい」と回答した項目について",null,"有無","「はい」と回答した項目について"]
[null,null,null,null,null,null,"COIの内容について\n詳細を選択・記述",null,null,"COIの内容について\n詳細を選択・記述"]
[null,null,"Q１．当該企業等から申告者が実質的に使途を決定し得る寄附金の総額が、年間200万円を超えているか？\n　・　実質的に使途を決定し得るとは、当該寄附金の管理をするという意味で、受入研究者に申告を求めている。間接経費を除き、直接経費のみを指すものではない。\n※寄附金については、2017年度以前に受入れた寄附金以外は使うことができません。",null,null,null,"形態",{"$f":"IF(F47=\"はい\",\"寄附金\",\"\")","v":""},null,"形態",{"$f":"IF(I47=\"はい\",\"寄附金\",\"\")","v":""},{"$f":"IF(F47=\"はい\",VLOOKUP(\"基準1\",基準選択肢C,2,FALSE),IF(I47=\"はい\",VLOOKUP(\"基準1\",基準選択肢C,2,FALSE),\"\"))","v":""},{"$f":"IF(F47=\"はい\",\"基準1\",IF(I47=\"はい\",\"基準1\",\"\"))","v":""}]
[null,null,null,null,null,null,"受入金額(円)",null,null,"受入金額(円)"]
[null,null,"Q２.　当該企業等が提供する寄附講座に所属しているか？\n\n・　寄附講座の資金から給与を取得しているか否かに関わらない。",null,"本人",null,"期間",null,null,"期間",null,{"$f":"IF(AND($F49=\"はい\",$H50=\"有\"),VLOOKUP(\"基準1と7\",基準選択肢C,2,FALSE),IF(AND($I49=\"はい\",$K50=\"有\"),VLOOKUP(\"基準1と7\",基準選択肢C,2,FALSE),IF($F49=\"はい\",VLOOKUP(\"基準1\",基準選択肢C,2,FALSE),IF($I49=\"はい\",VLOOKUP(\"基準1\",基準選択肢C,2,FALSE),\"\"))))","v":""},{"$f":"IF(AND($F49=\"はい\",$H50=\"有\"),\"基準1と7\",IF(AND($I49=\"はい\",$K50=\"有\"),\"基準1と7\",IF($F49=\"はい\",\"基準1\",IF($I49=\"はい\",\"基準1\",\"\"))))","v":""}]
[null,null,null,null,null,null,"給与の有無",null,null,"給与の有無"]
[null,null,null,null,"申告者と生計を同じにする配偶者及びその一親等の親族",null,"期間",null,null,"期間",null,{"$f":"IF(F51=\"はい\",VLOOKUP(\"基準1\",基準選択肢C,2,FALSE),IF(I51=\"はい\",VLOOKUP(\"基準1\",基準選択肢C,2,FALSE),\"\"))","v":""},{"$f":"IF(F51=\"はい\",\"基準1\",IF(I51=\"はい\",\"基準1\",\"\"))","v":""}]
[null,null,null,null,null,null,"給与の有無",null,null,"給与の有無"]
[null,null,"Q3．当該企業等との間に、申告者本人又は申告者と生計を同じにする配偶者及びその一親等の親族（親・子）が年間合計100万円以上の個人的な利益関係があるか？\n\n・　個人的利益関係とは、給与・講演・原稿・コンサルティング・ライセンス・贈答・接遇等による収入。",null,"本人",null,"経済的利益の内容(複数ある場合はすべて記載)",null,null,"経済的利益の内容(複数ある場合はすべて記載)",null,{"$f":"IF(OR(H54>=2500000,K54>=2500000),VLOOKUP(\"基準1と7\",基準選択肢C,2),IF(OR(H54>=1000000,K54>=1000000),VLOOKUP(\"基準1\",基準選択肢C,2),\"\"))","v":""},{"$f":"IF(OR(H54>=2500000,K54>=2500000),\"基準1と7\",IF(OR(H54>=1000000,K54>=1000000),\"基準1\",\"\"))","v":""}]
[null,null,null,null,null,null,"受入金額(円)",null,null,"受入金額(円)"]
[null,null,null,null,"申告者と生計を同じにする配偶者及びその一親等の親族",null,"経済的利益の内容(複数ある場合はすべて記載)",null,null,"経済的利益の内容(複数ある場合はすべて記載)",null,{"$f":"IF(F55=\"はい\",VLOOKUP(\"基準1\",基準選択肢C,2,FALSE),IF(I55=\"はい\",VLOOKUP(\"基準1\",基準選択肢C,2,FALSE),\"\"))","v":""},{"$f":"IF(F55=\"はい\",\"基準1\",IF(I55=\"はい\",\"基準1\",\"\"))","v":""}]
[null,null,null,null,null,null,"受入金額(円)",null,null,"受入金額(円)"]
[null,null,"Q4．当該企業等の役員等に、申告者本人又は申告者と生計を同じにする配偶者及びその一親等の親族（親・子）が就任しているか？\n\n・　役員等とは、株式会社の代表取締役・取締役、合同会社の代表者等代表権限を有する者、監査役。",null,"本人",null,"役職等の種類",null,null,"役職等の種類",null,{"$f":"IF(F57=\"はい\",VLOOKUP(\"基準1と7\",基準選択肢C,2,FALSE),IF(I57=\"はい\",VLOOKUP(\"基準1と7\",基準選択肢C,2,FALSE),\"\"))","v":""},{"$f":"IF(F57=\"はい\",\"基準1と7\",IF(I57=\"はい\",\"基準1と7\",\"\"))","v":""}]
[null,null,null,null,"申告者と生計を同じにする配偶者及びその一親等の親族",null,"役職等の種類",null,null,"役職等の種類",null,{"$f":"IF(F58=\"はい\",VLOOKUP(\"基準1\",基準選択肢C,2,FALSE),IF(I58=\"はい\",VLOOKUP(\"基準1\",基準選択肢C,2,FALSE),\"\"))","v":""},{"$f":"IF(F58=\"はい\",\"基準1\",IF(I58=\"はい\",\"基準1\",\"\"))","v":""}]
[null,null,"Q5.申告者本人又は申告者と生計を同じにする配偶者及びその一親等の親族（親・子）が当該企業等の株式（新株予約権を含む）を保有(公開株式については５％以上、未公開株式は1株以上、新株予約権は１個以上)しているか？あるいは当該企業に出資を行っているか？",null,"本人",null,"内容\n（その他を選択の場合は自由記載)\n例：新株予約権と株式の保有",null,null,"内容\n（その他を選択の場合は自由記載)\n例：新株予約権と株式の保有",null,{"$f":"IF(F59=\"はい\",VLOOKUP(\"基準1と7\",基準選択肢C,2,FALSE),IF(I59=\"はい\",VLOOKUP(\"基準1と7\",基準選択肢C,2,FALSE),\"\"))","v":""},{"$f":"IF(F59=\"はい\",\"基準1と7\",IF(I59=\"はい\",\"基準1と7\",\"\"))","v":""}]
[null,null,null,null,"申告者と生計を同じにする配偶者及びその一親等の親族",null,"内容\n（その他を選択の場合は自由記載)\n例：新株予約権と株式の保有",null,null,"内容\n（その他を選択の場合は自由記載)\n例：新株予約権と株式の保有",null,{"$f":"IF(F60=\"はい\",VLOOKUP(\"基準1\",基準選択肢C,2,FALSE),IF(I60=\"はい\",VLOOKUP(\"基準1\",基準選択肢C,2,FALSE),\"\"))","v":""},{"$f":"IF(F60=\"はい\",\"基準1\",IF(I60=\"はい\",\"基準1\",\"\"))","v":""}]
[null,null,"Q6.その他、当該企業等と利益関係があるか？\n\n・　その他とは、寄附講座の受入れを行っている場合（受入れをしている講座の代表＝親講座）や、本研究に関する知的財産に関与している（本研究に関する特許出願中である、特許出願済みである）場合\n\n*これら以外に該当する場合には、内容と管理計画を特記事項に記載。",null,"本人",null,"内容",null,null,"内容",null,{"$f":"IF(M61=\"\",\"\",VLOOKUP(M61,基準選択肢C,2))","v":""},{"$f":"IF(AND(H61=K61,H61=\"\"),\"\",IF(AND(H61=K61,H61=\"寄附講座（親講座）の受入をしている\"),\"基準1\",IF(AND(H61=\"\",K61=\"寄附講座（親講座）の受入をしている\"),\"基準1\",IF(AND(K61=\"\",H61=\"寄附講座（親講座）の受入をしている\"),\"基準1\",\"基準1と7\"))))","v":""}]
[null,null,null,null,"申告者と生計を同じにする配偶者及びその一親等の親族",null,"内容",null,null,"内容",null,{"$f":"IF(M62=\"\",\"\",VLOOKUP(M62,基準選択肢C,2))","v":""},{"$f":"IF(F62=\"はい\",\"基準1\",IF(I62=\"はい\",\"基準1\",\"\"))","v":""}]
[]
[null,null,null,"本研究対象医薬品等の製造販売業者等名：","③",{"$f":"IF(F15=\"\",\"\",F15)","v":""}]
[]
[null,null,"COI状況の有無",null,null,"前年度",null,null,"当該年度",null,null,"管理計画"]
[null,null,null,null,null,"有無","「はい」と回答した項目について",null,"有無","「はい」と回答した項目について"]
[null,null,null,null,null,null,"COIの内容について\n詳細を選択・記述",null,null,"COIの内容について\n詳細を選択・記述"]
[null,null,"Q１．当該企業等から申告者が実質的に使途を決定し得る寄附金の総額が、年間200万円を超えているか？\n　・　実質的に使途を決定し得るとは、当該寄附金の管理をするという意味で、受入研究者に申告を求めている。間接経費を除き、直接経費のみを指すものではない。\n※寄附金については、2017年度以前に受入れた寄附金以外は使うことができません。",null,null,null,"形態",{"$f":"IF(F69=\"はい\",\"寄附金\",\"\")","v":""},null,"形態",{"$f":"IF(I69=\"はい\",\"寄附金\",\"\")","v":""},{"$f":"IF(F69=\"はい\",VLOOKUP(\"基準1\",基準選択肢C,2,FALSE),IF(I69=\"はい\",VLOOKUP(\"基準1\",基準選択肢C,2,FALSE),\"\"))","v":""},{"$f":"IF(F69=\"はい\",\"基準1\",IF(I69=\"はい\",\"基準1\",\"\"))","v":""}]
[null,null,null,null,null,null,"受入金額(円)",null,null,"受入金額(円)"]
[null,null,"Q２.　当該企業等が提供する寄附講座に所属しているか？\n\n・　寄附講座の資金から給与を取得しているか否かに関わらない。",null,"本人",null,"期間",null,null,"期間",null,{"$f":"IF(AND($F71=\"はい\",$H72=\"有\"),VLOOKUP(\"基準1と7\",基準選択肢C,2,FALSE),IF(AND($I71=\"はい\",$K72=\"有\"),VLOOKUP(\"基準1と7\",基準選択肢C,2,FALSE),IF($F71=\"はい\",VLOOKUP(\"基準1\",基準選択肢C,2,FALSE),IF($I71=\"はい\",VLOOKUP(\"基準1\",基準選択肢C,2,FALSE),\"\"))))","v":""},{"$f":"IF(AND($F71=\"はい\",$H72=\"有\"),\"基準1と7\",IF(AND($I71=\"はい\",$K72=\"有\"),\"基準1と7\",IF($F71=\"はい\",\"基準1\",IF($I71=\"はい\",\"基準1\",\"\"))))","v":""}]
[null,null,null,null,null,null,"給与の有無",null,null,"給与の有無"]
[null,null,null,null,"申告者と生計を同じにする配偶者及びその一親等の親族",null,"期間",null,null,"期間",null,{"$f":"IF(F73=\"はい\",VLOOKUP(\"基準1\",基準選択肢C,2,FALSE),IF(I73=\"はい\",VLOOKUP(\"基準1\",基準選択肢C,2,FALSE),\"\"))","v":""},{"$f":"IF(F73=\"はい\",\"基準1\",IF(I73=\"はい\",\"基準1\",\"\"))","v":""}]
[null,null,null,null,null,null,"給与の有無",null,null,"給与の有無"]
[null,null,"Q3．当該企業等との間に、申告者本人又は申告者と生計を同じにする配偶者及びその一親等の親族（親・子）が年間合計100万円以上の個人的な利益関係があるか？\n\n・　個人的利益関係とは、給与・講演・原稿・コンサルティング・ライセンス・贈答・接遇等による収入。",null,"本人",null,"経済的利益の内容(複数ある場合はすべて記載)",null,null,"経済的利益の内容(複数ある場合はすべて記載)",null,{"$f":"IF(OR(H76>=2500000,K76>=2500000),VLOOKUP(\"基準1と7\",基準選択肢C,2),IF(OR(H76>=1000000,K76>=1000000),VLOOKUP(\"基準1\",基準選択肢C,2),\"\"))","v":""},{"$f":"IF(OR(H76>=2500000,K76>=2500000),\"基準1と7\",IF(OR(H76>=1000000,K76>=1000000),\"基準1\",\"\"))","v":""}]
[null,null,null,null,null,null,"受入金額(円)",null,null,"受入金額(円)"]
[null,null,null,null,"申告者と生計を同じにする配偶者及びその一親等の親族",null,"経済的利益の内容(複数ある場合はすべて記載)",null,null,"経済的利益の内容(複数ある場合はすべて記載)",null,{"$f":"IF(F77=\"はい\",VLOOKUP(\"基準1\",基準選択肢C,2,FALSE),IF(I77=\"はい\",VLOOKUP(\"基準1\",基準選択肢C,2,FALSE),\"\"))","v":""},{"$f":"IF(F77=\"はい\",\"基準1\",IF(I77=\"はい\",\"基準1\",\"\"))","v":""}]
[null,null,null,null,null,null,"受入金額(円)",null,null,"受入金額(円)"]
[null,null,"Q4．当該企業等の役員等に、申告者本人又は申告者と生計を同じにする配偶者及びその一親等の親族（親・子）が就任しているか？\n\n・　役員等とは、株式会社の代表取締役・取締役、合同会社の代表者等代表権限を有する者、監査役。",null,"本人",null,"役職等の種類",null,null,"役職等の種類",null,{"$f":"IF(F79=\"はい\",VLOOKUP(\"基準1と7\",基準選択肢C,2,FALSE),IF(I79=\"はい\",VLOOKUP(\"基準1と7\",基準選択肢C,2,FALSE),\"\"))","v":""},{"$f":"IF(F79=\"はい\",\"基準1と7\",IF(I79=\"はい\",\"基準1と7\",\"\"))","v":""}]
[null,null,null,null,"申告者と生計を同じにする配偶者及びその一親等の親族",null,"役職等の種類",null,null,"役職等の種類",null,{"$f":"IF(F80=\"はい\",VLOOKUP(\"基準1\",基準選択肢C,2,FALSE),IF(I80=\"はい\",VLOOKUP(\"基準1\",基準選択肢C,2,FALSE),\"\"))","v":""},{"$f":"IF(F80=\"はい\",\"基準1\",IF(I80=\"はい\",\"基準1\",\"\"))","v":""}]
[null,null,"Q5.申告者本人又は申告者と生計を同じにする配偶者及びその一親等の親族（親・子）が当該企業等の株式（新株予約権を含む）を保有(公開株式については５％以上、未公開株式は1株以上、新株予約権は１個以上)しているか？あるいは当該企業に出資を行っているか？",null,"本人",null,"内容\n（その他を選択の場合は自由記載)\n例：新株予約権と株式の保有",null,null,"内容\n（その他を選択の場合は自由記載)\n例：新株予約権と株式の保有",null,{"$f":"IF(F81=\"はい\",VLOOKUP(\"基準1と7\",基準選択肢C,2,FALSE),IF(I81=\"はい\",VLOOKUP(\"基準1と7\",基準選択肢C,2,FALSE),\"\"))","v":""},{"$f":"IF(F81=\"はい\",\"基準1と7\",IF(I81=\"はい\",\"基準1と7\",\"\"))","v":""}]
[null,null,null,null,"申告者と生計を同じにする配偶者及びその一親等の親族",null,"内容\n（その他を選択の場合は自由記載)\n例：新株予約権と株式の保有",null,null,"内容\n（その他を選択の場合は自由記載)\n例：新株予約権と株式の保有",null,{"$f":"IF(F82=\"はい\",VLOOKUP(\"基準1\",基準選択肢C,2,FALSE),IF(I82=\"はい\",VLOOKUP(\"基準1\",基準選択肢C,2,FALSE),\"\"))","v":""},{"$f":"IF(F82=\"はい\",\"基準1\",IF(I82=\"はい\",\"基準1\",\"\"))","v":""}]
[null,null,"Q6.その他、当該企業等と利益関係があるか？\n\n・　その他とは、寄附講座の受入れを行っている場合（受入れをしている講座の代表＝親講座）や、本研究に関する知的財産に関与している（本研究に関する特許出願中である、特許出願済みである）場合\n\n*これら以外に該当する場合には、内容と管理計画を特記事項に記載。",null,"本人",null,"内容",null,null,"内容",null,{"$f":"IF(M83=\"\",\"\",VLOOKUP(M83,基準選択肢C,2))","v":""},{"$f":"IF(AND(H83=K83,H83=\"\"),\"\",IF(AND(H83=K83,H83=\"寄附講座（親講座）の受入をしている\"),\"基準1\",IF(AND(H83=\"\",K83=\"寄附講座（親講座）の受入をしている\"),\"基準1\",IF(AND(K83=\"\",H83=\"寄附講座（親講座）の受入をしている\"),\"基準1\",\"基準1と7\"))))","v":""}]
[null,null,null,null,"申告者と生計を同じにする配偶者及びその一親等の親族",null,"内容",null,null,"内容",null,{"$f":"IF(M84=\"\",\"\",VLOOKUP(M84,基準選択肢C,2))","v":""},{"$f":"IF(F84=\"はい\",\"基準1\",IF(I84=\"はい\",\"基準1\",\"\"))","v":""}]
[]
[null,null,null,"本研究対象医薬品等の製造販売業者等名：","④",{"$f":"IF(F16=\"\",\"\",F16)","v":""}]
[]
[null,null,"COI状況の有無",null,null,"前年度",null,null,"当該年度",null,null,"管理計画"]
[null,null,null,null,null,"有無","「はい」と回答した項目について",null,"有無","「はい」と回答した項目について"]
[null,null,null,null,null,null,"COIの内容について\n詳細を選択・記述",null,null,"COIの内容について\n詳細を選択・記述"]
[null,null,"Q１．当該企業等から申告者が実質的に使途を決定し得る寄附金の総額が、年間200万円を超えているか？\n　・　実質的に使途を決定し得るとは、当該寄附金の管理をするという意味で、受入研究者に申告を求めている。間接経費を除き、直接経費のみを指すものではない。\n※寄附金については、2017年度以前に受入れた寄附金以外は使うことができません。",null,null,null,"形態",{"$f":"IF(F91=\"はい\",\"寄附金\",\"\")","v":""},null,"形態",{"$f":"IF(I91=\"はい\",\"寄附金\",\"\")","v":""},{"$f":"IF(F91=\"はい\",VLOOKUP(\"基準1\",基準選択肢C,2,FALSE),IF(I91=\"はい\",VLOOKUP(\"基準1\",基準選択肢C,2,FALSE),\"\"))","v":""},{"$f":"IF(F91=\"はい\",\"基準1\",IF(I91=\"はい\",\"基準1\",\"\"))","v":""}]
[null,null,null,null,null,null,"受入金額(円)",null,null,"受入金額(円)"]
[null,null,"Q２.　当該企業等が提供する寄附講座に所属しているか？\n\n・　寄附講座の資金から給与を取得しているか否かに関わらない。",null,"本人",null,"期間",null,null,"期間",null,{"$f":"IF(AND($F93=\"はい\",$H94=\"有\"),VLOOKUP(\"基準1と7\",基準選択肢C,2,FALSE),IF(AND($I93=\"はい\",$K94=\"有\"),VLOOKUP(\"基準1と7\",基準選択肢C,2,FALSE),IF($F93=\"はい\",VLOOKUP(\"基準1\",基準選択肢C,2,FALSE),IF($I93=\"はい\",VLOOKUP(\"基準1\",基準選択肢C,2,FALSE),\"\"))))","v":""},{"$f":"IF(AND($F93=\"はい\",$H94=\"有\"),\"基準1と7\",IF(AND($I93=\"はい\",$K94=\"有\"),\"基準1と7\",IF($F93=\"はい\",\"基準1\",IF($I93=\"はい\",\"基準1\",\"\"))))","v":""}]
[null,null,null,null,null,null,"給与の有無",null,null,"給与の有無"]
[null,null,null,null,"申告者と生計を同じにする配偶者及びその一親等の親族",null,"期間",null,null,"期間",null,{"$f":"IF(F95=\"はい\",VLOOKUP(\"基準1\",基準選択肢C,2,FALSE),IF(I95=\"はい\",VLOOKUP(\"基準1\",基準選択肢C,2,FALSE),\"\"))","v":""},{"$f":"IF(F95=\"はい\",\"基準1\",IF(I95=\"はい\",\"基準1\",\"\"))","v":""}]
[null,null,null,null,null,null,"給与の有無",null,null,"給与の有無"]
[null,null,"Q3．当該企業等との間に、申告者本人又は申告者と生計を同じにする配偶者及びその一親等の親族（親・子）が年間合計100万円以上の個人的な利益関係があるか？\n\n・　個人的利益関係とは、給与・講演・原稿・コンサルティング・ライセンス・贈答・接遇等による収入。",null,"本人",null,"経済的利益の内容(複数ある場合はすべて記載)",null,null,"経済的利益の内容(複数ある場合はすべて記載)",null,{"$f":"IF(OR(H98>=2500000,K98>=2500000),VLOOKUP(\"基準1と7\",基準選択肢C,2),IF(OR(H98>=1000000,K98>=1000000),VLOOKUP(\"基準1\",基準選択肢C,2),\"\"))","v":""},{"$f":"IF(OR(H98>=2500000,K98>=2500000),\"基準1と7\",IF(OR(H98>=1000000,K98>=1000000),\"基準1\",\"\"))","v":""}]
[null,null,null,null,null,null,"受入金額(円)",null,null,"受入金額(円)"]
[null,null,null,null,"申告者と生計を同じにする配偶者及びその一親等の親族",null,"経済的利益の内容(複数ある場合はすべて記載)",null,null,"経済的利益の内容(複数ある場合はすべて記載)",null,{"$f":"IF(F99=\"はい\",VLOOKUP(\"基準1\",基準選択肢C,2,FALSE),IF(I99=\"はい\",VLOOKUP(\"基準1\",基準選択肢C,2,FALSE),\"\"))","v":""},{"$f":"IF(F99=\"はい\",\"基準1\",IF(I99=\"はい\",\"基準1\",\"\"))","v":""}]
[null,null,null,null,null,null,"受入金額(円)",null,null,"受入金額(円)"]
[null,null,"Q4．当該企業等の役員等に、申告者本人又は申告者と生計を同じにする配偶者及びその一親等の親族（親・子）が就任しているか？\n\n・　役員等とは、株式会社の代表取締役・取締役、合同会社の代表者等代表権限を有する者、監査役。",null,"本人",null,"役職等の種類",null,null,"役職等の種類",null,{"$f":"IF(F101=\"はい\",VLOOKUP(\"基準1と7\",基準選択肢C,2,FALSE),IF(I101=\"はい\",VLOOKUP(\"基準1と7\",基準選択肢C,2,FALSE),\"\"))","v":""},{"$f":"IF(F101=\"はい\",\"基準1と7\",IF(I101=\"はい\",\"基準1と7\",\"\"))","v":""}]
[null,null,null,null,"申告者と生計を同じにする配偶者及びその一親等の親族",null,"役職等の種類",null,null,"役職等の種類",null,{"$f":"IF(F102=\"はい\",VLOOKUP(\"基準1\",基準選択肢C,2,FALSE),IF(I102=\"はい\",VLOOKUP(\"基準1\",基準選択肢C,2,FALSE),\"\"))","v":""},{"$f":"IF(F102=\"はい\",\"基準1\",IF(I102=\"はい\",\"基準1\",\"\"))","v":""}]
[null,null,"Q5.申告者本人又は申告者と生計を同じにする配偶者及びその一親等の親族（親・子）が当該企業等の株式（新株予約権を含む）を保有(公開株式については５％以上、未公開株式は1株以上、新株予約権は１個以上)しているか？あるいは当該企業に出資を行っているか？",null,"本人",null,"内容\n（その他を選択の場合は自由記載)\n例：新株予約権と株式の保有",null,null,"内容\n（その他を選択の場合は自由記載)\n例：新株予約権と株式の保有",null,{"$f":"IF(F103=\"はい\",VLOOKUP(\"基準1と7\",基準選択肢C,2,FALSE),IF(I103=\"はい\",VLOOKUP(\"基準1と7\",基準選択肢C,2,FALSE),\"\"))","v":""},{"$f":"IF(F103=\"はい\",\"基準1と7\",IF(I103=\"はい\",\"基準1と7\",\"\"))","v":""}]
[null,null,null,null,"申告者と生計を同じにする配偶者及びその一親等の親族",null,"内容\n（その他を選択の場合は自由記載)\n例：新株予約権と株式の保有",null,null,"内容\n（その他を選択の場合は自由記載)\n例：新株予約権と株式の保有",null,{"$f":"IF(F104=\"はい\",VLOOKUP(\"基準1\",基準選択肢C,2,FALSE),IF(I104=\"はい\",VLOOKUP(\"基準1\",基準選択肢C,2,FALSE),\"\"))","v":""},{"$f":"IF(F104=\"はい\",\"基準1\",IF(I104=\"はい\",\"基準1\",\"\"))","v":""}]
[null,null,"Q6.その他、当該企業等と利益関係があるか？\n\n・　その他とは、寄附講座の受入れを行っている場合（受入れをしている講座の代表＝親講座）や、本研究に関する知的財産に関与している（本研究に関する特許出願中である、特許出願済みである）場合\n\n*これら以外に該当する場合には、内容と管理計画を特記事項に記載。",null,"本人",null,"内容",null,null,"内容",null,{"$f":"IF(M105=\"\",\"\",VLOOKUP(M105,基準選択肢C,2))","v":""},{"$f":"IF(AND(H105=K105,H105=\"\"),\"\",IF(AND(H105=K105,H105=\"寄附講座（親講座）の受入をしている\"),\"基準1\",IF(AND(H105=\"\",K105=\"寄附講座（親講座）の受入をしている\"),\"基準1\",IF(AND(K105=\"\",H105=\"寄附講座（親講座）の受入をしている\"),\"基準1\",\"基準1と7\"))))","v":""}]
[null,null,null,null,"申告者と生計を同じにする配偶者及びその一親等の親族",null,"内容",null,null,"内容",null,{"$f":"IF(M106=\"\",\"\",VLOOKUP(M106,基準選択肢C,2))","v":""},{"$f":"IF(F106=\"はい\",\"基準1\",IF(I106=\"はい\",\"基準1\",\"\"))","v":""}]
[]
[null,null,null,"本研究対象医薬品等の製造販売業者等名：","⑤",{"$f":"IF(F17=\"\",\"\",F17)","v":""}]
[]
[null,null,"COI状況の有無",null,null,"前年度",null,null,"当該年度",null,null,"管理計画"]
[null,null,null,null,null,"有無","「はい」と回答した項目について",null,"有無","「はい」と回答した項目について"]
[null,null,null,null,null,null,"COIの内容について\n詳細を選択・記述",null,null,"COIの内容について\n詳細を選択・記述"]
[null,null,"Q１．当該企業等から申告者が実質的に使途を決定し得る寄附金の総額が、年間200万円を超えているか？\n　・　実質的に使途を決定し得るとは、当該寄附金の管理をするという意味で、受入研究者に申告を求めている。間接経費を除き、直接経費のみを指すものではない。\n※寄附金については、2017年度以前に受入れた寄附金以外は使うことができません。",null,null,null,"形態",{"$f":"IF(F113=\"はい\",\"寄附金\",\"\")","v":""},null,"形態",{"$f":"IF(I113=\"はい\",\"寄附金\",\"\")","v":""},{"$f":"IF(F113=\"はい\",VLOOKUP(\"基準1\",基準選択肢C,2,FALSE),IF(I113=\"はい\",VLOOKUP(\"基準1\",基準選択肢C,2,FALSE),\"\"))","v":""},{"$f":"IF(F113=\"はい\",\"基準1\",IF(I113=\"はい\",\"基準1\",\"\"))","v":""}]
[null,null,null,null,null,null,"受入金額(円)",null,null,"受入金額(円)"]
[null,null,"Q２.　当該企業等が提供する寄附講座に所属しているか？\n\n・　寄附講座の資金から給与を取得しているか否かに関わらない。",null,"本人",null,"期間",null,null,"期間",null,{"$f":"IF(AND($F115=\"はい\",$H116=\"有\"),VLOOKUP(\"基準1と7\",基準選択肢C,2,FALSE),IF(AND($I115=\"はい\",$K116=\"有\"),VLOOKUP(\"基準1と7\",基準選択肢C,2,FALSE),IF($F115=\"はい\",VLOOKUP(\"基準1\",基準選択肢C,2,FALSE),IF($I115=\"はい\",VLOOKUP(\"基準1\",基準選択肢C,2,FALSE),\"\"))))","v":""},{"$f":"IF(AND($F115=\"はい\",$H116=\"有\"),\"基準1と7\",IF(AND($I115=\"はい\",$K116=\"有\"),\"基準1と7\",IF($F115=\"はい\",\"基準1\",IF($I115=\"はい\",\"基準1\",\"\"))))","v":""}]
[null,null,null,null,null,null,"給与の有無",null,null,"給与の有無"]
[null,null,null,null,"申告者と生計を同じにする配偶者及びその一親等の親族",null,"期間",null,null,"期間",null,{"$f":"IF(F117=\"はい\",VLOOKUP(\"基準1\",基準選択肢C,2,FALSE),IF(I117=\"はい\",VLOOKUP(\"基準1\",基準選択肢C,2,FALSE),\"\"))","v":""},{"$f":"IF(F117=\"はい\",\"基準1\",IF(I117=\"はい\",\"基準1\",\"\"))","v":""}]
[null,null,null,null,null,null,"給与の有無",null,null,"給与の有無"]
[null,null,"Q3．当該企業等との間に、申告者本人又は申告者と生計を同じにする配偶者及びその一親等の親族（親・子）が年間合計100万円以上の個人的な利益関係があるか？\n\n・　個人的利益関係とは、給与・講演・原稿・コンサルティング・ライセンス・贈答・接遇等による収入。",null,"本人",null,"経済的利益の内容(複数ある場合はすべて記載)",null,null,"経済的利益の内容(複数ある場合はすべて記載)",null,{"$f":"IF(OR(H120>=2500000,K120>=2500000),VLOOKUP(\"基準1と7\",基準選択肢C,2),IF(OR(H120>=1000000,K120>=1000000),VLOOKUP(\"基準1\",基準選択肢C,2),\"\"))","v":""},{"$f":"IF(OR(H120>=2500000,K120>=2500000),\"基準1と7\",IF(OR(H120>=1000000,K120>=1000000),\"基準1\",\"\"))","v":""}]
[null,null,null,null,null,null,"受入金額(円)",null,null,"受入金額(円)"]
[null,null,null,null,"申告者と生計を同じにする配偶者及びその一親等の親族",null,"経済的利益の内容(複数ある場合はすべて記載)",null,null,"経済的利益の内容(複数ある場合はすべて記載)",null,{"$f":"IF(F121=\"はい\",VLOOKUP(\"基準1\",基準選択肢C,2,FALSE),IF(I121=\"はい\",VLOOKUP(\"基準1\",基準選択肢C,2,FALSE),\"\"))","v":""},{"$f":"IF(F121=\"はい\",\"基準1\",IF(I121=\"はい\",\"基準1\",\"\"))","v":""}]
[null,null,null,null,null,null,"受入金額(円)",null,null,"受入金額(円)"]
[null,null,"Q4．当該企業等の役員等に、申告者本人又は申告者と生計を同じにする配偶者及びその一親等の親族（親・子）が就任しているか？\n\n・　役員等とは、株式会社の代表取締役・取締役、合同会社の代表者等代表権限を有する者、監査役。",null,"本人",null,"役職等の種類",null,null,"役職等の種類",null,{"$f":"IF(F123=\"はい\",VLOOKUP(\"基準1と7\",基準選択肢C,2,FALSE),IF(I123=\"はい\",VLOOKUP(\"基準1と7\",基準選択肢C,2,FALSE),\"\"))","v":""},{"$f":"IF(F123=\"はい\",\"基準1と7\",IF(I123=\"はい\",\"基準1と7\",\"\"))","v":""}]
[null,null,null,null,"申告者と生計を同じにする配偶者及びその一親等の親族",null,"役職等の種類",null,null,"役職等の種類",null,{"$f":"IF(F124=\"はい\",VLOOKUP(\"基準1\",基準選択肢C,2,FALSE),IF(I124=\"はい\",VLOOKUP(\"基準1\",基準選択肢C,2,FALSE),\"\"))","v":""},{"$f":"IF(F124=\"はい\",\"基準1\",IF(I124=\"はい\",\"基準1\",\"\"))","v":""}]
[null,null,"Q5.申告者本人又は申告者と生計を同じにする配偶者及びその一親等の親族（親・子）が当該企業等の株式（新株予約権を含む）を保有(公開株式については５％以上、未公開株式は1株以上、新株予約権は１個以上)しているか？あるいは当該企業に出資を行っているか？",null,"本人",null,"内容\n（その他を選択の場合は自由記載)\n例：新株予約権と株式の保有",null,null,"内容\n（その他を選択の場合は自由記載)\n例：新株予約権と株式の保有",null,{"$f":"IF(F125=\"はい\",VLOOKUP(\"基準1と7\",基準選択肢C,2,FALSE),IF(I125=\"はい\",VLOOKUP(\"基準1と7\",基準選択肢C,2,FALSE),\"\"))","v":""},{"$f":"IF(F125=\"はい\",\"基準1と7\",IF(I125=\"はい\",\"基準1と7\",\"\"))","v":""}]
[null,null,null,null,"申告者と生計を同じにする配偶者及びその一親等の親族",null,"内容\n（その他を選択の場合は自由記載)\n例：新株予約権と株式の保有",null,null,"内容\n（その他を選択の場合は自由記載)\n例：新株予約権と株式の保有",null,{"$f":"IF(F126=\"はい\",VLOOKUP(\"基準1\",基準選択肢C,2,FALSE),IF(I126=\"はい\",VLOOKUP(\"基準1\",基準選択肢C,2,FALSE),\"\"))","v":""},{"$f":"IF(F126=\"はい\",\"基準1\",IF(I126=\"はい\",\"基準1\",\"\"))","v":""}]
[null,null,"Q6.その他、当該企業等と利益関係があるか？\n\n・　その他とは、寄附講座の受入れを行っている場合（受入れをしている講座の代表＝親講座）や、本研究に関する知的財産に関与している（本研究に関する特許出願中である、特許出願済みである）場合\n\n*これら以外に該当する場合には、内容と管理計画を特記事項に記載。",null,"本人",null,"内容",null,null,"内容",null,{"$f":"IF(M127=\"\",\"\",VLOOKUP(M127,基準選択肢C,2))","v":""},{"$f":"IF(AND(H127=K127,H127=\"\"),\"\",IF(AND(H127=K127,H127=\"寄附講座（親講座）の受入をしている\"),\"基準1\",IF(AND(H127=\"\",K127=\"寄附講座（親講座）の受入をしている\"),\"基準1\",IF(AND(K127=\"\",H127=\"寄附講座（親講座）の受入をしている\"),\"基準1\",\"基準1と7\"))))","v":""}]
[null,null,null,null,"申告者と生計を同じにする配偶者及びその一親等の親族",null,"内容",null,null,"内容",null,{"$f":"IF(M128=\"\",\"\",VLOOKUP(M128,基準選択肢C,2))","v":""},{"$f":"IF(F128=\"はい\",\"基準1\",IF(I128=\"はい\",\"基準1\",\"\"))","v":""}]

{"sheet":"様式D_研究責任医師","index":4,"n_rows":124,"n_cols":15,"rows_kept":124,"cut":false,"hidden":false,"merged":[[68,6,68,14],[92,11,94,11],[89,12,91,12],[42,8,42,10],[43,8,43,10],[44,8,44,10],[45,8,45,10],[17,11,21,14],[15,13,16,14],[73,13,75,13],[73,14,75,14],[73,12,75,12],[54,11,56,11],[49,6,49,14],[54,13,56,13],[54,14,56,14],[16,6,16,7],[6,3,6,4],[9,3,9,4],[10,3,10,4],[54,12,56,12],[17,6,17,7],[18,6,18,7],[23,2,27,4],[29,2,29,4],[6,10,6,11],[23,9,23,14],[24,9,24,14],[25,9,25,14],[26,9,26,14],[39,8,39,10],[11,11,14,14],[2,2,3,14],[8,3,8,4],[5,10,5,11],[14,6,14,7],[15,6,15,7],[4,10,4,11],[7,10,7,11],[7,12,7,14],[8,10,8,11],[8,12,8,14],[5,12,5,14],[6,12,6,14],[4,3,5,6],[12,6,12,7],[13,6,13,7],[46,8,46,10],[32,13,34,13],[32,14,34,14],[33,6,34,6],[35,14,37,14],[35,11,37,11],[35,13,37,13],[32,8,34,11],[23,6,23,8],[24,6,24,8],[25,6,25,8],[26,6,26,8],[33,7,34,7],[35,12,37,12],[32,12,34,12],[51,13,53,13],[51,14,53,14],[52,6,53,6],[52,7,53,7],[51,8,53,11],[19,6,19,7],[20,6,20,7],[38,2,39,4],[35,2,37,5],[32,2,34,5],[30,6,30,14],[35,8,37,10],[38,8,38,10],[27,9,27,14],[27,6,27,8],[46,2,47,4],[40,8,40,10],[35,6,37,6],[35,7,37,7],[42,2,43,4],[44,2,45,4],[41,8,41,10],[47,8,47,10],[40,2,41,4],[57,2,58,4],[57,8,57,10],[58,8,58,10],[54,2,56,5],[54,6,56,6],[54,7,56,7],[54,8,56,10],[51,2,53,5],[51,12,53,12],[63,2,64,4],[63,8,63,10],[64,8,64,10],[65,2,66,4],[65,8,65,10],[66,8,66,10],[59,2,60,4],[59,8,59,10],[60,8,60,10],[61,2,62,4],[61,8,61,10],[62,8,62,10],[73,2,75,5],[73,6,75,6],[73,7,75,7],[73,8,75,10],[70,2,72,5],[70,12,72,12],[70,13,72,13],[70,14,72,14],[71,6,72,6],[71,7,72,7],[70,8,72,11],[73,11,75,11],[78,2,79,4],[78,8,78,10],[79,8,79,10],[80,2,81,4],[80,8,80,10],[81,8,81,10],[92,14,94,14],[76,2,77,4],[76,8,76,10],[77,8,77,10],[92,12,94,12],[82,2,83,4],[82,8,82,10],[83,8,83,10],[84,2,85,4],[84,8,84,10],[85,8,85,10],[87,6,87,14],[92,13,94,13],[89,2,91,5],[95,2,96,4],[95,8,95,10],[96,8,96,10],[103,8,103,10],[104,8,104,10],[97,2,98,4],[101,8,101,10],[89,13,91,13],[89,14,91,14],[90,6,91,6],[90,7,91,7],[89,8,91,11],[97,8,97,10],[99,2,100,4],[99,8,99,10],[111,11,113,11],[108,8,110,11],[111,13,113,13],[102,8,102,10],[100,8,100,10],[111,7,113,7],[111,8,113,10],[103,2,104,4],[101,2,102,4],[122,2,123,4],[122,8,122,10],[123,8,123,10],[116,2,117,4],[116,8,116,10],[117,8,117,10],[118,2,119,4],[118,8,118,10],[119,8,119,10],[98,8,98,10],[0,5,0,9],[120,2,121,4],[120,8,120,10],[121,8,121,10],[106,6,106,14],[108,2,110,5],[108,12,110,12],[4,12,4,14],[108,13,110,13],[108,14,110,14],[114,2,115,4],[114,8,114,10],[115,8,115,10],[111,2,113,5],[111,6,113,6],[109,7,110,7],[109,6,110,6],[92,2,94,5],[92,6,94,6],[92,7,94,7],[92,8,94,10],[111,14,113,14],[111,12,113,12]]}
[null,null,null,null,null,"様式D＜研究責任医師用＞　利益相反状況確認報告書",null,null,null,null,null,null,null,null,"ver.2.2"]
[null,null,"研究責任医師殿"]
[null,null,"本研究課題と関わりのある企業等との関係について、下記の通り報告すると共に、当該企業等との利益相反の有無、及び利益相反管理計画、事実確認の結果等について述べます。"]
[]
[null,null,null,{"$f":"IF(様式B!E5=\"\",\"\",様式B!E5)","v":""},null,null,null,null,null,null,"日　　付"]
[null,null,"本研究課題：",null,null,null,null,null,null,null,"実施医療機関名 あるいは 所属機関名"]
[null,null,"研究責任医師名：",{"$f":"IF(様式C_研究責任医師!M7=\"\",\"\",様式C_研究責任医師!M7)","v":""},null,null,null,null,null,null,"実施医療機関の長の氏名 あるいは \n所属機関の長の氏名"]
[null,null,"被確認者：",null,null,null,null,null,null,null,"作成者氏名"]
[null,null,"所属機関",{"$f":"IF(様式C_研究責任医師!M5=\"\",\"\",様式C_研究責任医師!M5)","v":""},null,null,null,null,null,null,"作成者連絡先メールアドレス"]
[null,null,"立  　場",{"$f":"IF(様式C_研究責任医師!M6=\"\",\"\",様式C_研究責任医師!M6)","v":"研究責任医師"}]
[null,null,"氏　　名",{"$f":"D7","v":""},null,null,null,null,null,null,null,"【特記事項(任意)】（様式Cより）"]
[null,null,null,null,null,null,null,null,null,null,null,{"$f":"IF(様式C_研究責任医師!M11=\"\",\"\",様式C_研究責任医師!M11)","v":""}]
[null,null,"所属機関","立場","氏名",null,"所属機関",null,"立場","氏名"]
[null,null,{"$f":"IF(様式C_研究責任医師!C11=\"\",\"\",様式C_研究責任医師!C11)","v":""},{"$f":"IF(様式C_研究責任医師!D11=\"\",\"\",様式C_研究責任医師!D11)","v":""},{"$f":"IF(様式C_研究責任医師!E11=\"\",\"\",様式C_研究責任医師!E11)","v":""},null,{"$f":"IF(様式C_研究責任医師!G11=\"\",\"\",様式C_研究責任医師!G11)","v":""},null,{"$f":"IF(様式C_研究責任医師!I11=\"\",\"\",様式C_研究責任医師!I11)","v":""},{"$f":"IF(様式C_研究責任医師!J11=\"\",\"\",様式C_研究責任医師!J11)","v":""}]
[null,null,{"$f":"IF(様式C_研究責任医師!C12=\"\",\"\",様式C_研究責任医師!C12)","v":""},{"$f":"IF(様式C_研究責任医師!D12=\"\",\"\",様式C_研究責任医師!D12)","v":""},{"$f":"IF(様式C_研究責任医師!E12=\"\",\"\",様式C_研究責任医師!E12)","v":""},null,{"$f":"IF(様式C_研究責任医師!G12=\"\",\"\",様式C_研究責任医師!G12)","v":""},null,{"$f":"IF(様式C_研究責任医師!I12=\"\",\"\",様式C_研究責任医師!I12)","v":""},{"$f":"IF(様式C_研究責任医師!J12=\"\",\"\",様式C_研究責任医師!J12)","v":""}]
[null,null,{"$f":"IF(様式C_研究責任医師!C13=\"\",\"\",様式C_研究責任医師!C13)","v":""},{"$f":"IF(様式C_研究責任医師!D13=\"\",\"\",様式C_研究責任医師!D13)","v":""},{"$f":"IF(様式C_研究責任医師!E13=\"\",\"\",様式C_研究責任医師!E13)","v":""},null,{"$f":"IF(様式C_研究責任医師!G13=\"\",\"\",様式C_研究責任医師!G13)","v":""},null,{"$f":"IF(様式C_研究責任医師!I13=\"\",\"\",様式C_研究責任医師!I13)","v":""},{"$f":"IF(様式C_研究責任医師!J13=\"\",\"\",様式C_研究責任医師!J13)","v":""},null,"【特記事項(任意)】",null," 例：研究責任医師が実施機関の管理者のため、他の者が確認を行った"]
[null,null,{"$f":"IF(様式C_研究責任医師!C14=\"\",\"\",様式C_研究責任医師!C14)","v":""},{"$f":"IF(様式C_研究責任医師!D14=\"\",\"\",様式C_研究責任医師!D14)","v":""},{"$f":"IF(様式C_研究責任医師!E14=\"\",\"\",様式C_研究責任医師!E14)","v":""},null,{"$f":"IF(様式C_研究責任医師!G14=\"\",\"\",様式C_研究責任医師!G14)","v":""},null,{"$f":"IF(様式C_研究責任医師!I14=\"\",\"\",様式C_研究責任医師!I14)","v":""},{"$f":"IF(様式C_研究責任医師!J14=\"\",\"\",様式C_研究責任医師!J14)","v":""}]
[null,null,{"$f":"IF(様式C_研究責任医師!C15=\"\",\"\",様式C_研究責任医師!C15)","v":""},{"$f":"IF(様式C_研究責任医師!D15=\"\",\"\",様式C_研究責任医師!D15)","v":""},{"$f":"IF(様式C_研究責任医師!E15=\"\",\"\",様式C_研究責任医師!E15)","v":""},null,{"$f":"IF(様式C_研究責任医師!G15=\"\",\"\",様式C_研究責任医師!G15)","v":""},null,{"$f":"IF(様式C_研究責任医師!I15=\"\",\"\",様式C_研究責任医師!I15)","v":""},{"$f":"IF(様式C_研究責任医師!J15=\"\",\"\",様式C_研究責任医師!J15)","v":""}]
[null,null,{"$f":"IF(様式C_研究責任医師!C16=\"\",\"\",様式C_研究責任医師!C16)","v":""},{"$f":"IF(様式C_研究責任医師!D16=\"\",\"\",様式C_研究責任医師!D16)","v":""},{"$f":"IF(様式C_研究責任医師!E16=\"\",\"\",様式C_研究責任医師!E16)","v":""},null,{"$f":"IF(様式C_研究責任医師!G16=\"\",\"\",様式C_研究責任医師!G16)","v":""},null,{"$f":"IF(様式C_研究責任医師!I16=\"\",\"\",様式C_研究責任医師!I16)","v":""},{"$f":"IF(様式C_研究責任医師!J16=\"\",\"\",様式C_研究責任医師!J16)","v":""}]
[null,null,{"$f":"IF(様式C_研究責任医師!C17=\"\",\"\",様式C_研究責任医師!C17)","v":""},{"$f":"IF(様式C_研究責任医師!D17=\"\",\"\",様式C_研究責任医師!D17)","v":""},{"$f":"IF(様式C_研究責任医師!E17=\"\",\"\",様式C_研究責任医師!E17)","v":""},null,{"$f":"IF(様式C_研究責任医師!G17=\"\",\"\",様式C_研究責任医師!G17)","v":""},null,{"$f":"IF(様式C_研究責任医師!I17=\"\",\"\",様式C_研究責任医師!I17)","v":""},{"$f":"IF(様式C_研究責任医師!J17=\"\",\"\",様式C_研究責任医師!J17)","v":""}]
[null,null,{"$f":"IF(様式C_研究責任医師!C18=\"\",\"\",様式C_研究責任医師!C18)","v":""},{"$f":"IF(様式C_研究責任医師!D18=\"\",\"\",様式C_研究責任医師!D18)","v":""},{"$f":"IF(様式C_研究責任医師!E18=\"\",\"\",様式C_研究責任医師!E18)","v":""},null,{"$f":"IF(様式C_研究責任医師!G18=\"\",\"\",様式C_研究責任医師!G18)","v":""},null,{"$f":"IF(様式C_研究責任医師!I18=\"\",\"\",様式C_研究責任医師!I18)","v":""},{"$f":"IF(様式C_研究責任医師!J18=\"\",\"\",様式C_研究責任医師!J18)","v":""}]
[]
[null,null,"1.本研究対象医薬品等の製造販売業者等について：（記載不要）様式BのQ1に該当、記載された内容が自動的に反映されます"]
[null,null,"本研究は、 企業等が製造販売する、もしくは製造販売しようとする医薬品薬剤・医療機器等を用いている。(様式BのQ1)",null,null,"①",{"$f":"IF(様式B!H12=\"\",\"\",様式B!H12)","v":""},null,null,{"$f":"IF(G24=\"\",\"\",\"本研究対象薬剤・機器名：\"&様式B!J12)","v":""}]
[null,null,null,null,null,"②",{"$f":"IF(様式B!H13=\"\",\"\",様式B!H13)","v":""},null,null,{"$f":"IF(G25=\"\",\"\",\"本研究対象薬剤・機器名：\"&様式B!J13)","v":""}]
[null,null,null,null,null,"③",{"$f":"IF(様式B!H14=\"\",\"\",様式B!H14)","v":""},null,null,{"$f":"IF(G26=\"\",\"\",\"本研究対象薬剤・機器名：\"&様式B!J14)","v":""}]
[null,null,null,null,null,"④",{"$f":"IF(様式B!H15=\"\",\"\",様式B!H15)","v":""},null,null,{"$f":"IF(G27=\"\",\"\",\"本研究対象薬剤・機器名：\"&様式B!J15)","v":""}]
[null,null,null,null,null,"⑤",{"$f":"IF(様式B!H16=\"\",\"\",様式B!H16)","v":""},null,null,{"$f":"IF(G28=\"\",\"\",\"本研究対象薬剤・機器名：\"&様式B!J16)","v":""}]
[]
[null,null,"2. 本研究対象医薬品等の製造販売業者等との利益相反報告"]
[null,null,null,null,"本研究対象医薬品等の製造販売業者等名：","①",{"$f":"IF(G24=\"\",\"\",G24)","v":""}]
[]
[null,null,"COI状況の有無",null,null,null,"前年度","当該年度","COI管理計画",null,null,null,"COIについての事実確認","COI管理計画の確認状況","COI管理に対する助言・勧告の内容\n(該当ある場合(自由記載))"]
[null,null,null,null,null,null,"有無","有無"]
[]
[null,null,"Q１．当該企業等から申告者が実質的に使途を決定し得る寄附金の総額が、年間200万円を超えているか？\n・　実質的に使途を決定し得るとは、当該寄附金の管理をするという意味で、受入研究者に申告を求めている。間接経費を除き、直接経費のみを指すものではない。\n※寄附金については、過去に受入れた寄附金以外は使うことができません。",null,null,null,{"$f":"IF(様式C_研究責任医師!G32=\"\",\"\",様式C_研究責任医師!G32)","v":""},{"$f":"IF(様式C_研究責任医師!J32=\"\",\"\",様式C_研究責任医師!J32)","v":""},{"$f":"IF(様式C_研究責任医師!M32=\"\",\"\",様式C_研究責任医師!M32)","v":""},null,null,{"$f":"IF(様式C_研究責任医師!N32=\"\",\"\",様式C_研究責任医師!N32)","v":""}]
[null,null,null,null,null,null,{"$f":"IF(様式C_研究責任医師!G35=\"\",\"\",様式C_研究責任医師!G35)","v":""},{"$f":"IF(様式C_研究責任医師!J35=\"\",\"\",様式C_研究責任医師!J35)","v":""}]
[null,null,null,null,null,null,{"$f":"IF(様式C_研究責任医師!G36=\"\",\"\",様式C_研究責任医師!G36)","v":""},{"$f":"IF(様式C_研究責任医師!J36=\"\",\"\",様式C_研究責任医師!J36)","v":""}]
[null,null,"Q２.　当該企業等が提供する寄附講座に所属しているか？\n\n・　寄附講座の資金から給与を取得しているか否かに関わらない。",null,null,"本人",{"$f":"IF(様式C_研究責任医師!G34=\"\",\"\",様式C_研究責任医師!G34)","v":""},{"$f":"IF(様式C_研究責任医師!J34=\"\",\"\",様式C_研究責任医師!J34)","v":""},{"$f":"IF(G39=\"はい\",VLOOKUP(\"基準1と5\",基準選択肢C,2,FALSE),IF(H39=\"はい\",VLOOKUP(\"基準1と5\",基準選択肢C,2,FALSE),\"\"))","v":""},null,null,{"$f":"IF(G39=\"はい\",\"基準1と5\",IF(H39=\"はい\",\"基準1と5\",\"\"))","v":""}]
[null,null,null,null,null,"申告者と生計を同じにする配偶者及びその一親等の親族",{"$f":"IF(様式C_研究責任医師!G36=\"\",\"\",様式C_研究責任医師!G36)","v":""},{"$f":"IF(様式C_研究責任医師!J36=\"\",\"\",様式C_研究責任医師!J36)","v":""},{"$f":"IF(G40=\"はい\",VLOOKUP(\"基準1と6\",基準選択肢C,2,FALSE),IF(H40=\"はい\",VLOOKUP(\"基準1と6\",基準選択肢C,2,FALSE),\"\"))","v":""},null,null,{"$f":"IF(G40=\"はい\",\"基準1と6\",IF(H40=\"はい\",\"基準1と6\",\"\"))","v":""}]
[null,null,"Q3．当該企業等との間に、申告者本人又は申告者と生計を同じにする配偶者及びその一親等の親族（親・子）が年間合計100万円以上の個人的な利益関係があるか？\n\n・　個人的利益関係とは、給与・講演・原稿・コンサルティング・ライセンス・贈答・接遇等による収入。",null,null,"本人",{"$f":"IF(様式C_研究責任医師!G38=\"\",\"\",様式C_研究責任医師!G38)","v":""},{"$f":"IF(様式C_研究責任医師!J38=\"\",\"\",様式C_研究責任医師!J38)","v":""},{"$f":"IF(様式C_研究責任医師!M38=\"\",\"\",様式C_研究責任医師!M38)","v":""},null,null,{"$f":"IF(様式C_研究責任医師!N38=\"\",\"\",様式C_研究責任医師!N38)","v":""}]
[null,null,null,null,null,"申告者と生計を同じにする配偶者及びその一親等の親族",{"$f":"IF(様式C_研究責任医師!G40=\"\",\"\",様式C_研究責任医師!G40)","v":""},{"$f":"IF(様式C_研究責任医師!J40=\"\",\"\",様式C_研究責任医師!J40)","v":""},{"$f":"IF(様式C_研究責任医師!M40=\"\",\"\",様式C_研究責任医師!M40)","v":""},null,null,{"$f":"IF(様式C_研究責任医師!N40=\"\",\"\",様式C_研究責任医師!N40)","v":""}]
[null,null,"Q4．当該企業等の役員等に、申告者本人又は申告者と生計を同じにする配偶者及びその一親等の親族（親・子）が就任しているか？\n\n・　役員等とは、株式会社の代表取締役・取締役、合同会社の代表者等、代表権限を有する者、監査役。",null,null,"本人",{"$f":"IF(様式C_研究責任医師!G42=\"\",\"\",様式C_研究責任医師!G42)","v":""},{"$f":"IF(様式C_研究責任医師!J42=\"\",\"\",様式C_研究責任医師!J42)","v":""},{"$f":"IF(様式C_研究責任医師!M42=\"\",\"\",様式C_研究責任医師!M42)","v":""},{"$f":"IF(様式C_研究責任医師!J42=\"\",\"\",様式C_研究責任医師!J42)","v":""},{"$f":"IF(様式C_研究責任医師!K42=\"\",\"\",様式C_研究責任医師!K42)","v":"役職等の種類"},{"$f":"IF(様式C_研究責任医師!N42=\"\",\"\",様式C_研究責任医師!N42)","v":""}]
[null,null,null,null,null,"申告者と生計を同じにする配偶者及びその一親等の親族",{"$f":"IF(様式C_研究責任医師!G43=\"\",\"\",様式C_研究責任医師!G43)","v":""},{"$f":"IF(様式C_研究責任医師!J43=\"\",\"\",様式C_研究責任医師!J43)","v":""},{"$f":"IF(様式C_研究責任医師!M43=\"\",\"\",様式C_研究責任医師!M43)","v":""},{"$f":"IF(様式C_研究責任医師!J43=\"\",\"\",様式C_研究責任医師!J43)","v":""},{"$f":"IF(様式C_研究責任医師!K43=\"\",\"\",様式C_研究責任医師!K43)","v":"役職等の種類"},{"$f":"IF(様式C_研究責任医師!N43=\"\",\"\",様式C_研究責任医師!N43)","v":""}]
[null,null,"Q5.申告者本人又は申告者と生計を同じにする配偶者及びその一親等の親族（親・子）が当該企業等の株式（新株予約権を含む）を保有(公開株式については５％以上、未公開株式は1株以上、新株予約権は１個以上)しているか？あるいは当該企業に出資を行っているか？",null,null,"本人",{"$f":"IF(様式C_研究責任医師!G44=\"\",\"\",様式C_研究責任医師!G44)","v":""},{"$f":"IF(様式C_研究責任医師!J44=\"\",\"\",様式C_研究責任医師!J44)","v":""},{"$f":"IF(様式C_研究責任医師!M44=\"\",\"\",様式C_研究責任医師!M44)","v":""},{"$f":"IF(様式C_研究責任医師!J44=\"\",\"\",様式C_研究責任医師!J44)","v":""},{"$f":"IF(様式C_研究責任医師!K44=\"\",\"\",様式C_研究責任医師!K44)","v":"内容\n（その他を選択の場合は自由記載)\n例：新株予約権と株式の保有"},{"$f":"IF(様式C_研究責任医師!N44=\"\",\"\",様式C_研究責任医師!N44)","v":""}]
[null,null,null,null,null,"申告者と生計を同じにする配偶者及びその一親等の親族",{"$f":"IF(様式C_研究責任医師!G45=\"\",\"\",様式C_研究責任医師!G45)","v":""},{"$f":"IF(様式C_研究責任医師!J45=\"\",\"\",様式C_研究責任医師!J45)","v":""},{"$f":"IF(様式C_研究責任医師!M45=\"\",\"\",様式C_研究責任医師!M45)","v":""},{"$f":"IF(様式C_研究責任医師!J45=\"\",\"\",様式C_研究責任医師!J45)","v":""},{"$f":"IF(様式C_研究責任医師!K45=\"\",\"\",様式C_研究責任医師!K45)","v":"内容\n（その他を選択の場合は自由記載)\n例：新株予約権と株式の保有"},{"$f":"IF(様式C_研究責任医師!N45=\"\",\"\",様式C_研究責任医師!N45)","v":""}]
[null,null,"Q6.その他、当該企業等と利益関係があるか？\n\n・　その他とは、寄附講座（親講座）の受入をしている場合や、本研究に関する知的財産に関与している場合",null,null,"本人",{"$f":"IF(様式C_研究責任医師!G46=\"\",\"\",様式C_研究責任医師!G46)","v":""},{"$f":"IF(様式C_研究責任医師!J46=\"\",\"\",様式C_研究責任医師!J46)","v":""},{"$f":"IF(様式C_研究責任医師!M46=\"\",\"\",様式C_研究責任医師!M46)","v":""},{"$f":"IF(様式C_研究責任医師!J46=\"\",\"\",様式C_研究責任医師!J46)","v":""},{"$f":"IF(様式C_研究責任医師!K46=\"\",\"\",様式C_研究責任医師!K46)","v":"内容"},{"$f":"IF(様式C_研究責任医師!N46=\"\",\"\",様式C_研究責任医師!N46)","v":""}]
[null,null,null,null,null,"申告者と生計を同じにする配偶者及びその一親等の親族",{"$f":"IF(様式C_研究責任医師!G47=\"\",\"\",様式C_研究責任医師!G47)","v":""},{"$f":"IF(様式C_研究責任医師!J47=\"\",\"\",様式C_研究責任医師!J47)","v":""},{"$f":"IF(様式C_研究責任医師!M47=\"\",\"\",様式C_研究責任医師!M47)","v":""},{"$f":"IF(様式C_研究責任医師!J47=\"\",\"\",様式C_研究責任医師!J47)","v":""},{"$f":"IF(様式C_研究責任医師!K47=\"\",\"\",様式C_研究責任医師!K47)","v":"内容"},{"$f":"IF(様式C_研究責任医師!N47=\"\",\"\",様式C_研究責任医師!N47)","v":""}]
[]
[null,null,null,null,"本研究対象医薬品等の製造販売業者等名：","②",{"$f":"IF(G25=\"\",\"\",G25)","v":""}]
[]
[null,null,"COI状況の有無",null,null,null,"前年度","当該年度","COI管理計画",null,null,null,"COIについての事実確認","COI管理計画の確認状況","COI管理に対する助言・勧告の内容\n(該当ある場合(自由記載))"]
[null,null,null,null,null,null,"有無","有無"]
[]
[null,null,"Q１．当該企業等から申告者が実質的に使途を決定し得る寄附金の総額が、年間200万円を超えているか？\n・　実質的に使途を決定し得るとは、当該寄附金の管理をするという意味で、受入研究者に申告を求めている。間接経費を除き、直接経費のみを指すものではない。",null,null,null,{"$f":"IF(様式C_研究責任医師!G54=\"\",\"\",様式C_研究責任医師!G54)","v":""},{"$f":"IF(様式C_研究責任医師!J54=\"\",\"\",様式C_研究責任医師!J54)","v":""},{"$f":"IF(様式C_研究責任医師!M54=\"\",\"\",様式C_研究責任医師!M54)","v":""},{"$f":"IF(様式C_研究責任医師!L54=\"\",\"\",様式C_研究責任医師!L54)","v":""},{"$f":"IF(様式C_研究責任医師!M54=\"\",\"\",様式C_研究責任医師!M54)","v":""},{"$f":"IF(様式C_研究責任医師!N54=\"\",\"\",様式C_研究責任医師!N54)","v":""}]
[]
[]
[null,null,"Q２.　当該企業等が提供する寄附講座に所属しているか？\n\n・　寄附講座の資金から給与を取得しているか否かに関わらない。",null,null,"本人",{"$f":"IF(様式C_研究責任医師!G56=\"\",\"\",様式C_研究責任医師!G56)","v":""},{"$f":"IF(様式C_研究責任医師!J56=\"\",\"\",様式C_研究責任医師!J56)","v":""},{"$f":"IF(様式C_研究責任医師!M56=\"\",\"\",様式C_研究責任医師!M56)","v":""},{"$f":"IF(様式C_研究責任医師!L56=\"\",\"\",様式C_研究責任医師!L56)","v":""},{"$f":"IF(様式C_研究責任医師!M56=\"\",\"\",様式C_研究責任医師!M56)","v":""},{"$f":"IF(様式C_研究責任医師!N56=\"\",\"\",様式C_研究責任医師!N56)","v":""}]
[null,null,null,null,null,"申告者と生計を同じにする配偶者及びその一親等の親族",{"$f":"IF(様式C_研究責任医師!G58=\"\",\"\",様式C_研究責任医師!G58)","v":""},{"$f":"IF(様式C_研究責任医師!J58=\"\",\"\",様式C_研究責任医師!J58)","v":""},{"$f":"IF(様式C_研究責任医師!M58=\"\",\"\",様式C_研究責任医師!M58)","v":""},{"$f":"IF(様式C_研究責任医師!L58=\"\",\"\",様式C_研究責任医師!L58)","v":""},{"$f":"IF(様式C_研究責任医師!M58=\"\",\"\",様式C_研究責任医師!M58)","v":""},{"$f":"IF(様式C_研究責任医師!N58=\"\",\"\",様式C_研究責任医師!N58)","v":""}]
[null,null,"Q3．当該企業等との間に、申告者本人又は申告者と生計を同じにする配偶者及びその一親等の親族（親・子）が年間合計100万円以上の個人的な利益関係があるか？\n\n・　個人的利益関係とは、給与・講演・原稿・コンサルティング・ライセンス・贈答・接遇等による収入。",null,null,"本人",{"$f":"IF(様式C_研究責任医師!G60=\"\",\"\",様式C_研究責任医師!G60)","v":""},{"$f":"IF(様式C_研究責任医師!J60=\"\",\"\",様式C_研究責任医師!J60)","v":""},{"$f":"IF(様式C_研究責任医師!M60=\"\",\"\",様式C_研究責任医師!M60)","v":""},{"$f":"IF(様式C_研究責任医師!L60=\"\",\"\",様式C_研究責任医師!L60)","v":""},{"$f":"IF(様式C_研究責任医師!M60=\"\",\"\",様式C_研究責任医師!M60)","v":""},{"$f":"IF(様式C_研究責任医師!N60=\"\",\"\",様式C_研究責任医師!N60)","v":""}]
[null,null,null,null,null,"申告者と生計を同じにする配偶者及びその一親等の親族",{"$f":"IF(様式C_研究責任医師!G62=\"\",\"\",様式C_研究責任医師!G62)","v":""},{"$f":"IF(様式C_研究責任医師!J62=\"\",\"\",様式C_研究責任医師!J62)","v":""},{"$f":"IF(様式C_研究責任医師!M62=\"\",\"\",様式C_研究責任医師!M62)","v":""},{"$f":"IF(様式C_研究責任医師!L62=\"\",\"\",様式C_研究責任医師!L62)","v":""},{"$f":"IF(様式C_研究責任医師!M62=\"\",\"\",様式C_研究責任医師!M62)","v":""},{"$f":"IF(様式C_研究責任医師!N62=\"\",\"\",様式C_研究責任医師!N62)","v":""}]
[null,null,"Q4．当該企業等の役員等に、申告者本人又は申告者と生計を同じにする配偶者及びその一親等の親族（親・子）が就任しているか？\n\n・　役員等とは、株式会社の代表取締役・取締役、合同会社の代表者等、代表権限を有する者、監査役。",null,null,"本人",{"$f":"IF(様式C_研究責任医師!G64=\"\",\"\",様式C_研究責任医師!G64)","v":""},{"$f":"IF(様式C_研究責任医師!J64=\"\",\"\",様式C_研究責任医師!J64)","v":""},{"$f":"IF(様式C_研究責任医師!M64=\"\",\"\",様式C_研究責任医師!M64)","v":""},{"$f":"IF(様式C_研究責任医師!L64=\"\",\"\",様式C_研究責任医師!L64)","v":""},{"$f":"IF(様式C_研究責任医師!M64=\"\",\"\",様式C_研究責任医師!M64)","v":""},{"$f":"IF(様式C_研究責任医師!N64=\"\",\"\",様式C_研究責任医師!N64)","v":""}]
[null,null,null,null,null,"申告者と生計を同じにする配偶者及びその一親等の親族",{"$f":"IF(様式C_研究責任医師!G65=\"\",\"\",様式C_研究責任医師!G65)","v":""},{"$f":"IF(様式C_研究責任医師!J65=\"\",\"\",様式C_研究責任医師!J65)","v":""},{"$f":"IF(様式C_研究責任医師!M65=\"\",\"\",様式C_研究責任医師!M65)","v":""},{"$f":"IF(様式C_研究責任医師!L65=\"\",\"\",様式C_研究責任医師!L65)","v":""},{"$f":"IF(様式C_研究責任医師!M65=\"\",\"\",様式C_研究責任医師!M65)","v":""},{"$f":"IF(様式C_研究責任医師!N65=\"\",\"\",様式C_研究責任医師!N65)","v":""}]
[null,null,"Q5.申告者本人又は申告者と生計を同じにする配偶者及びその一親等の親族（親・子）が当該企業等の株式（新株予約権を含む）を保有(公開株式については５％以上、未公開株式は1株以上、新株予約権は１個以上)しているか？あるいは当該企業に出資を行っているか？",null,null,"本人",{"$f":"IF(様式C_研究責任医師!G66=\"\",\"\",様式C_研究責任医師!G66)","v":""},{"$f":"IF(様式C_研究責任医師!J66=\"\",\"\",様式C_研究責任医師!J66)","v":""},{"$f":"IF(様式C_研究責任医師!M66=\"\",\"\",様式C_研究責任医師!M66)","v":""},{"$f":"IF(様式C_研究責任医師!L66=\"\",\"\",様式C_研究責任医師!L66)","v":""},{"$f":"IF(様式C_研究責任医師!M66=\"\",\"\",様式C_研究責任医師!M66)","v":""},{"$f":"IF(様式C_研究責任医師!N66=\"\",\"\",様式C_研究責任医師!N66)","v":""}]
[null,null,null,null,null,"申告者と生計を同じにする配偶者及びその一親等の親族",{"$f":"IF(様式C_研究責任医師!G67=\"\",\"\",様式C_研究責任医師!G67)","v":""},{"$f":"IF(様式C_研究責任医師!J67=\"\",\"\",様式C_研究責任医師!J67)","v":""},{"$f":"IF(様式C_研究責任医師!M67=\"\",\"\",様式C_研究責任医師!M67)","v":""},{"$f":"IF(様式C_研究責任医師!L67=\"\",\"\",様式C_研究責任医師!L67)","v":""},{"$f":"IF(様式C_研究責任医師!M67=\"\",\"\",様式C_研究責任医師!M67)","v":""},{"$f":"IF(様式C_研究責任医師!N67=\"\",\"\",様式C_研究責任医師!N67)","v":""}]
[null,null,"Q6.その他、当該企業等と利益関係があるか？\n\n・　その他とは、寄附講座（親講座）の受入をしている場合や、本研究に関する知的財産に関与している場合",null,null,"本人",{"$f":"IF(様式C_研究責任医師!G68=\"\",\"\",様式C_研究責任医師!G68)","v":""},{"$f":"IF(様式C_研究責任医師!J68=\"\",\"\",様式C_研究責任医師!J68)","v":""},{"$f":"IF(様式C_研究責任医師!M68=\"\",\"\",様式C_研究責任医師!M68)","v":""},{"$f":"IF(様式C_研究責任医師!L68=\"\",\"\",様式C_研究責任医師!L68)","v":""},{"$f":"IF(様式C_研究責任医師!M68=\"\",\"\",様式C_研究責任医師!M68)","v":""},{"$f":"IF(様式C_研究責任医師!N68=\"\",\"\",様式C_研究責任医師!N68)","v":""}]
[null,null,null,null,null,"申告者と生計を同じにする配偶者及びその一親等の親族",{"$f":"IF(様式C_研究責任医師!G69=\"\",\"\",様式C_研究責任医師!G69)","v":""},{"$f":"IF(様式C_研究責任医師!J69=\"\",\"\",様式C_研究責任医師!J69)","v":""},{"$f":"IF(様式C_研究責任医師!M69=\"\",\"\",様式C_研究責任医師!M69)","v":""},{"$f":"IF(様式C_研究責任医師!L69=\"\",\"\",様式C_研究責任医師!L69)","v":""},{"$f":"IF(様式C_研究責任医師!M69=\"\",\"\",様式C_研究責任医師!M69)","v":""},{"$f":"IF(様式C_研究責任医師!N69=\"\",\"\",様式C_研究責任医師!N69)","v":""}]
[]
[null,null,null,null,"本研究対象医薬品等の製造販売業者等名：","③",{"$f":"IF(G26=\"\",\"\",G26)","v":""}]
[]
[null,null,"COI状況の有無",null,null,null,"前年度","当該年度","COI管理計画",null,null,null,"COIについての事実確認","COI管理計画の確認状況","COI管理に対する助言・勧告の内容\n(該当ある場合(自由記載))"]
[null,null,null,null,null,null,"有無","有無"]
[]
[null,null,"Q１．当該企業等から申告者が実質的に使途を決定し得る寄附金の総額が、年間200万円を超えているか？\n・　実質的に使途を決定し得るとは、当該寄附金の管理をするという意味で、受入研究者に申告を求めている。間接経費を除き、直接経費のみを指すものではない。",null,null,null,{"$f":"IF(様式C_研究責任医師!G76=\"\",\"\",様式C_研究責任医師!G76)","v":""},{"$f":"IF(様式C_研究責任医師!J76=\"\",\"\",様式C_研究責任医師!J76)","v":""},{"$f":"IF(様式C_研究責任医師!M76=\"\",\"\",様式C_研究責任医師!M76)","v":""},{"$f":"IF(様式C_研究責任医師!L76=\"\",\"\",様式C_研究責任医師!L76)","v":""},{"$f":"IF(様式C_研究責任医師!M76=\"\",\"\",様式C_研究責任医師!M76)","v":""},{"$f":"IF(様式C_研究責任医師!N76=\"\",\"\",様式C_研究責任医師!N76)","v":""}]
[]
[]
[null,null,"Q２.　当該企業等が提供する寄附講座に所属しているか？\n\n・　寄附講座の資金から給与を取得しているか否かに関わらない。",null,null,"本人",{"$f":"IF(様式C_研究責任医師!G78=\"\",\"\",様式C_研究責任医師!G78)","v":""},{"$f":"IF(様式C_研究責任医師!J78=\"\",\"\",様式C_研究責任医師!J78)","v":""},{"$f":"IF(様式C_研究責任医師!M78=\"\",\"\",様式C_研究責任医師!M78)","v":""},{"$f":"IF(様式C_研究責任医師!L78=\"\",\"\",様式C_研究責任医師!L78)","v":""},{"$f":"IF(様式C_研究責任医師!M78=\"\",\"\",様式C_研究責任医師!M78)","v":""},{"$f":"IF(様式C_研究責任医師!N78=\"\",\"\",様式C_研究責任医師!N78)","v":""}]
[null,null,null,null,null,"申告者と生計を同じにする配偶者及びその一親等の親族",{"$f":"IF(様式C_研究責任医師!G80=\"\",\"\",様式C_研究責任医師!G80)","v":""},{"$f":"IF(様式C_研究責任医師!J80=\"\",\"\",様式C_研究責任医師!J80)","v":""},{"$f":"IF(様式C_研究責任医師!M80=\"\",\"\",様式C_研究責任医師!M80)","v":""},{"$f":"IF(様式C_研究責任医師!L80=\"\",\"\",様式C_研究責任医師!L80)","v":""},{"$f":"IF(様式C_研究責任医師!M80=\"\",\"\",様式C_研究責任医師!M80)","v":""},{"$f":"IF(様式C_研究責任医師!N80=\"\",\"\",様式C_研究責任医師!N80)","v":""}]
[null,null,"Q3．当該企業等との間に、申告者本人又は申告者と生計を同じにする配偶者及びその一親等の親族（親・子）が年間合計100万円以上の個人的な利益関係があるか？\n\n・　個人的利益関係とは、給与・講演・原稿・コンサルティング・ライセンス・贈答・接遇等による収入。",null,null,"本人",{"$f":"IF(様式C_研究責任医師!G82=\"\",\"\",様式C_研究責任医師!G82)","v":""},{"$f":"IF(様式C_研究責任医師!J82=\"\",\"\",様式C_研究責任医師!J82)","v":""},{"$f":"IF(様式C_研究責任医師!M82=\"\",\"\",様式C_研究責任医師!M82)","v":""},{"$f":"IF(様式C_研究責任医師!L82=\"\",\"\",様式C_研究責任医師!L82)","v":""},{"$f":"IF(様式C_研究責任医師!M82=\"\",\"\",様式C_研究責任医師!M82)","v":""},{"$f":"IF(様式C_研究責任医師!N82=\"\",\"\",様式C_研究責任医師!N82)","v":""}]
[null,null,null,null,null,"申告者と生計を同じにする配偶者及びその一親等の親族",{"$f":"IF(様式C_研究責任医師!G84=\"\",\"\",様式C_研究責任医師!G84)","v":""},{"$f":"IF(様式C_研究責任医師!J84=\"\",\"\",様式C_研究責任医師!J84)","v":""},{"$f":"IF(様式C_研究責任医師!M84=\"\",\"\",様式C_研究責任医師!M84)","v":""},{"$f":"IF(様式C_研究責任医師!L84=\"\",\"\",様式C_研究責任医師!L84)","v":""},{"$f":"IF(様式C_研究責任医師!M84=\"\",\"\",様式C_研究責任医師!M84)","v":""},{"$f":"IF(様式C_研究責任医師!N84=\"\",\"\",様式C_研究責任医師!N84)","v":""}]
[null,null,"Q4．当該企業等の役員等に、申告者本人又は申告者と生計を同じにする配偶者及びその一親等の親族（親・子）が就任しているか？\n\n・　役員等とは、株式会社の代表取締役・取締役、合同会社の代表者等、代表権限を有する者、監査役。",null,null,"本人",{"$f":"IF(様式C_研究責任医師!G86=\"\",\"\",様式C_研究責任医師!G86)","v":""},{"$f":"IF(様式C_研究責任医師!J86=\"\",\"\",様式C_研究責任医師!J86)","v":""},{"$f":"IF(様式C_研究責任医師!M86=\"\",\"\",様式C_研究責任医師!M86)","v":""},{"$f":"IF(様式C_研究責任医師!L86=\"\",\"\",様式C_研究責任医師!L86)","v":""},{"$f":"IF(様式C_研究責任医師!M86=\"\",\"\",様式C_研究責任医師!M86)","v":""},{"$f":"IF(様式C_研究責任医師!N86=\"\",\"\",様式C_研究責任医師!N86)","v":""}]
[null,null,null,null,null,"申告者と生計を同じにする配偶者及びその一親等の親族",{"$f":"IF(様式C_研究責任医師!G87=\"\",\"\",様式C_研究責任医師!G87)","v":""},{"$f":"IF(様式C_研究責任医師!J87=\"\",\"\",様式C_研究責任医師!J87)","v":""},{"$f":"IF(様式C_研究責任医師!M87=\"\",\"\",様式C_研究責任医師!M87)","v":""},{"$f":"IF(様式C_研究責任医師!L87=\"\",\"\",様式C_研究責任医師!L87)","v":""},{"$f":"IF(様式C_研究責任医師!M87=\"\",\"\",様式C_研究責任医師!M87)","v":""},{"$f":"IF(様式C_研究責任医師!N87=\"\",\"\",様式C_研究責任医師!N87)","v":""}]
[null,null,"Q5.申告者本人又は申告者と生計を同じにする配偶者及びその一親等の親族（親・子）が当該企業等の株式（新株予約権を含む）を保有(公開株式については５％以上、未公開株式は1株以上、新株予約権は１個以上)しているか？あるいは当該企業に出資を行っているか？",null,null,"本人",{"$f":"IF(様式C_研究責任医師!G88=\"\",\"\",様式C_研究責任医師!G88)","v":""},{"$f":"IF(様式C_研究責任医師!J88=\"\",\"\",様式C_研究責任医師!J88)","v":""},{"$f":"IF(様式C_研究責任医師!M88=\"\",\"\",様式C_研究責任医師!M88)","v":""},{"$f":"IF(様式C_研究責任医師!L88=\"\",\"\",様式C_研究責任医師!L88)","v":""},{"$f":"IF(様式C_研究責任医師!M88=\"\",\"\",様式C_研究責任医師!M88)","v":""},{"$f":"IF(様式C_研究責任医師!N88=\"\",\"\",様式C_研究責任医師!N88)","v":""}]
[null,null,null,null,null,"申告者と生計を同じにする配偶者及びその一親等の親族",{"$f":"IF(様式C_研究責任医師!G89=\"\",\"\",様式C_研究責任医師!G89)","v":""},{"$f":"IF(様式C_研究責任医師!J89=\"\",\"\",様式C_研究責任医師!J89)","v":""},{"$f":"IF(様式C_研究責任医師!M89=\"\",\"\",様式C_研究責任医師!M89)","v":""},{"$f":"IF(様式C_研究責任医師!L89=\"\",\"\",様式C_研究責任医師!L89)","v":""},{"$f":"IF(様式C_研究責任医師!M89=\"\",\"\",様式C_研究責任医師!M89)","v":""},{"$f":"IF(様式C_研究責任医師!N89=\"\",\"\",様式C_研究責任医師!N89)","v":""}]
[null,null,"Q6.その他、当該企業等と利益関係があるか？\n\n・　その他とは、寄附講座（親講座）の受入をしている場合や、本研究に関する知的財産に関与している場合",null,null,"本人",{"$f":"IF(様式C_研究責任医師!G90=\"\",\"\",様式C_研究責任医師!G90)","v":""},{"$f":"IF(様式C_研究責任医師!J90=\"\",\"\",様式C_研究責任医師!J90)","v":""},{"$f":"IF(様式C_研究責任医師!M90=\"\",\"\",様式C_研究責任医師!M90)","v":""},{"$f":"IF(様式C_研究責任医師!L90=\"\",\"\",様式C_研究責任医師!L90)","v":""},{"$f":"IF(様式C_研究責任医師!M90=\"\",\"\",様式C_研究責任医師!M90)","v":""},{"$f":"IF(様式C_研究責任医師!N90=\"\",\"\",様式C_研究責任医師!N90)","v":""}]
[null,null,null,null,null,"申告者と生計を同じにする配偶者及びその一親等の親族",{"$f":"IF(様式C_研究責任医師!G91=\"\",\"\",様式C_研究責任医師!G91)","v":""},{"$f":"IF(様式C_研究責任医師!J91=\"\",\"\",様式C_研究責任医師!J91)","v":""},{"$f":"IF(様式C_研究責任医師!M91=\"\",\"\",様式C_研究責任医師!M91)","v":""},{"$f":"IF(様式C_研究責任医師!L91=\"\",\"\",様式C_研究責任医師!L91)","v":""},{"$f":"IF(様式C_研究責任医師!M91=\"\",\"\",様式C_研究責任医師!M91)","v":""},{"$f":"IF(様式C_研究責任医師!N91=\"\",\"\",様式C_研究責任医師!N91)","v":""}]
[]
[null,null,null,null,"本研究対象医薬品等の製造販売業者等名：","④",{"$f":"IF(G27=\"\",\"\",G27)","v":""}]
[]
[null,null,"COI状況の有無",null,null,null,"前年度","当該年度","COI管理計画",null,null,null,"COIについての事実確認","COI管理計画の確認状況","COI管理に対する助言・勧告の内容\n(該当ある場合(自由記載))"]
[null,null,null,null,null,null,"有無","有無"]
[]
[null,null,"Q１．当該企業等から申告者が実質的に使途を決定し得る寄附金の総額が、年間200万円を超えているか？\n・　実質的に使途を決定し得るとは、当該寄附金の管理をするという意味で、受入研究者に申告を求めている。間接経費を除き、直接経費のみを指すものではない。",null,null,null,{"$f":"IF(様式C_研究責任医師!G98=\"\",\"\",様式C_研究責任医師!G98)","v":""},{"$f":"IF(様式C_研究責任医師!J98=\"\",\"\",様式C_研究責任医師!J98)","v":""},{"$f":"IF(様式C_研究責任医師!M98=\"\",\"\",様式C_研究責任医師!M98)","v":""},{"$f":"IF(様式C_研究責任医師!L98=\"\",\"\",様式C_研究責任医師!L98)","v":""},{"$f":"IF(様式C_研究責任医師!M98=\"\",\"\",様式C_研究責任医師!M98)","v":""},{"$f":"IF(様式C_研究責任医師!N98=\"\",\"\",様式C_研究責任医師!N98)","v":""}]
[]
[]
[null,null,"Q２.　当該企業等が提供する寄附講座に所属しているか？\n\n・　寄附講座の資金から給与を取得しているか否かに関わらない。",null,null,"本人",{"$f":"IF(様式C_研究責任医師!G100=\"\",\"\",様式C_研究責任医師!G100)","v":""},{"$f":"IF(様式C_研究責任医師!J100=\"\",\"\",様式C_研究責任医師!J100)","v":""},{"$f":"IF(様式C_研究責任医師!M100=\"\",\"\",様式C_研究責任医師!M100)","v":""},{"$f":"IF(様式C_研究責任医師!L100=\"\",\"\",様式C_研究責任医師!L100)","v":""},{"$f":"IF(様式C_研究責任医師!M100=\"\",\"\",様式C_研究責任医師!M100)","v":""},{"$f":"IF(様式C_研究責任医師!N100=\"\",\"\",様式C_研究責任医師!N100)","v":""}]
[null,null,null,null,null,"申告者と生計を同じにする配偶者及びその一親等の親族",{"$f":"IF(様式C_研究責任医師!G102=\"\",\"\",様式C_研究責任医師!G102)","v":""},{"$f":"IF(様式C_研究責任医師!J102=\"\",\"\",様式C_研究責任医師!J102)","v":""},{"$f":"IF(様式C_研究責任医師!M102=\"\",\"\",様式C_研究責任医師!M102)","v":""},{"$f":"IF(様式C_研究責任医師!L102=\"\",\"\",様式C_研究責任医師!L102)","v":""},{"$f":"IF(様式C_研究責任医師!M102=\"\",\"\",様式C_研究責任医師!M102)","v":""},{"$f":"IF(様式C_研究責任医師!N102=\"\",\"\",様式C_研究責任医師!N102)","v":""}]
[null,null,"Q3．当該企業等との間に、申告者本人又は申告者と生計を同じにする配偶者及びその一親等の親族（親・子）が年間合計100万円以上の個人的な利益関係があるか？\n\n・　個人的利益関係とは、給与・講演・原稿・コンサルティング・ライセンス・贈答・接遇等による収入。",null,null,"本人",{"$f":"IF(様式C_研究責任医師!G104=\"\",\"\",様式C_研究責任医師!G104)","v":""},{"$f":"IF(様式C_研究責任医師!J104=\"\",\"\",様式C_研究責任医師!J104)","v":""},{"$f":"IF(様式C_研究責任医師!M104=\"\",\"\",様式C_研究責任医師!M104)","v":""},{"$f":"IF(様式C_研究責任医師!L104=\"\",\"\",様式C_研究責任医師!L104)","v":""},{"$f":"IF(様式C_研究責任医師!M104=\"\",\"\",様式C_研究責任医師!M104)","v":""},{"$f":"IF(様式C_研究責任医師!N104=\"\",\"\",様式C_研究責任医師!N104)","v":""}]
[null,null,null,null,null,"申告者と生計を同じにする配偶者及びその一親等の親族",{"$f":"IF(様式C_研究責任医師!G106=\"\",\"\",様式C_研究責任医師!G106)","v":""},{"$f":"IF(様式C_研究責任医師!J106=\"\",\"\",様式C_研究責任医師!J106)","v":""},{"$f":"IF(様式C_研究責任医師!M106=\"\",\"\",様式C_研究責任医師!M106)","v":""},{"$f":"IF(様式C_研究責任医師!L106=\"\",\"\",様式C_研究責任医師!L106)","v":""},{"$f":"IF(様式C_研究責任医師!M106=\"\",\"\",様式C_研究責任医師!M106)","v":""},{"$f":"IF(様式C_研究責任医師!N106=\"\",\"\",様式C_研究責任医師!N106)","v":""}]
[null,null,"Q4．当該企業等の役員等に、申告者本人又は申告者と生計を同じにする配偶者及びその一親等の親族（親・子）が就任しているか？\n\n・　役員等とは、株式会社の代表取締役・取締役、合同会社の代表者等、代表権限を有する者、監査役。",null,null,"本人",{"$f":"IF(様式C_研究責任医師!G108=\"\",\"\",様式C_研究責任医師!G108)","v":""},{"$f":"IF(様式C_研究責任医師!J108=\"\",\"\",様式C_研究責任医師!J108)","v":""},{"$f":"IF(様式C_研究責任医師!M108=\"\",\"\",様式C_研究責任医師!M108)","v":""},{"$f":"IF(様式C_研究責任医師!L108=\"\",\"\",様式C_研究責任医師!L108)","v":""},{"$f":"IF(様式C_研究責任医師!M108=\"\",\"\",様式C_研究責任医師!M108)","v":""},{"$f":"IF(様式C_研究責任医師!N108=\"\",\"\",様式C_研究責任医師!N108)","v":""}]
[null,null,null,null,null,"申告者と生計を同じにする配偶者及びその一親等の親族",{"$f":"IF(様式C_研究責任医師!G109=\"\",\"\",様式C_研究責任医師!G109)","v":""},{"$f":"IF(様式C_研究責任医師!J109=\"\",\"\",様式C_研究責任医師!J109)","v":""},{"$f":"IF(様式C_研究責任医師!M109=\"\",\"\",様式C_研究責任医師!M109)","v":""},{"$f":"IF(様式C_研究責任医師!L109=\"\",\"\",様式C_研究責任医師!L109)","v":""},{"$f":"IF(様式C_研究責任医師!M109=\"\",\"\",様式C_研究責任医師!M109)","v":""},{"$f":"IF(様式C_研究責任医師!N109=\"\",\"\",様式C_研究責任医師!N109)","v":""}]
[null,null,"Q5.申告者本人又は申告者と生計を同じにする配偶者及びその一親等の親族（親・子）が当該企業等の株式（新株予約権を含む）を保有(公開株式については５％以上、未公開株式は1株以上、新株予約権は１個以上)しているか？あるいは当該企業に出資を行っているか？",null,null,"本人",{"$f":"IF(様式C_研究責任医師!G110=\"\",\"\",様式C_研究責任医師!G110)","v":""},{"$f":"IF(様式C_研究責任医師!J110=\"\",\"\",様式C_研究責任医師!J110)","v":""},{"$f":"IF(様式C_研究責任医師!M110=\"\",\"\",様式C_研究責任医師!M110)","v":""},{"$f":"IF(様式C_研究責任医師!L110=\"\",\"\",様式C_研究責任医師!L110)","v":""},{"$f":"IF(様式C_研究責任医師!M110=\"\",\"\",様式C_研究責任医師!M110)","v":""},{"$f":"IF(様式C_研究責任医師!N110=\"\",\"\",様式C_研究責任医師!N110)","v":""}]
[null,null,null,null,null,"申告者と生計を同じにする配偶者及びその一親等の親族",{"$f":"IF(様式C_研究責任医師!G111=\"\",\"\",様式C_研究責任医師!G111)","v":""},{"$f":"IF(様式C_研究責任医師!J111=\"\",\"\",様式C_研究責任医師!J111)","v":""},{"$f":"IF(様式C_研究責任医師!M111=\"\",\"\",様式C_研究責任医師!M111)","v":""},{"$f":"IF(様式C_研究責任医師!L111=\"\",\"\",様式C_研究責任医師!L111)","v":""},{"$f":"IF(様式C_研究責任医師!M111=\"\",\"\",様式C_研究責任医師!M111)","v":""},{"$f":"IF(様式C_研究責任医師!N111=\"\",\"\",様式C_研究責任医師!N111)","v":""}]
[null,null,"Q6.その他、当該企業等と利益関係があるか？\n\n・　その他とは、寄附講座（親講座）の受入をしている場合や、本研究に関する知的財産に関与している場合",null,null,"本人",{"$f":"IF(様式C_研究責任医師!G112=\"\",\"\",様式C_研究責任医師!G112)","v":""},{"$f":"IF(様式C_研究責任医師!J112=\"\",\"\",様式C_研究責任医師!J112)","v":""},{"$f":"IF(様式C_研究責任医師!M112=\"\",\"\",様式C_研究責任医師!M112)","v":""},{"$f":"IF(様式C_研究責任医師!L112=\"\",\"\",様式C_研究責任医師!L112)","v":""},{"$f":"IF(様式C_研究責任医師!M112=\"\",\"\",様式C_研究責任医師!M112)","v":""},{"$f":"IF(様式C_研究責任医師!N112=\"\",\"\",様式C_研究責任医師!N112)","v":""}]
[null,null,null,null,null,"申告者と生計を同じにする配偶者及びその一親等の親族",{"$f":"IF(様式C_研究責任医師!G113=\"\",\"\",様式C_研究責任医師!G113)","v":""},{"$f":"IF(様式C_研究責任医師!J113=\"\",\"\",様式C_研究責任医師!J113)","v":""},{"$f":"IF(様式C_研究責任医師!M113=\"\",\"\",様式C_研究責任医師!M113)","v":""},{"$f":"IF(様式C_研究責任医師!L113=\"\",\"\",様式C_研究責任医師!L113)","v":""},{"$f":"IF(様式C_研究責任医師!M113=\"\",\"\",様式C_研究責任医師!M113)","v":""},{"$f":"IF(様式C_研究責任医師!N113=\"\",\"\",様式C_研究責任医師!N113)","v":""}]
[]
[null,null,null,null,"本研究対象医薬品等の製造販売業者等名：","⑤",{"$f":"IF(G28=\"\",\"\",G28)","v":""}]
[]
[null,null,"COI状況の有無",null,null,null,"前年度","当該年度","COI管理計画",null,null,null,"COIについての事実確認","COI管理計画の確認状況","COI管理に対する助言・勧告の内容\n(該当ある場合(自由記載))"]
[null,null,null,null,null,null,"有無","有無"]
[]
[null,null,"Q１．当該企業等から申告者が実質的に使途を決定し得る寄附金の総額が、年間200万円を超えているか？\n・　実質的に使途を決定し得るとは、当該寄附金の管理をするという意味で、受入研究者に申告を求めている。間接経費を除き、直接経費のみを指すものではない。",null,null,null,{"$f":"IF(様式C_研究責任医師!G120=\"\",\"\",様式C_研究責任医師!G120)","v":""},{"$f":"IF(様式C_研究責任医師!J120=\"\",\"\",様式C_研究責任医師!J120)","v":""},{"$f":"IF(様式C_研究責任医師!M120=\"\",\"\",様式C_研究責任医師!M120)","v":""},{"$f":"IF(様式C_研究責任医師!L120=\"\",\"\",様式C_研究責任医師!L120)","v":""},{"$f":"IF(様式C_研究責任医師!M120=\"\",\"\",様式C_研究責任医師!M120)","v":""},{"$f":"IF(様式C_研究責任医師!N120=\"\",\"\",様式C_研究責任医師!N120)","v":""}]
[]
[]
[null,null,"Q２.　当該企業等が提供する寄附講座に所属しているか？\n\n・　寄附講座の資金から給与を取得しているか否かに関わらない。",null,null,"本人",{"$f":"IF(様式C_研究責任医師!G122=\"\",\"\",様式C_研究責任医師!G122)","v":""},{"$f":"IF(様式C_研究責任医師!J122=\"\",\"\",様式C_研究責任医師!J122)","v":""},{"$f":"IF(様式C_研究責任医師!M122=\"\",\"\",様式C_研究責任医師!M122)","v":""},{"$f":"IF(様式C_研究責任医師!L122=\"\",\"\",様式C_研究責任医師!L122)","v":""},{"$f":"IF(様式C_研究責任医師!M122=\"\",\"\",様式C_研究責任医師!M122)","v":""},{"$f":"IF(様式C_研究責任医師!N122=\"\",\"\",様式C_研究責任医師!N122)","v":""}]
[null,null,null,null,null,"申告者と生計を同じにする配偶者及びその一親等の親族",{"$f":"IF(様式C_研究責任医師!G124=\"\",\"\",様式C_研究責任医師!G124)","v":""},{"$f":"IF(様式C_研究責任医師!J124=\"\",\"\",様式C_研究責任医師!J124)","v":""},{"$f":"IF(様式C_研究責任医師!M124=\"\",\"\",様式C_研究責任医師!M124)","v":""},{"$f":"IF(様式C_研究責任医師!L124=\"\",\"\",様式C_研究責任医師!L124)","v":""},{"$f":"IF(様式C_研究責任医師!M124=\"\",\"\",様式C_研究責任医師!M124)","v":""},{"$f":"IF(様式C_研究責任医師!N124=\"\",\"\",様式C_研究責任医師!N124)","v":""}]
[null,null,"Q3．当該企業等との間に、申告者本人又は申告者と生計を同じにする配偶者及びその一親等の親族（親・子）が年間合計100万円以上の個人的な利益関係があるか？\n\n・　個人的利益関係とは、給与・講演・原稿・コンサルティング・ライセンス・贈答・接遇等による収入。",null,null,"本人",{"$f":"IF(様式C_研究責任医師!G126=\"\",\"\",様式C_研究責任医師!G126)","v":""},{"$f":"IF(様式C_研究責任医師!J126=\"\",\"\",様式C_研究責任医師!J126)","v":""},{"$f":"IF(様式C_研究責任医師!M126=\"\",\"\",様式C_研究責任医師!M126)","v":""},{"$f":"IF(様式C_研究責任医師!L126=\"\",\"\",様式C_研究責任医師!L1306)","v":""},{"$f":"IF(様式C_研究責任医師!M126=\"\",\"\",様式C_研究責任医師!M1306)","v":""},{"$f":"IF(様式C_研究責任医師!N126=\"\",\"\",様式C_研究責任医師!N126)","v":""}]
[null,null,null,null,null,"申告者と生計を同じにする配偶者及びその一親等の親族",{"$f":"IF(様式C_研究責任医師!G128=\"\",\"\",様式C_研究責任医師!G128)","v":""},{"$f":"IF(様式C_研究責任医師!J128=\"\",\"\",様式C_研究責任医師!J128)","v":""},{"$f":"IF(様式C_研究責任医師!M128=\"\",\"\",様式C_研究責任医師!M128)","v":""},{"$f":"IF(様式C_研究責任医師!L128=\"\",\"\",様式C_研究責任医師!L128)","v":""},{"$f":"IF(様式C_研究責任医師!M128=\"\",\"\",様式C_研究責任医師!M128)","v":""},{"$f":"IF(様式C_研究責任医師!N128=\"\",\"\",様式C_研究責任医師!N128)","v":""}]
[null,null,"Q4．当該企業等の役員等に、申告者本人又は申告者と生計を同じにする配偶者及びその一親等の親族（親・子）が就任しているか？\n\n・　役員等とは、株式会社の代表取締役・取締役、合同会社の代表者等、代表権限を有する者、監査役。",null,null,"本人",{"$f":"IF(様式C_研究責任医師!G130=\"\",\"\",様式C_研究責任医師!G130)","v":""},{"$f":"IF(様式C_研究責任医師!J130=\"\",\"\",様式C_研究責任医師!J130)","v":""},{"$f":"IF(様式C_研究責任医師!M130=\"\",\"\",様式C_研究責任医師!M130)","v":""},{"$f":"IF(様式C_研究責任医師!L130=\"\",\"\",様式C_研究責任医師!L130)","v":""},{"$f":"IF(様式C_研究責任医師!M130=\"\",\"\",様式C_研究責任医師!M130)","v":""},{"$f":"IF(様式C_研究責任医師!N130=\"\",\"\",様式C_研究責任医師!N130)","v":""}]
[null,null,null,null,null,"申告者と生計を同じにする配偶者及びその一親等の親族",{"$f":"IF(様式C_研究責任医師!G131=\"\",\"\",様式C_研究責任医師!G131)","v":""},{"$f":"IF(様式C_研究責任医師!J131=\"\",\"\",様式C_研究責任医師!J131)","v":""},{"$f":"IF(様式C_研究責任医師!M131=\"\",\"\",様式C_研究責任医師!M131)","v":""},{"$f":"IF(様式C_研究責任医師!L131=\"\",\"\",様式C_研究責任医師!L131)","v":""},{"$f":"IF(様式C_研究責任医師!M131=\"\",\"\",様式C_研究責任医師!M131)","v":""},{"$f":"IF(様式C_研究責任医師!N131=\"\",\"\",様式C_研究責任医師!N131)","v":""}]
[null,null,"Q5.申告者本人又は申告者と生計を同じにする配偶者及びその一親等の親族（親・子）が当該企業等の株式（新株予約権を含む）を保有(公開株式については５％以上、未公開株式は1株以上、新株予約権は１個以上)しているか？あるいは当該企業に出資を行っているか？",null,null,"本人",{"$f":"IF(様式C_研究責任医師!G132=\"\",\"\",様式C_研究責任医師!G132)","v":""},{"$f":"IF(様式C_研究責任医師!J132=\"\",\"\",様式C_研究責任医師!J132)","v":""},{"$f":"IF(様式C_研究責任医師!M132=\"\",\"\",様式C_研究責任医師!M132)","v":""},{"$f":"IF(様式C_研究責任医師!L132=\"\",\"\",様式C_研究責任医師!L132)","v":""},{"$f":"IF(様式C_研究責任医師!M132=\"\",\"\",様式C_研究責任医師!M132)","v":""},{"$f":"IF(様式C_研究責任医師!N132=\"\",\"\",様式C_研究責任医師!N132)","v":""}]
[null,null,null,null,null,"申告者と生計を同じにする配偶者及びその一親等の親族",{"$f":"IF(様式C_研究責任医師!G133=\"\",\"\",様式C_研究責任医師!G133)","v":""},{"$f":"IF(様式C_研究責任医師!J133=\"\",\"\",様式C_研究責任医師!J133)","v":""},{"$f":"IF(様式C_研究責任医師!M133=\"\",\"\",様式C_研究責任医師!M133)","v":""},{"$f":"IF(様式C_研究責任医師!L133=\"\",\"\",様式C_研究責任医師!L133)","v":""},{"$f":"IF(様式C_研究責任医師!M133=\"\",\"\",様式C_研究責任医師!M133)","v":""},{"$f":"IF(様式C_研究責任医師!N133=\"\",\"\",様式C_研究責任医師!N133)","v":""}]
[null,null,"Q6.その他、当該企業等と利益関係があるか？\n\n・　その他とは、寄附講座（親講座）の受入をしている場合や、本研究に関する知的財産に関与している場合",null,null,"本人",{"$f":"IF(様式C_研究責任医師!G134=\"\",\"\",様式C_研究責任医師!G134)","v":""},{"$f":"IF(様式C_研究責任医師!J134=\"\",\"\",様式C_研究責任医師!J134)","v":""},{"$f":"IF(様式C_研究責任医師!M134=\"\",\"\",様式C_研究責任医師!M134)","v":""},{"$f":"IF(様式C_研究責任医師!L134=\"\",\"\",様式C_研究責任医師!L134)","v":""},{"$f":"IF(様式C_研究責任医師!M134=\"\",\"\",様式C_研究責任医師!M134)","v":""},{"$f":"IF(様式C_研究責任医師!N134=\"\",\"\",様式C_研究責任医師!N134)","v":""}]
[null,null,null,null,null,"申告者と生計を同じにする配偶者及びその一親等の親族",{"$f":"IF(様式C_研究責任医師!G135=\"\",\"\",様式C_研究責任医師!G135)","v":""},{"$f":"IF(様式C_研究責任医師!J135=\"\",\"\",様式C_研究責任医師!J135)","v":""},{"$f":"IF(様式C_研究責任医師!M135=\"\",\"\",様式C_研究責任医師!M135)","v":""},{"$f":"IF(様式C_研究責任医師!L135=\"\",\"\",様式C_研究責任医師!L135)","v":""},{"$f":"IF(様式C_研究責任医師!M135=\"\",\"\",様式C_研究責任医師!M135)","v":""},{"$f":"IF(様式C_研究責任医師!N135=\"\",\"\",様式C_研究責任医師!N135)","v":""}]

{"sheet":"様式D_研究分担医師等","index":5,"n_rows":114,"n_cols":15,"rows_kept":114,"cut":false,"hidden":false,"merged":[[0,4,0,12],[6,3,6,4],[2,2,3,14],[13,6,13,8],[13,9,13,14],[30,8,30,10],[5,11,5,14],[6,11,6,14],[4,3,5,7],[13,2,17,4],[22,8,24,11],[16,6,16,8],[16,9,16,14],[17,6,17,8],[17,9,17,14],[15,6,15,8],[15,9,15,14],[10,6,11,9],[10,10,11,14],[14,9,14,14],[8,3,8,4],[9,3,9,4],[10,3,10,4],[19,2,19,4],[28,8,28,10],[14,6,14,8],[28,2,29,4],[20,6,20,14],[25,8,27,10],[25,2,27,5],[22,2,24,5],[25,11,27,11],[25,12,27,12],[34,2,35,4],[34,8,34,10],[22,14,24,14],[23,6,24,6],[23,7,24,7],[22,12,24,12],[22,13,24,13],[25,13,27,13],[25,14,27,14],[35,8,35,10],[29,8,29,10],[25,6,27,6],[25,7,27,7],[32,2,33,4],[30,2,31,4],[32,8,32,10],[33,8,33,10],[31,8,31,10],[44,14,46,14],[44,12,46,12],[44,11,46,11],[44,13,46,13],[41,8,43,11],[39,6,39,14],[41,13,43,13],[41,14,43,14],[42,6,43,6],[42,7,43,7],[36,8,36,10],[37,8,37,10],[49,8,49,10],[50,8,50,10],[41,12,43,12],[36,2,37,4],[47,2,48,4],[47,8,47,10],[48,8,48,10],[44,2,46,5],[49,2,50,4],[63,7,65,7],[55,2,56,4],[55,8,55,10],[56,8,56,10],[44,7,46,7],[41,2,43,5],[61,6,62,6],[44,8,46,10],[53,2,54,4],[53,8,53,10],[54,8,54,10],[51,2,52,4],[51,8,51,10],[52,8,52,10],[44,6,46,6],[63,13,65,13],[63,14,65,14],[66,2,67,4],[66,8,66,10],[67,8,67,10],[63,2,65,5],[63,6,65,6],[63,11,65,11],[58,6,58,14],[60,2,62,5],[60,12,62,12],[60,13,62,13],[60,14,62,14],[63,8,65,10],[63,12,65,12],[68,2,69,4],[68,8,68,10],[69,8,69,10],[70,2,71,4],[70,8,70,10],[71,8,71,10],[61,7,62,7],[60,8,62,11],[72,2,73,4],[72,8,72,10],[73,8,73,10],[74,2,75,4],[74,8,74,10],[75,8,75,10],[77,6,77,14],[79,2,81,5],[79,12,81,12],[85,2,86,4],[85,8,85,10],[86,8,86,10],[82,2,84,5],[82,6,84,6],[82,7,84,7],[82,8,84,10],[79,13,81,13],[79,14,81,14],[80,6,81,6],[80,7,81,7],[79,8,81,11],[82,14,84,14],[82,12,84,12],[82,11,84,11],[82,13,84,13],[93,8,93,10],[94,8,94,10],[98,13,100,13],[96,6,96,14],[98,2,100,5],[98,12,100,12],[91,2,92,4],[87,2,88,4],[87,8,87,10],[88,8,88,10],[89,2,90,4],[89,8,89,10],[90,8,90,10],[112,2,113,4],[112,8,112,10],[113,8,113,10],[106,2,107,4],[106,8,106,10],[107,8,107,10],[108,2,109,4],[108,8,108,10],[109,8,109,10],[7,11,7,14],[8,11,8,14],[4,11,4,14],[110,2,111,4],[110,8,110,10],[111,8,111,10],[104,2,105,4],[104,8,104,10],[105,8,105,10],[101,2,103,5],[101,6,103,6],[101,7,103,7],[101,8,103,10],[98,14,100,14],[99,6,100,6],[99,7,100,7],[98,8,100,11],[101,14,103,14],[101,12,103,12],[101,11,103,11],[101,13,103,13],[91,8,91,10],[92,8,92,10],[93,2,94,4]]}
[null,null,null,null,"様式D＜研究分担医師等用＞　利益相反状況確認報告書",null,null,null,null,null,null,null,null,null,"ver.2.2"]
[null,null,"研究責任医師殿"]
[null,null,"本研究課題と関わりのある企業等との関係について、下記の通り報告すると共に、当該企業等との利益相反の有無、及び利益相反管理計画、事実確認の結果等について述べます。"]
[]
[null,null,null,{"$f":"IF(様式B!E5=\"\",\"\",様式B!E5)","v":""},null,null,null,null,null,null,"日　　付"]
[null,null,"本研究課題：",null,null,null,null,null,null,null,"実施医療機関名 あるいは 所属機関名"]
[null,null,"研究責任医師名：",{"$f":"IF(様式C_研究責任医師!M7=\"\",\"\",様式B!M8)","v":""},null,null,null,null,null,null,"実施医療機関の長の氏名 あるいは \n所属機関の長の氏名"]
[null,null,"被確認者：",null,null,null,null,null,null,null,"作成者氏名"]
[null,null,"所属機関",{"$f":"IF(様式C_研究分担医師等!L5=\"\",\"\",様式C_研究分担医師等!L5)","v":""},null,null,null,null,null,null,"作成者連絡先メールアドレス"]
[null,null,"立　  場",{"$f":"IF(様式C_研究分担医師等!L7=\"\",\"\",様式C_研究分担医師等!L7)","v":""},null,null,"【特記事項(任意)】（様式Cより）",null,null,null,"【特記事項(任意)】 例：研究分担医師が実施機関の管理者のため、他の者が確認を行った"]
[null,null,"氏　　名",{"$f":"IF(様式C_研究分担医師等!L8=\"\",\"\",様式C_研究分担医師等!L8)","v":""},null,null,{"$f":"IF(様式C_研究分担医師等!L11=\"\",\"\",様式C_研究分担医師等!L11)","v":""}]
[]
[null,null,"1. 本研究対象医薬品等の製造販売業者等について：（記載不要）様式BのQ1に該当、記載された内容が自動的に反映されます"]
[null,null,"本研究は、 企業等が製造販売する、もしくは製造販売しようとする医薬品薬剤・医療機器等を用いている。(様式BのQ1)",null,null,"①",{"$f":"IF(様式B!H12=\"\",\"\",様式B!H12)","v":""},null,null,{"$f":"IF(G14=\"\",\"\",\"本研究対象薬剤・機器名：\"&様式B!J12)","v":""}]
[null,null,null,null,null,"②",{"$f":"IF(様式B!H13=\"\",\"\",様式B!H13)","v":""},null,null,{"$f":"IF(G15=\"\",\"\",\"本研究対象薬剤・機器名：\"&様式B!J13)","v":""}]
[null,null,null,null,null,"③",{"$f":"IF(様式B!H14=\"\",\"\",様式B!H14)","v":""},null,null,{"$f":"IF(G16=\"\",\"\",\"本研究対象薬剤・機器名：\"&様式B!J14)","v":""}]
[null,null,null,null,null,"④",{"$f":"IF(様式B!H15=\"\",\"\",様式B!H15)","v":""},null,null,{"$f":"IF(G17=\"\",\"\",\"本研究対象薬剤・機器名：\"&様式B!J15)","v":""}]
[null,null,null,null,null,"⑤",{"$f":"IF(様式B!H16=\"\",\"\",様式B!H16)","v":""},null,null,{"$f":"IF(G18=\"\",\"\",\"本研究対象薬剤・機器名：\"&様式B!J16)","v":""}]
[]
[null,null,"2. 本研究対象医薬品等の製造販売業者等との利益相反報告"]
[null,null,null,null,"本研究対象医薬品等の製造販売業者等名：","①",{"$f":"IF(G14=\"\",\"\",G14)","v":""}]
[]
[null,null,"COI状況の有無",null,null,null,"前年度","当該年度","COI管理計画",null,null,null,"COIについての事実確認","COI管理計画の確認状況","COI管理に対する助言・勧告の内容\n(該当ある場合(自由記載))"]
[null,null,null,null,null,null,"有無","有無"]
[]
[null,null,"Q１．当該企業等から申告者が実質的に使途を決定し得る寄附金の総額が、年間200万円を超えているか？\n・　実質的に使途を決定し得るとは、当該寄附金の管理をするという意味で、受入研究者に申告を求めている。間接経費を除き、直接経費のみを指すものではない。\n※寄附金については、過去に受入れた寄附金以外は使うことができません。",null,null,null,{"$f":"IF(様式C_研究分担医師等!F25=\"\",\"\",様式C_研究分担医師等!F25)","v":""},{"$f":"IF(様式C_研究分担医師等!I25=\"\",\"\",様式C_研究分担医師等!I25)","v":""},{"$f":"IF(様式C_研究分担医師等!L25=\"\",\"\",様式C_研究分担医師等!L25)","v":""},{"$f":"IF(様式C_研究分担医師等!K25=\"\",\"\",様式C_研究分担医師等!K25)","v":""},{"$f":"IF(様式C_研究分担医師等!L25=\"\",\"\",様式C_研究分担医師等!L25)","v":""},{"$f":"IF(様式C_研究分担医師等!M25=\"\",\"\",様式C_研究分担医師等!M25)","v":""}]
[]
[]
[null,null,"Q２.　当該企業等が提供する寄附講座に所属しているか？\n\n・　寄附講座の資金から給与を取得しているか否かに関わらない。",null,null,"本人",{"$f":"IF(様式C_研究分担医師等!F27=\"\",\"\",様式C_研究分担医師等!F27)","v":""},{"$f":"IF(様式C_研究分担医師等!I27=\"\",\"\",様式C_研究分担医師等!I27)","v":""},{"$f":"IF(様式C_研究分担医師等!L27=\"\",\"\",様式C_研究分担医師等!L27)","v":""},{"$f":"IF(様式C_研究分担医師等!K27=\"\",\"\",様式C_研究分担医師等!K27)","v":""},{"$f":"IF(様式C_研究分担医師等!L27=\"\",\"\",様式C_研究分担医師等!L27)","v":""},{"$f":"IF(様式C_研究分担医師等!M27=\"\",\"\",様式C_研究分担医師等!M27)","v":""}]
[null,null,null,null,null,"申告者と生計を同じにする配偶者及びその一親等の親族",{"$f":"IF(様式C_研究分担医師等!F29=\"\",\"\",様式C_研究分担医師等!F29)","v":""},{"$f":"IF(様式C_研究分担医師等!I29=\"\",\"\",様式C_研究分担医師等!I29)","v":""},{"$f":"IF(様式C_研究分担医師等!L29=\"\",\"\",様式C_研究分担医師等!L29)","v":""},{"$f":"IF(様式C_研究分担医師等!K29=\"\",\"\",様式C_研究分担医師等!K29)","v":""},{"$f":"IF(様式C_研究分担医師等!L29=\"\",\"\",様式C_研究分担医師等!L29)","v":""},{"$f":"IF(様式C_研究分担医師等!M29=\"\",\"\",様式C_研究分担医師等!M29)","v":""}]
[null,null,"Q3．当該企業等との間に、申告者本人又は申告者と生計を同じにする配偶者及びその一親等の親族（親・子）が年間合計100万円以上の個人的な利益関係があるか？\n\n・　個人的利益関係とは、給与・講演・原稿・コンサルティング・ライセンス・贈答・接遇等による収入。",null,null,"本人",{"$f":"IF(様式C_研究分担医師等!F31=\"\",\"\",様式C_研究分担医師等!F31)","v":""},{"$f":"IF(様式C_研究分担医師等!I31=\"\",\"\",様式C_研究分担医師等!I31)","v":""},{"$f":"IF(様式C_研究分担医師等!L31=\"\",\"\",様式C_研究分担医師等!L31)","v":""},{"$f":"IF(様式C_研究分担医師等!K31=\"\",\"\",様式C_研究分担医師等!K31)","v":""},{"$f":"IF(様式C_研究分担医師等!L31=\"\",\"\",様式C_研究分担医師等!L31)","v":""},{"$f":"IF(様式C_研究分担医師等!M31=\"\",\"\",様式C_研究分担医師等!M31)","v":""}]
[null,null,null,null,null,"申告者と生計を同じにする配偶者及びその一親等の親族",{"$f":"IF(様式C_研究分担医師等!F33=\"\",\"\",様式C_研究分担医師等!F33)","v":""},{"$f":"IF(様式C_研究分担医師等!I33=\"\",\"\",様式C_研究分担医師等!I33)","v":""},{"$f":"IF(G32=\"はい\",VLOOKUP(\"基準1\",基準選択肢C,2,FALSE),IF(H32=\"はい\",VLOOKUP(\"基準1\",基準選択肢C,2,FALSE),\"\"))","v":""},null,null,{"$f":"IF(G32=\"はい\",\"基準1\",IF(H32=\"はい\",\"基準1\",\"\"))","v":""}]
[null,null,"Q4．当該企業等の役員等に、申告者本人又は申告者と生計を同じにする配偶者及びその一親等の親族\n（親・子）が就任しているか？\n\n・　役員等とは、株式会社の代表取締役・取締役、合同会社の代表者等、代表権限を有する者、監査役。",null,null,"本人",{"$f":"IF(様式C_研究分担医師等!F35=\"\",\"\",様式C_研究分担医師等!F35)","v":""},{"$f":"IF(様式C_研究分担医師等!I35=\"\",\"\",様式C_研究分担医師等!I35)","v":""},{"$f":"IF(様式C_研究分担医師等!L35=\"\",\"\",様式C_研究分担医師等!L35)","v":""},{"$f":"IF(様式C_研究分担医師等!K35=\"\",\"\",様式C_研究分担医師等!K35)","v":""},{"$f":"IF(様式C_研究分担医師等!L35=\"\",\"\",様式C_研究分担医師等!L35)","v":""},{"$f":"IF(様式C_研究分担医師等!M35=\"\",\"\",様式C_研究分担医師等!M35)","v":""}]
[null,null,null,null,null,"申告者と生計を同じにする配偶者及びその一親等の親族",{"$f":"IF(様式C_研究分担医師等!F36=\"\",\"\",様式C_研究分担医師等!F36)","v":""},{"$f":"IF(様式C_研究分担医師等!I36=\"\",\"\",様式C_研究分担医師等!I36)","v":""},{"$f":"IF(様式C_研究分担医師等!L36=\"\",\"\",様式C_研究分担医師等!L36)","v":""},{"$f":"IF(様式C_研究分担医師等!K36=\"\",\"\",様式C_研究分担医師等!K36)","v":""},{"$f":"IF(様式C_研究分担医師等!L36=\"\",\"\",様式C_研究分担医師等!L36)","v":""},{"$f":"IF(様式C_研究分担医師等!M36=\"\",\"\",様式C_研究分担医師等!M36)","v":""}]
[null,null,"Q5.申告者本人又は申告者と生計を同じにする配偶者及びその一親等の親族（親・子）が当該企業等の株式（新株予約権を含む）を保有(公開株式については５％以上、未公開株式は1株以上、新株予約権は１個以上)しているか？あるいは当該企業に出資を行っているか？",null,null,"本人",{"$f":"IF(様式C_研究分担医師等!F37=\"\",\"\",様式C_研究分担医師等!F37)","v":""},{"$f":"IF(様式C_研究分担医師等!I37=\"\",\"\",様式C_研究分担医師等!I37)","v":""},{"$f":"IF(様式C_研究分担医師等!L37=\"\",\"\",様式C_研究分担医師等!L37)","v":""},{"$f":"IF(様式C_研究分担医師等!K37=\"\",\"\",様式C_研究分担医師等!K37)","v":""},{"$f":"IF(様式C_研究分担医師等!L37=\"\",\"\",様式C_研究分担医師等!L37)","v":""},{"$f":"IF(様式C_研究分担医師等!M37=\"\",\"\",様式C_研究分担医師等!M37)","v":""}]
[null,null,null,null,null,"申告者と生計を同じにする配偶者及びその一親等の親族",{"$f":"IF(様式C_研究分担医師等!F38=\"\",\"\",様式C_研究分担医師等!F38)","v":""},{"$f":"IF(様式C_研究分担医師等!I38=\"\",\"\",様式C_研究分担医師等!I38)","v":""},{"$f":"IF(様式C_研究分担医師等!L38=\"\",\"\",様式C_研究分担医師等!L38)","v":""},{"$f":"IF(様式C_研究分担医師等!K38=\"\",\"\",様式C_研究分担医師等!K38)","v":""},{"$f":"IF(様式C_研究分担医師等!L38=\"\",\"\",様式C_研究分担医師等!L38)","v":""},{"$f":"IF(様式C_研究分担医師等!M38=\"\",\"\",様式C_研究分担医師等!M38)","v":""}]
[null,null,"Q6.その他、当該企業等と利益関係があるか？\n\n・　その他とは、寄附講座（親講座）の受入をしている場合や、本研究に関する知的財産に関与している場合",null,null,"本人",{"$f":"IF(様式C_研究分担医師等!F39=\"\",\"\",様式C_研究分担医師等!F39)","v":""},{"$f":"IF(様式C_研究分担医師等!I39=\"\",\"\",様式C_研究分担医師等!I39)","v":""},{"$f":"IF(様式C_研究分担医師等!L39=\"\",\"\",様式C_研究分担医師等!L39)","v":""},{"$f":"IF(様式C_研究分担医師等!K39=\"\",\"\",様式C_研究分担医師等!K39)","v":""},{"$f":"IF(様式C_研究分担医師等!L39=\"\",\"\",様式C_研究分担医師等!L39)","v":""},{"$f":"IF(様式C_研究分担医師等!M39=\"\",\"\",様式C_研究分担医師等!M39)","v":""}]
[null,null,null,null,null,"申告者と生計を同じにする配偶者及びその一親等の親族",{"$f":"IF(様式C_研究分担医師等!F40=\"\",\"\",様式C_研究分担医師等!F40)","v":""},{"$f":"IF(様式C_研究分担医師等!I40=\"\",\"\",様式C_研究分担医師等!I40)","v":""},{"$f":"IF(様式C_研究分担医師等!L40=\"\",\"\",様式C_研究分担医師等!L40)","v":""},{"$f":"IF(様式C_研究分担医師等!K40=\"\",\"\",様式C_研究分担医師等!K40)","v":""},{"$f":"IF(様式C_研究分担医師等!L40=\"\",\"\",様式C_研究分担医師等!L40)","v":""},{"$f":"IF(様式C_研究分担医師等!M40=\"\",\"\",様式C_研究分担医師等!M40)","v":""}]
[]
[null,null,null,null,"本研究対象医薬品等の製造販売業者等名：","②",{"$f":"IF(G15=\"\",\"\",G15)","v":""}]
[]
[null,null,"COI状況の有無",null,null,null,"前年度","当該年度","COI管理計画",null,null,null,"COIについての事実確認","COI管理計画の確認状況","COI管理に対する助言・勧告の内容\n(該当ある場合(自由記載))"]
[null,null,null,null,null,null,"有無","有無"]
[]
[null,null,"Q１．当該企業等から申告者が実質的に使途を決定し得る寄附金の総額が、年間200万円を超えているか？\n・　実質的に使途を決定し得るとは、当該寄附金の管理をするという意味で、受入研究者に申告を求めている。間接経費を除き、直接経費のみを指すものではない。",null,null,null,{"$f":"IF(様式C_研究分担医師等!F47=\"\",\"\",様式C_研究分担医師等!F47)","v":""},{"$f":"IF(様式C_研究分担医師等!I47=\"\",\"\",様式C_研究分担医師等!I47)","v":""},{"$f":"IF(様式C_研究分担医師等!L47=\"\",\"\",様式C_研究分担医師等!L47)","v":""},{"$f":"IF(様式C_研究分担医師等!K47=\"\",\"\",様式C_研究分担医師等!K47)","v":""},{"$f":"IF(様式C_研究分担医師等!L47=\"\",\"\",様式C_研究分担医師等!L47)","v":""},{"$f":"IF(様式C_研究分担医師等!M47=\"\",\"\",様式C_研究分担医師等!M47)","v":""}]
[]
[]
[null,null,"Q２.　当該企業等が提供する寄附講座に所属しているか？\n\n・　寄附講座の資金から給与を取得しているか否かに関わらない。",null,null,"本人",{"$f":"IF(様式C_研究分担医師等!F49=\"\",\"\",様式C_研究分担医師等!F49)","v":""},{"$f":"IF(様式C_研究分担医師等!I49=\"\",\"\",様式C_研究分担医師等!I49)","v":""},{"$f":"IF(様式C_研究分担医師等!L49=\"\",\"\",様式C_研究分担医師等!L49)","v":""},{"$f":"IF(様式C_研究分担医師等!K49=\"\",\"\",様式C_研究分担医師等!K49)","v":""},{"$f":"IF(様式C_研究分担医師等!L49=\"\",\"\",様式C_研究分担医師等!L49)","v":""},{"$f":"IF(様式C_研究分担医師等!M49=\"\",\"\",様式C_研究分担医師等!M49)","v":""}]
[null,null,null,null,null,"申告者と生計を同じにする配偶者及びその一親等の親族",{"$f":"IF(様式C_研究分担医師等!F51=\"\",\"\",様式C_研究分担医師等!F51)","v":""},{"$f":"IF(様式C_研究分担医師等!I51=\"\",\"\",様式C_研究分担医師等!I51)","v":""},{"$f":"IF(様式C_研究分担医師等!L51=\"\",\"\",様式C_研究分担医師等!L51)","v":""},{"$f":"IF(様式C_研究分担医師等!K51=\"\",\"\",様式C_研究分担医師等!K51)","v":""},{"$f":"IF(様式C_研究分担医師等!L51=\"\",\"\",様式C_研究分担医師等!L51)","v":""},{"$f":"IF(様式C_研究分担医師等!M51=\"\",\"\",様式C_研究分担医師等!M51)","v":""}]
[null,null,"Q3．当該企業等との間に、申告者本人又は申告者と生計を同じにする配偶者及びその一親等の親族（親・子）が年間合計100万円以上の個人的な利益関係があるか？\n\n・　個人的利益関係とは、給与・講演・原稿・コンサルティング・ライセンス・贈答・接遇等による収入。",null,null,"本人",{"$f":"IF(様式C_研究分担医師等!F53=\"\",\"\",様式C_研究分担医師等!F53)","v":""},{"$f":"IF(様式C_研究分担医師等!I53=\"\",\"\",様式C_研究分担医師等!I53)","v":""},{"$f":"IF(様式C_研究分担医師等!L53=\"\",\"\",様式C_研究分担医師等!L53)","v":""},{"$f":"IF(様式C_研究分担医師等!K53=\"\",\"\",様式C_研究分担医師等!K53)","v":""},{"$f":"IF(様式C_研究分担医師等!L53=\"\",\"\",様式C_研究分担医師等!L53)","v":""},{"$f":"IF(様式C_研究分担医師等!M53=\"\",\"\",様式C_研究分担医師等!M53)","v":""}]
[null,null,null,null,null,"申告者と生計を同じにする配偶者及びその一親等の親族",{"$f":"IF(様式C_研究分担医師等!F55=\"\",\"\",様式C_研究分担医師等!F55)","v":""},{"$f":"IF(様式C_研究分担医師等!I55=\"\",\"\",様式C_研究分担医師等!I55)","v":""},{"$f":"IF(様式C_研究分担医師等!L55=\"\",\"\",様式C_研究分担医師等!L55)","v":""},{"$f":"IF(様式C_研究分担医師等!K55=\"\",\"\",様式C_研究分担医師等!K55)","v":""},{"$f":"IF(様式C_研究分担医師等!L55=\"\",\"\",様式C_研究分担医師等!L55)","v":""},{"$f":"IF(様式C_研究分担医師等!M55=\"\",\"\",様式C_研究分担医師等!M55)","v":""}]
[null,null,"Q4．当該企業等の役員等に、申告者本人又は申告者と生計を同じにする配偶者及びその一親等の親族\n（親・子）が就任しているか？\n\n・　役員等とは、株式会社の代表取締役・取締役、合同会社の代表者等、代表権限を有する者、監査役。",null,null,"本人",{"$f":"IF(様式C_研究分担医師等!F57=\"\",\"\",様式C_研究分担医師等!F57)","v":""},{"$f":"IF(様式C_研究分担医師等!I57=\"\",\"\",様式C_研究分担医師等!I57)","v":""},{"$f":"IF(様式C_研究分担医師等!L57=\"\",\"\",様式C_研究分担医師等!L57)","v":""},{"$f":"IF(様式C_研究分担医師等!K57=\"\",\"\",様式C_研究分担医師等!K57)","v":""},{"$f":"IF(様式C_研究分担医師等!L57=\"\",\"\",様式C_研究分担医師等!L57)","v":""},{"$f":"IF(様式C_研究分担医師等!M57=\"\",\"\",様式C_研究分担医師等!M57)","v":""}]
[null,null,null,null,null,"申告者と生計を同じにする配偶者及びその一親等の親族",{"$f":"IF(様式C_研究分担医師等!F58=\"\",\"\",様式C_研究分担医師等!F58)","v":""},{"$f":"IF(様式C_研究分担医師等!I58=\"\",\"\",様式C_研究分担医師等!I58)","v":""},{"$f":"IF(様式C_研究分担医師等!L58=\"\",\"\",様式C_研究分担医師等!L58)","v":""},{"$f":"IF(様式C_研究分担医師等!K58=\"\",\"\",様式C_研究分担医師等!K58)","v":""},{"$f":"IF(様式C_研究分担医師等!L58=\"\",\"\",様式C_研究分担医師等!L58)","v":""},{"$f":"IF(様式C_研究分担医師等!M58=\"\",\"\",様式C_研究分担医師等!M58)","v":""}]
[null,null,"Q5.申告者本人又は申告者と生計を同じにする配偶者及びその一親等の親族（親・子）が当該企業等の株式（新株予約権を含む）を保有(公開株式については５％以上、未公開株式は1株以上、新株予約権は１個以上)しているか？あるいは当該企業に出資を行っているか？",null,null,"本人",{"$f":"IF(様式C_研究分担医師等!F59=\"\",\"\",様式C_研究分担医師等!F59)","v":""},{"$f":"IF(様式C_研究分担医師等!I59=\"\",\"\",様式C_研究分担医師等!I59)","v":""},{"$f":"IF(様式C_研究分担医師等!L59=\"\",\"\",様式C_研究分担医師等!L59)","v":""},{"$f":"IF(様式C_研究分担医師等!K59=\"\",\"\",様式C_研究分担医師等!K59)","v":""},{"$f":"IF(様式C_研究分担医師等!L59=\"\",\"\",様式C_研究分担医師等!L59)","v":""},{"$f":"IF(様式C_研究分担医師等!M59=\"\",\"\",様式C_研究分担医師等!M59)","v":""}]
[null,null,null,null,null,"申告者と生計を同じにする配偶者及びその一親等の親族",{"$f":"IF(様式C_研究分担医師等!F60=\"\",\"\",様式C_研究分担医師等!F60)","v":""},{"$f":"IF(様式C_研究分担医師等!I60=\"\",\"\",様式C_研究分担医師等!I60)","v":""},{"$f":"IF(様式C_研究分担医師等!L60=\"\",\"\",様式C_研究分担医師等!L60)","v":""},{"$f":"IF(様式C_研究分担医師等!K60=\"\",\"\",様式C_研究分担医師等!K60)","v":""},{"$f":"IF(様式C_研究分担医師等!L60=\"\",\"\",様式C_研究分担医師等!L60)","v":""},{"$f":"IF(様式C_研究分担医師等!M60=\"\",\"\",様式C_研究分担医師等!M60)","v":""}]
[null,null,"Q6.その他、当該企業等と利益関係があるか？\n\n・　その他とは、寄附講座（親講座）の受入をしている場合や、本研究に関する知的財産に関与している場合",null,null,"本人",{"$f":"IF(様式C_研究分担医師等!F61=\"\",\"\",様式C_研究分担医師等!F61)","v":""},{"$f":"IF(様式C_研究分担医師等!I61=\"\",\"\",様式C_研究分担医師等!I61)","v":""},{"$f":"IF(様式C_研究分担医師等!L61=\"\",\"\",様式C_研究分担医師等!L61)","v":""},{"$f":"IF(様式C_研究分担医師等!K61=\"\",\"\",様式C_研究分担医師等!K61)","v":""},{"$f":"IF(様式C_研究分担医師等!L61=\"\",\"\",様式C_研究分担医師等!L61)","v":""},{"$f":"IF(様式C_研究分担医師等!M61=\"\",\"\",様式C_研究分担医師等!M61)","v":""}]
[null,null,null,null,null,"申告者と生計を同じにする配偶者及びその一親等の親族",{"$f":"IF(様式C_研究分担医師等!F62=\"\",\"\",様式C_研究分担医師等!F62)","v":""},{"$f":"IF(様式C_研究分担医師等!I62=\"\",\"\",様式C_研究分担医師等!I62)","v":""},{"$f":"IF(様式C_研究分担医師等!L62=\"\",\"\",様式C_研究分担医師等!L62)","v":""},{"$f":"IF(様式C_研究分担医師等!K62=\"\",\"\",様式C_研究分担医師等!K62)","v":""},{"$f":"IF(様式C_研究分担医師等!L62=\"\",\"\",様式C_研究分担医師等!L62)","v":""},{"$f":"IF(様式C_研究分担医師等!M62=\"\",\"\",様式C_研究分担医師等!M62)","v":""}]
[]
[null,null,null,null,"本研究対象医薬品等の製造販売業者等名：","③",{"$f":"IF(G16=\"\",\"\",G16)","v":""}]
[]
[null,null,"COI状況の有無",null,null,null,"前年度","当該年度","COI管理計画",null,null,null,"COIについての事実確認","COI管理計画の確認状況","COI管理に対する助言・勧告の内容\n(該当ある場合(自由記載))"]
[null,null,null,null,null,null,"有無","有無"]
[]
[null,null,"Q１．当該企業等から申告者が実質的に使途を決定し得る寄附金の総額が、年間200万円を超えているか？\n・　実質的に使途を決定し得るとは、当該寄附金の管理をするという意味で、受入研究者に申告を求めている。間接経費を除き、直接経費のみを指すものではない。",null,null,null,{"$f":"IF(様式C_研究分担医師等!F69=\"\",\"\",様式C_研究分担医師等!F69)","v":""},{"$f":"IF(様式C_研究分担医師等!I69=\"\",\"\",様式C_研究分担医師等!I69)","v":""},{"$f":"IF(様式C_研究分担医師等!L69=\"\",\"\",様式C_研究分担医師等!L69)","v":""},{"$f":"IF(様式C_研究分担医師等!K69=\"\",\"\",様式C_研究分担医師等!K69)","v":""},{"$f":"IF(様式C_研究分担医師等!L69=\"\",\"\",様式C_研究分担医師等!L69)","v":""},{"$f":"IF(様式C_研究分担医師等!M69=\"\",\"\",様式C_研究分担医師等!M69)","v":""}]
[]
[]
[null,null,"Q２.　当該企業等が提供する寄附講座に所属しているか？\n\n・　寄附講座の資金から給与を取得しているか否かに関わらない。",null,null,"本人",{"$f":"IF(様式C_研究分担医師等!F71=\"\",\"\",様式C_研究分担医師等!F71)","v":""},{"$f":"IF(様式C_研究分担医師等!I71=\"\",\"\",様式C_研究分担医師等!I71)","v":""},{"$f":"IF(様式C_研究分担医師等!L71=\"\",\"\",様式C_研究分担医師等!L71)","v":""},{"$f":"IF(様式C_研究分担医師等!K71=\"\",\"\",様式C_研究分担医師等!K71)","v":""},{"$f":"IF(様式C_研究分担医師等!L71=\"\",\"\",様式C_研究分担医師等!L71)","v":""},{"$f":"IF(様式C_研究分担医師等!M71=\"\",\"\",様式C_研究分担医師等!M71)","v":""}]
[null,null,null,null,null,"申告者と生計を同じにする配偶者及びその一親等の親族",{"$f":"IF(様式C_研究分担医師等!F73=\"\",\"\",様式C_研究分担医師等!F73)","v":""},{"$f":"IF(様式C_研究分担医師等!I73=\"\",\"\",様式C_研究分担医師等!I73)","v":""},{"$f":"IF(様式C_研究分担医師等!L73=\"\",\"\",様式C_研究分担医師等!L73)","v":""},{"$f":"IF(様式C_研究分担医師等!K73=\"\",\"\",様式C_研究分担医師等!K73)","v":""},{"$f":"IF(様式C_研究分担医師等!L73=\"\",\"\",様式C_研究分担医師等!L73)","v":""},{"$f":"IF(様式C_研究分担医師等!M73=\"\",\"\",様式C_研究分担医師等!M73)","v":""}]
[null,null,"Q3．当該企業等との間に、申告者本人又は申告者と生計を同じにする配偶者及びその一親等の親族（親・子）が年間合計100万円以上の個人的な利益関係があるか？\n\n・　個人的利益関係とは、給与・講演・原稿・コンサルティング・ライセンス・贈答・接遇等による収入。",null,null,"本人",{"$f":"IF(様式C_研究分担医師等!F75=\"\",\"\",様式C_研究分担医師等!F75)","v":""},{"$f":"IF(様式C_研究分担医師等!I75=\"\",\"\",様式C_研究分担医師等!I75)","v":""},{"$f":"IF(様式C_研究分担医師等!L75=\"\",\"\",様式C_研究分担医師等!L75)","v":""},{"$f":"IF(様式C_研究分担医師等!K75=\"\",\"\",様式C_研究分担医師等!K75)","v":""},{"$f":"IF(様式C_研究分担医師等!L75=\"\",\"\",様式C_研究分担医師等!L75)","v":""},{"$f":"IF(様式C_研究分担医師等!M75=\"\",\"\",様式C_研究分担医師等!M75)","v":""}]
[null,null,null,null,null,"申告者と生計を同じにする配偶者及びその一親等の親族",{"$f":"IF(様式C_研究分担医師等!F77=\"\",\"\",様式C_研究分担医師等!F77)","v":""},{"$f":"IF(様式C_研究分担医師等!I77=\"\",\"\",様式C_研究分担医師等!I77)","v":""},{"$f":"IF(様式C_研究分担医師等!L77=\"\",\"\",様式C_研究分担医師等!L77)","v":""},{"$f":"IF(様式C_研究分担医師等!K77=\"\",\"\",様式C_研究分担医師等!K77)","v":""},{"$f":"IF(様式C_研究分担医師等!L77=\"\",\"\",様式C_研究分担医師等!L77)","v":""},{"$f":"IF(様式C_研究分担医師等!M77=\"\",\"\",様式C_研究分担医師等!M77)","v":""}]
[null,null,"Q4．当該企業等の役員等に、申告者本人又は申告者と生計を同じにする配偶者及びその一親等の親族\n（親・子）が就任しているか？\n\n・　役員等とは、株式会社の代表取締役・取締役、合同会社の代表者等、代表権限を有する者、監査役。",null,null,"本人",{"$f":"IF(様式C_研究分担医師等!F79=\"\",\"\",様式C_研究分担医師等!F79)","v":""},{"$f":"IF(様式C_研究分担医師等!I79=\"\",\"\",様式C_研究分担医師等!I79)","v":""},{"$f":"IF(様式C_研究分担医師等!L79=\"\",\"\",様式C_研究分担医師等!L79)","v":""},{"$f":"IF(様式C_研究分担医師等!K79=\"\",\"\",様式C_研究分担医師等!K79)","v":""},{"$f":"IF(様式C_研究分担医師等!L79=\"\",\"\",様式C_研究分担医師等!L79)","v":""},{"$f":"IF(様式C_研究分担医師等!M79=\"\",\"\",様式C_研究分担医師等!M79)","v":""}]
[null,null,null,null,null,"申告者と生計を同じにする配偶者及びその一親等の親族",{"$f":"IF(様式C_研究分担医師等!F80=\"\",\"\",様式C_研究分担医師等!F80)","v":""},{"$f":"IF(様式C_研究分担医師等!I80=\"\",\"\",様式C_研究分担医師等!I80)","v":""},{"$f":"IF(様式C_研究分担医師等!L80=\"\",\"\",様式C_研究分担医師等!L80)","v":""},{"$f":"IF(様式C_研究分担医師等!K80=\"\",\"\",様式C_研究分担医師等!K80)","v":""},{"$f":"IF(様式C_研究分担医師等!L80=\"\",\"\",様式C_研究分担医師等!L80)","v":""},{"$f":"IF(様式C_研究分担医師等!M80=\"\",\"\",様式C_研究分担医師等!M80)","v":""}]
[null,null,"Q5.申告者本人又は申告者と生計を同じにする配偶者及びその一親等の親族（親・子）が当該企業等の株式（新株予約権を含む）を保有(公開株式については５％以上、未公開株式は1株以上、新株予約権は１個以上)しているか？あるいは当該企業に出資を行っているか？",null,null,"本人",{"$f":"IF(様式C_研究分担医師等!F81=\"\",\"\",様式C_研究分担医師等!F81)","v":""},{"$f":"IF(様式C_研究分担医師等!I81=\"\",\"\",様式C_研究分担医師等!I81)","v":""},{"$f":"IF(様式C_研究分担医師等!L81=\"\",\"\",様式C_研究分担医師等!L81)","v":""},{"$f":"IF(様式C_研究分担医師等!K81=\"\",\"\",様式C_研究分担医師等!K81)","v":""},{"$f":"IF(様式C_研究分担医師等!L81=\"\",\"\",様式C_研究分担医師等!L81)","v":""},{"$f":"IF(様式C_研究分担医師等!M81=\"\",\"\",様式C_研究分担医師等!M81)","v":""}]
[null,null,null,null,null,"申告者と生計を同じにする配偶者及びその一親等の親族",{"$f":"IF(様式C_研究分担医師等!F82=\"\",\"\",様式C_研究分担医師等!F82)","v":""},{"$f":"IF(様式C_研究分担医師等!I82=\"\",\"\",様式C_研究分担医師等!I82)","v":""},{"$f":"IF(様式C_研究分担医師等!L82=\"\",\"\",様式C_研究分担医師等!L82)","v":""},{"$f":"IF(様式C_研究分担医師等!K82=\"\",\"\",様式C_研究分担医師等!K82)","v":""},{"$f":"IF(様式C_研究分担医師等!L82=\"\",\"\",様式C_研究分担医師等!L82)","v":""},{"$f":"IF(様式C_研究分担医師等!M82=\"\",\"\",様式C_研究分担医師等!M82)","v":""}]
[null,null,"Q6.その他、当該企業等と利益関係があるか？\n\n・　その他とは、寄附講座（親講座）の受入をしている場合や、本研究に関する知的財産に関与している場合",null,null,"本人",{"$f":"IF(様式C_研究分担医師等!F83=\"\",\"\",様式C_研究分担医師等!F83)","v":""},{"$f":"IF(様式C_研究分担医師等!I83=\"\",\"\",様式C_研究分担医師等!I83)","v":""},{"$f":"IF(様式C_研究分担医師等!L83=\"\",\"\",様式C_研究分担医師等!L83)","v":""},{"$f":"IF(様式C_研究分担医師等!K83=\"\",\"\",様式C_研究分担医師等!K83)","v":""},{"$f":"IF(様式C_研究分担医師等!L83=\"\",\"\",様式C_研究分担医師等!L83)","v":""},{"$f":"IF(様式C_研究分担医師等!M83=\"\",\"\",様式C_研究分担医師等!M83)","v":""}]
[null,null,null,null,null,"申告者と生計を同じにする配偶者及びその一親等の親族",{"$f":"IF(様式C_研究分担医師等!F84=\"\",\"\",様式C_研究分担医師等!F84)","v":""},{"$f":"IF(様式C_研究分担医師等!I84=\"\",\"\",様式C_研究分担医師等!I84)","v":""},{"$f":"IF(様式C_研究分担医師等!L84=\"\",\"\",様式C_研究分担医師等!L84)","v":""},{"$f":"IF(様式C_研究分担医師等!K84=\"\",\"\",様式C_研究分担医師等!K84)","v":""},{"$f":"IF(様式C_研究分担医師等!L84=\"\",\"\",様式C_研究分担医師等!L84)","v":""},{"$f":"IF(様式C_研究分担医師等!M84=\"\",\"\",様式C_研究分担医師等!M84)","v":""}]
[]
[null,null,null,null,"本研究対象医薬品等の製造販売業者等名：","④",{"$f":"IF(G17=\"\",\"\",G17)","v":""}]
[]
[null,null,"COI状況の有無",null,null,null,"前年度","当該年度","COI管理計画",null,null,null,"COIについての事実確認","COI管理計画の確認状況","COI管理に対する助言・勧告の内容\n(該当ある場合(自由記載))"]
[null,null,null,null,null,null,"有無","有無"]
[]
[null,null,"Q１．当該企業等から申告者が実質的に使途を決定し得る寄附金の総額が、年間200万円を超えているか？\n・　実質的に使途を決定し得るとは、当該寄附金の管理をするという意味で、受入研究者に申告を求めている。間接経費を除き、直接経費のみを指すものではない。",null,null,null,{"$f":"IF(様式C_研究分担医師等!F91=\"\",\"\",様式C_研究分担医師等!F91)","v":""},{"$f":"IF(様式C_研究分担医師等!I91=\"\",\"\",様式C_研究分担医師等!I91)","v":""},{"$f":"IF(様式C_研究分担医師等!L91=\"\",\"\",様式C_研究分担医師等!L91)","v":""},{"$f":"IF(様式C_研究分担医師等!K91=\"\",\"\",様式C_研究分担医師等!K91)","v":""},{"$f":"IF(様式C_研究分担医師等!L91=\"\",\"\",様式C_研究分担医師等!L91)","v":""},{"$f":"IF(様式C_研究分担医師等!M91=\"\",\"\",様式C_研究分担医師等!M91)","v":""}]
[]
[]
[null,null,"Q２.　当該企業等が提供する寄附講座に所属しているか？\n\n・　寄附講座の資金から給与を取得しているか否かに関わらない。",null,null,"本人",{"$f":"IF(様式C_研究分担医師等!F93=\"\",\"\",様式C_研究分担医師等!F93)","v":""},{"$f":"IF(様式C_研究分担医師等!I93=\"\",\"\",様式C_研究分担医師等!I93)","v":""},{"$f":"IF(様式C_研究分担医師等!L93=\"\",\"\",様式C_研究分担医師等!L93)","v":""},{"$f":"IF(様式C_研究分担医師等!K93=\"\",\"\",様式C_研究分担医師等!K93)","v":""},{"$f":"IF(様式C_研究分担医師等!L93=\"\",\"\",様式C_研究分担医師等!L93)","v":""},{"$f":"IF(様式C_研究分担医師等!M93=\"\",\"\",様式C_研究分担医師等!M93)","v":""}]
[null,null,null,null,null,"申告者と生計を同じにする配偶者及びその一親等の親族",{"$f":"IF(様式C_研究分担医師等!F95=\"\",\"\",様式C_研究分担医師等!F95)","v":""},{"$f":"IF(様式C_研究分担医師等!I95=\"\",\"\",様式C_研究分担医師等!I95)","v":""},{"$f":"IF(様式C_研究分担医師等!L95=\"\",\"\",様式C_研究分担医師等!L95)","v":""},{"$f":"IF(様式C_研究分担医師等!K95=\"\",\"\",様式C_研究分担医師等!K95)","v":""},{"$f":"IF(様式C_研究分担医師等!L95=\"\",\"\",様式C_研究分担医師等!L95)","v":""},{"$f":"IF(様式C_研究分担医師等!M95=\"\",\"\",様式C_研究分担医師等!M95)","v":""}]
[null,null,"Q3．当該企業等との間に、申告者本人又は申告者と生計を同じにする配偶者及びその一親等の親族（親・子）が年間合計100万円以上の個人的な利益関係があるか？\n\n・　個人的利益関係とは、給与・講演・原稿・コンサルティング・ライセンス・贈答・接遇等による収入。",null,null,"本人",{"$f":"IF(様式C_研究分担医師等!F97=\"\",\"\",様式C_研究分担医師等!F97)","v":""},{"$f":"IF(様式C_研究分担医師等!I97=\"\",\"\",様式C_研究分担医師等!I97)","v":""},{"$f":"IF(様式C_研究分担医師等!L97=\"\",\"\",様式C_研究分担医師等!L97)","v":""},{"$f":"IF(様式C_研究分担医師等!K97=\"\",\"\",様式C_研究分担医師等!K97)","v":""},{"$f":"IF(様式C_研究分担医師等!L97=\"\",\"\",様式C_研究分担医師等!L97)","v":""},{"$f":"IF(様式C_研究分担医師等!M97=\"\",\"\",様式C_研究分担医師等!M97)","v":""}]
[null,null,null,null,null,"申告者と生計を同じにする配偶者及びその一親等の親族",{"$f":"IF(様式C_研究分担医師等!F99=\"\",\"\",様式C_研究分担医師等!F99)","v":""},{"$f":"IF(様式C_研究分担医師等!I99=\"\",\"\",様式C_研究分担医師等!I99)","v":""},{"$f":"IF(様式C_研究分担医師等!L99=\"\",\"\",様式C_研究分担医師等!L99)","v":""},{"$f":"IF(様式C_研究分担医師等!K99=\"\",\"\",様式C_研究分担医師等!K99)","v":""},{"$f":"IF(様式C_研究分担医師等!L99=\"\",\"\",様式C_研究分担医師等!L99)","v":""},{"$f":"IF(様式C_研究分担医師等!M99=\"\",\"\",様式C_研究分担医師等!M99)","v":""}]
[null,null,"Q4．当該企業等の役員等に、申告者本人又は申告者と生計を同じにする配偶者及びその一親等の親族\n（親・子）が就任しているか？\n\n・　役員等とは、株式会社の代表取締役・取締役、合同会社の代表者等、代表権限を有する者、監査役。",null,null,"本人",{"$f":"IF(様式C_研究分担医師等!F101=\"\",\"\",様式C_研究分担医師等!F101)","v":""},{"$f":"IF(様式C_研究分担医師等!I101=\"\",\"\",様式C_研究分担医師等!I101)","v":""},{"$f":"IF(様式C_研究分担医師等!L101=\"\",\"\",様式C_研究分担医師等!L101)","v":""},{"$f":"IF(様式C_研究分担医師等!K101=\"\",\"\",様式C_研究分担医師等!K101)","v":""},{"$f":"IF(様式C_研究分担医師等!L101=\"\",\"\",様式C_研究分担医師等!L101)","v":""},{"$f":"IF(様式C_研究分担医師等!M101=\"\",\"\",様式C_研究分担医師等!M101)","v":""}]
[null,null,null,null,null,"申告者と生計を同じにする配偶者及びその一親等の親族",{"$f":"IF(様式C_研究分担医師等!F102=\"\",\"\",様式C_研究分担医師等!F102)","v":""},{"$f":"IF(様式C_研究分担医師等!I102=\"\",\"\",様式C_研究分担医師等!I102)","v":""},{"$f":"IF(様式C_研究分担医師等!L102=\"\",\"\",様式C_研究分担医師等!L102)","v":""},{"$f":"IF(様式C_研究分担医師等!K102=\"\",\"\",様式C_研究分担医師等!K102)","v":""},{"$f":"IF(様式C_研究分担医師等!L102=\"\",\"\",様式C_研究分担医師等!L102)","v":""},{"$f":"IF(様式C_研究分担医師等!M102=\"\",\"\",様式C_研究分担医師等!M102)","v":""}]
[null,null,"Q5.申告者本人又は申告者と生計を同じにする配偶者及びその一親等の親族（親・子）が当該企業等の株式（新株予約権を含む）を保有(公開株式については５％以上、未公開株式は1株以上、新株予約権は１個以上)しているか？あるいは当該企業に出資を行っているか？",null,null,"本人",{"$f":"IF(様式C_研究分担医師等!F103=\"\",\"\",様式C_研究分担医師等!F103)","v":""},{"$f":"IF(様式C_研究分担医師等!I103=\"\",\"\",様式C_研究分担医師等!I103)","v":""},{"$f":"IF(様式C_研究分担医師等!L103=\"\",\"\",様式C_研究分担医師等!L103)","v":""},{"$f":"IF(様式C_研究分担医師等!K103=\"\",\"\",様式C_研究分担医師等!K103)","v":""},{"$f":"IF(様式C_研究分担医師等!L103=\"\",\"\",様式C_研究分担医師等!L103)","v":""},{"$f":"IF(様式C_研究分担医師等!M103=\"\",\"\",様式C_研究分担医師等!M103)","v":""}]
[null,null,null,null,null,"申告者と生計を同じにする配偶者及びその一親等の親族",{"$f":"IF(様式C_研究分担医師等!F104=\"\",\"\",様式C_研究分担医師等!F104)","v":""},{"$f":"IF(様式C_研究分担医師等!I104=\"\",\"\",様式C_研究分担医師等!I104)","v":""},{"$f":"IF(様式C_研究分担医師等!L104=\"\",\"\",様式C_研究分担医師等!L104)","v":""},{"$f":"IF(様式C_研究分担医師等!K104=\"\",\"\",様式C_研究分担医師等!K104)","v":""},{"$f":"IF(様式C_研究分担医師等!L104=\"\",\"\",様式C_研究分担医師等!L104)","v":""},{"$f":"IF(様式C_研究分担医師等!M104=\"\",\"\",様式C_研究分担医師等!M104)","v":""}]
[null,null,"Q6.その他、当該企業等と利益関係があるか？\n\n・　その他とは、寄附講座（親講座）の受入をしている場合や、本研究に関する知的財産に関与している場合",null,null,"本人",{"$f":"IF(様式C_研究分担医師等!F105=\"\",\"\",様式C_研究分担医師等!F105)","v":""},{"$f":"IF(様式C_研究分担医師等!I105=\"\",\"\",様式C_研究分担医師等!I105)","v":""},{"$f":"IF(様式C_研究分担医師等!L105=\"\",\"\",様式C_研究分担医師等!L105)","v":""},{"$f":"IF(様式C_研究分担医師等!K105=\"\",\"\",様式C_研究分担医師等!K105)","v":""},{"$f":"IF(様式C_研究分担医師等!L105=\"\",\"\",様式C_研究分担医師等!L105)","v":""},{"$f":"IF(様式C_研究分担医師等!M105=\"\",\"\",様式C_研究分担医師等!M105)","v":""}]
[null,null,null,null,null,"申告者と生計を同じにする配偶者及びその一親等の親族",{"$f":"IF(様式C_研究分担医師等!F106=\"\",\"\",様式C_研究分担医師等!F106)","v":""},{"$f":"IF(様式C_研究分担医師等!I106=\"\",\"\",様式C_研究分担医師等!I106)","v":""},{"$f":"IF(様式C_研究分担医師等!L106=\"\",\"\",様式C_研究分担医師等!L106)","v":""},{"$f":"IF(様式C_研究分担医師等!K106=\"\",\"\",様式C_研究分担医師等!K106)","v":""},{"$f":"IF(様式C_研究分担医師等!L106=\"\",\"\",様式C_研究分担医師等!L106)","v":""},{"$f":"IF(様式C_研究分担医師等!M106=\"\",\"\",様式C_研究分担医師等!M106)","v":""}]
[]
[null,null,null,null,"本研究対象医薬品等の製造販売業者等名：","⑤",{"$f":"IF(G18=\"\",\"\",G18)","v":""}]
[]
[null,null,"COI状況の有無",null,null,null,"前年度","当該年度","COI管理計画",null,null,null,"COIについての事実確認","COI管理計画の確認状況","COI管理に対する助言・勧告の内容\n(該当ある場合(自由記載))"]
[null,null,null,null,null,null,"有無","有無"]
[]
[null,null,"Q１．当該企業等から申告者が実質的に使途を決定し得る寄附金の総額が、年間200万円を超えているか？\n・　実質的に使途を決定し得るとは、当該寄附金の管理をするという意味で、受入研究者に申告を求めている。間接経費を除き、直接経費のみを指すものではない。",null,null,null,{"$f":"IF(様式C_研究分担医師等!F113=\"\",\"\",様式C_研究分担医師等!F113)","v":""},{"$f":"IF(様式C_研究分担医師等!I113=\"\",\"\",様式C_研究分担医師等!I113)","v":""},{"$f":"IF(様式C_研究分担医師等!L113=\"\",\"\",様式C_研究分担医師等!L113)","v":""},{"$f":"IF(様式C_研究分担医師等!K113=\"\",\"\",様式C_研究分担医師等!K113)","v":""},{"$f":"IF(様式C_研究分担医師等!L113=\"\",\"\",様式C_研究分担医師等!L113)","v":""},{"$f":"IF(様式C_研究分担医師等!M113=\"\",\"\",様式C_研究分担医師等!M113)","v":""}]
[]
[]
[null,null,"Q２.　当該企業等が提供する寄附講座に所属しているか？\n\n・　寄附講座の資金から給与を取得しているか否かに関わらない。",null,null,"本人",{"$f":"IF(様式C_研究分担医師等!F115=\"\",\"\",様式C_研究分担医師等!F115)","v":""},{"$f":"IF(様式C_研究分担医師等!I115=\"\",\"\",様式C_研究分担医師等!I115)","v":""},{"$f":"IF(様式C_研究分担医師等!L115=\"\",\"\",様式C_研究分担医師等!L115)","v":""},{"$f":"IF(様式C_研究分担医師等!K115=\"\",\"\",様式C_研究分担医師等!K115)","v":""},{"$f":"IF(様式C_研究分担医師等!L115=\"\",\"\",様式C_研究分担医師等!L115)","v":""},{"$f":"IF(様式C_研究分担医師等!M115=\"\",\"\",様式C_研究分担医師等!M115)","v":""}]
[null,null,null,null,null,"申告者と生計を同じにする配偶者及びその一親等の親族",{"$f":"IF(様式C_研究分担医師等!F117=\"\",\"\",様式C_研究分担医師等!F117)","v":""},{"$f":"IF(様式C_研究分担医師等!I117=\"\",\"\",様式C_研究分担医師等!I117)","v":""},{"$f":"IF(様式C_研究分担医師等!L117=\"\",\"\",様式C_研究分担医師等!L117)","v":""},{"$f":"IF(様式C_研究分担医師等!K117=\"\",\"\",様式C_研究分担医師等!K117)","v":""},{"$f":"IF(様式C_研究分担医師等!L117=\"\",\"\",様式C_研究分担医師等!L117)","v":""},{"$f":"IF(様式C_研究分担医師等!M117=\"\",\"\",様式C_研究分担医師等!M117)","v":""}]
[null,null,"Q3．当該企業等との間に、申告者本人又は申告者と生計を同じにする配偶者及びその一親等の親族（親・子）が年間合計100万円以上の個人的な利益関係があるか？\n\n・　個人的利益関係とは、給与・講演・原稿・コンサルティング・ライセンス・贈答・接遇等による収入。",null,null,"本人",{"$f":"IF(様式C_研究分担医師等!F119=\"\",\"\",様式C_研究分担医師等!F119)","v":""},{"$f":"IF(様式C_研究分担医師等!I119=\"\",\"\",様式C_研究分担医師等!I119)","v":""},{"$f":"IF(様式C_研究分担医師等!L119=\"\",\"\",様式C_研究分担医師等!L119)","v":""},{"$f":"IF(様式C_研究分担医師等!K119=\"\",\"\",様式C_研究分担医師等!K119)","v":""},{"$f":"IF(様式C_研究分担医師等!L119=\"\",\"\",様式C_研究分担医師等!L119)","v":""},{"$f":"IF(様式C_研究分担医師等!M119=\"\",\"\",様式C_研究分担医師等!M119)","v":""}]
[null,null,null,null,null,"申告者と生計を同じにする配偶者及びその一親等の親族",{"$f":"IF(様式C_研究分担医師等!F121=\"\",\"\",様式C_研究分担医師等!F121)","v":""},{"$f":"IF(様式C_研究分担医師等!I121=\"\",\"\",様式C_研究分担医師等!I121)","v":""},{"$f":"IF(様式C_研究分担医師等!L121=\"\",\"\",様式C_研究分担医師等!L121)","v":""},{"$f":"IF(様式C_研究分担医師等!K121=\"\",\"\",様式C_研究分担医師等!K121)","v":""},{"$f":"IF(様式C_研究分担医師等!L121=\"\",\"\",様式C_研究分担医師等!L121)","v":""},{"$f":"IF(様式C_研究分担医師等!M121=\"\",\"\",様式C_研究分担医師等!M121)","v":""}]
[null,null,"Q4．当該企業等の役員等に、申告者本人又は申告者と生計を同じにする配偶者及びその一親等の親族\n（親・子）が就任しているか？\n\n・　役員等とは、株式会社の代表取締役・取締役、合同会社の代表者等、代表権限を有する者、監査役。",null,null,"本人",{"$f":"IF(様式C_研究分担医師等!F123=\"\",\"\",様式C_研究分担医師等!F123)","v":""},{"$f":"IF(様式C_研究分担医師等!I123=\"\",\"\",様式C_研究分担医師等!I123)","v":""},{"$f":"IF(様式C_研究分担医師等!L123=\"\",\"\",様式C_研究分担医師等!L123)","v":""},{"$f":"IF(様式C_研究分担医師等!K123=\"\",\"\",様式C_研究分担医師等!K123)","v":""},{"$f":"IF(様式C_研究分担医師等!L123=\"\",\"\",様式C_研究分担医師等!L123)","v":""},{"$f":"IF(様式C_研究分担医師等!M123=\"\",\"\",様式C_研究分担医師等!M123)","v":""}]
[null,null,null,null,null,"申告者と生計を同じにする配偶者及びその一親等の親族",{"$f":"IF(様式C_研究分担医師等!F124=\"\",\"\",様式C_研究分担医師等!F124)","v":""},{"$f":"IF(様式C_研究分担医師等!I124=\"\",\"\",様式C_研究分担医師等!I124)","v":""},{"$f":"IF(様式C_研究分担医師等!L124=\"\",\"\",様式C_研究分担医師等!L124)","v":""},{"$f":"IF(様式C_研究分担医師等!K124=\"\",\"\",様式C_研究分担医師等!K124)","v":""},{"$f":"IF(様式C_研究分担医師等!L124=\"\",\"\",様式C_研究分担医師等!L124)","v":""},{"$f":"IF(様式C_研究分担医師等!M124=\"\",\"\",様式C_研究分担医師等!M124)","v":""}]
[null,null,"Q5.申告者本人又は申告者と生計を同じにする配偶者及びその一親等の親族（親・子）が当該企業等の株式（新株予約権を含む）を保有(公開株式については５％以上、未公開株式は1株以上、新株予約権は１個以上)しているか？あるいは当該企業に出資を行っているか？",null,null,"本人",{"$f":"IF(様式C_研究分担医師等!F125=\"\",\"\",様式C_研究分担医師等!F125)","v":""},{"$f":"IF(様式C_研究分担医師等!I125=\"\",\"\",様式C_研究分担医師等!I125)","v":""},{"$f":"IF(様式C_研究分担医師等!L125=\"\",\"\",様式C_研究分担医師等!L125)","v":""},{"$f":"IF(様式C_研究分担医師等!K125=\"\",\"\",様式C_研究分担医師等!K125)","v":""},{"$f":"IF(様式C_研究分担医師等!L125=\"\",\"\",様式C_研究分担医師等!L125)","v":""},{"$f":"IF(様式C_研究分担医師等!M125=\"\",\"\",様式C_研究分担医師等!M125)","v":""}]
[null,null,null,null,null,"申告者と生計を同じにする配偶者及びその一親等の親族",{"$f":"IF(様式C_研究分担医師等!F126=\"\",\"\",様式C_研究分担医師等!F126)","v":""},{"$f":"IF(様式C_研究分担医師等!I126=\"\",\"\",様式C_研究分担医師等!I126)","v":""},{"$f":"IF(様式C_研究分担医師等!L126=\"\",\"\",様式C_研究分担医師等!L126)","v":""},{"$f":"IF(様式C_研究分担医師等!K126=\"\",\"\",様式C_研究分担医師等!K126)","v":""},{"$f":"IF(様式C_研究分担医師等!L126=\"\",\"\",様式C_研究分担医師等!L126)","v":""},{"$f":"IF(様式C_研究分担医師等!M126=\"\",\"\",様式C_研究分担医師等!M126)","v":""}]
[null,null,"Q6.その他、当該企業等と利益関係があるか？\n\n・　その他とは、寄附講座（親講座）の受入をしている場合や、本研究に関する知的財産に関与している場合",null,null,"本人",{"$f":"IF(様式C_研究分担医師等!F127=\"\",\"\",様式C_研究分担医師等!F127)","v":""},{"$f":"IF(様式C_研究分担医師等!I127=\"\",\"\",様式C_研究分担医師等!I127)","v":""},{"$f":"IF(様式C_研究分担医師等!L127=\"\",\"\",様式C_研究分担医師等!L127)","v":""},{"$f":"IF(様式C_研究分担医師等!K127=\"\",\"\",様式C_研究分担医師等!K127)","v":""},{"$f":"IF(様式C_研究分担医師等!L127=\"\",\"\",様式C_研究分担医師等!L127)","v":""},{"$f":"IF(様式C_研究分担医師等!M127=\"\",\"\",様式C_研究分担医師等!M127)","v":""}]
[null,null,null,null,null,"申告者と生計を同じにする配偶者及びその一親等の親族",{"$f":"IF(様式C_研究分担医師等!F128=\"\",\"\",様式C_研究分担医師等!F128)","v":""},{"$f":"IF(様式C_研究分担医師等!I128=\"\",\"\",様式C_研究分担医師等!I128)","v":""},{"$f":"IF(様式C_研究分担医師等!L128=\"\",\"\",様式C_研究分担医師等!L128)","v":""},{"$f":"IF(様式C_研究分担医師等!K128=\"\",\"\",様式C_研究分担医師等!K128)","v":""},{"$f":"IF(様式C_研究分担医師等!L128=\"\",\"\",様式C_研究分担医師等!L128)","v":""},{"$f":"IF(様式C_研究分担医師等!M128=\"\",\"\",様式C_研究分担医師等!M128)","v":""}]

{"sheet":"様式E","index":6,"n_rows":97,"n_cols":14,"rows_kept":97,"cut":false,"hidden":false,"merged":[[1,0,1,13],[2,0,2,6],[3,0,5,7],[4,10,4,11],[4,12,4,13],[11,3,11,4],[91,6,91,11],[38,7,38,13],[36,7,36,13],[32,7,32,13],[55,5,55,11],[12,3,12,4],[59,6,59,11],[60,6,60,11],[10,11,13,13],[15,11,18,13],[5,12,5,13],[6,0,7,0],[6,1,7,5],[6,12,6,13],[9,1,9,2],[9,3,9,4],[10,1,10,2],[90,6,90,11],[11,1,11,2],[51,6,51,11],[58,6,58,11],[24,2,24,4],[25,7,25,13],[27,7,27,13],[28,2,28,4],[10,3,10,4],[25,0,28,1],[13,1,13,2],[13,3,13,4],[14,1,14,2],[14,3,14,4],[27,2,27,4],[26,2,26,4],[15,1,15,2],[15,3,15,4],[12,1,12,2],[26,7,26,13],[31,7,31,13],[29,0,32,1],[29,2,29,4],[29,7,29,13],[30,2,30,4],[30,7,30,13],[31,2,31,4],[32,2,32,4],[16,1,16,2],[16,3,16,4],[21,2,21,4],[21,7,21,13],[17,1,17,2],[17,3,17,4],[20,0,20,1],[20,7,20,13],[21,0,24,1],[24,7,24,13],[28,7,28,13],[22,7,22,13],[23,2,23,4],[23,7,23,13],[25,2,25,4],[22,2,22,4],[33,0,36,1],[37,0,40,1],[37,2,37,4],[37,7,37,13],[38,2,38,4],[39,7,39,13],[36,2,36,4],[35,7,35,13],[43,7,43,8],[43,4,43,6],[40,2,40,4],[40,7,40,13],[39,2,39,4],[33,2,33,4],[33,7,33,13],[34,2,34,4],[34,7,34,13],[35,2,35,4],[96,6,96,11],[77,5,77,11],[78,6,78,11],[84,6,84,11],[85,6,85,11],[94,6,94,11],[79,6,79,11],[81,6,81,11],[82,6,82,11],[88,5,88,11],[80,6,80,11],[76,0,76,3],[87,0,87,3],[65,0,65,3],[54,0,54,3],[43,0,43,3],[87,4,87,6],[66,5,66,11],[52,6,52,11],[69,6,69,11],[70,6,70,11],[61,6,61,11],[62,6,62,11],[63,6,63,11],[44,5,44,11],[45,6,45,11],[47,6,47,11],[48,6,48,11],[49,6,49,11],[50,6,50,11],[46,6,46,11],[54,4,54,6],[65,4,65,6],[76,4,76,6],[83,6,83,11],[54,7,54,8],[65,7,65,8],[76,7,76,8],[71,6,71,11],[56,6,56,11],[57,6,57,11],[87,7,87,8],[95,6,95,11],[67,6,67,11],[73,6,73,11],[74,6,74,11],[68,6,68,11],[72,6,72,11],[89,6,89,11],[92,6,92,11],[93,6,93,11]]}
[null,null,null,null,null,null,null,null,null,null,null,null,null,"ver.2.2"]
["様式E　利益相反管理計画"]
["認定臨床研究審査委員会　御中"]
["本研究課題と関わりのある企業等との関係について利益相反管理計画を上段で述べます。\nまた、本研究課題と関わりのある企業等と研究に従事する者との関係についての利益相反管理計画を下段に述べています。"]
[null,null,null,null,null,null,null,null,null,null,"日付"]
[null,null,null,null,null,null,null,null,null,null,"研究責任医師","所属機関",{"$f":"IF(様式C_研究責任医師!M5=\"\",\"\",様式C_研究責任医師!M5)","v":""}]
["本研究課題：",{"$f":"IF(様式B!E5=\"\",\"\",様式B!E5)","v":""},null,null,null,null,null,null,null,null,null,"氏　　名",{"$f":"IF(様式C_研究責任医師!M7=\"\",\"\",様式C_研究責任医師!M7)","v":""}]
[]
[]
[null,"所属機関",null,"立場",null,"氏名",null,"所属機関","立場","氏名",null,"【特記事項(任意)】（様式Bより）"]
[null,{"$f":"IF(様式C_研究責任医師!C11=\"\",\"\",様式C_研究責任医師!C11)","v":""},null,{"$f":"IF(様式C_研究責任医師!D11=\"\",\"\",様式C_研究責任医師!D11)","v":""},null,{"$f":"IF(様式C_研究責任医師!E11=\"\",\"\",様式C_研究責任医師!E11)","v":""},null,{"$f":"IF(様式C_研究責任医師!G11=\"\",\"\",様式C_研究責任医師!G11)","v":""},{"$f":"IF(様式C_研究責任医師!I11=\"\",\"\",様式C_研究責任医師!I11)","v":""},{"$f":"IF(様式C_研究責任医師!J11=\"\",\"\",様式C_研究責任医師!J11)","v":""},null,{"$f":"IF(様式B!D8=\"\",\"\",様式B!D8)","v":""}]
[null,{"$f":"IF(様式C_研究責任医師!C12=\"\",\"\",様式C_研究責任医師!C12)","v":""},null,{"$f":"IF(様式C_研究責任医師!D12=\"\",\"\",様式C_研究責任医師!D12)","v":""},null,{"$f":"IF(様式C_研究責任医師!E12=\"\",\"\",様式C_研究責任医師!E12)","v":""},null,{"$f":"IF(様式C_研究責任医師!G12=\"\",\"\",様式C_研究責任医師!G12)","v":""},{"$f":"IF(様式C_研究責任医師!I12=\"\",\"\",様式C_研究責任医師!I12)","v":""},{"$f":"IF(様式C_研究責任医師!J12=\"\",\"\",様式C_研究責任医師!J12)","v":""}]
[null,{"$f":"IF(様式C_研究責任医師!C13=\"\",\"\",様式C_研究責任医師!C13)","v":""},null,{"$f":"IF(様式C_研究責任医師!D13=\"\",\"\",様式C_研究責任医師!D13)","v":""},null,{"$f":"IF(様式C_研究責任医師!E13=\"\",\"\",様式C_研究責任医師!E13)","v":""},null,{"$f":"IF(様式C_研究責任医師!G13=\"\",\"\",様式C_研究責任医師!G13)","v":""},{"$f":"IF(様式C_研究責任医師!I13=\"\",\"\",様式C_研究責任医師!I13)","v":""},{"$f":"IF(様式C_研究責任医師!J13=\"\",\"\",様式C_研究責任医師!J13)","v":""}]
[null,{"$f":"IF(様式C_研究責任医師!C14=\"\",\"\",様式C_研究責任医師!C14)","v":""},null,{"$f":"IF(様式C_研究責任医師!D14=\"\",\"\",様式C_研究責任医師!D14)","v":""},null,{"$f":"IF(様式C_研究責任医師!E14=\"\",\"\",様式C_研究責任医師!E14)","v":""},null,{"$f":"IF(様式C_研究責任医師!G14=\"\",\"\",様式C_研究責任医師!G14)","v":""},{"$f":"IF(様式C_研究責任医師!I14=\"\",\"\",様式C_研究責任医師!I14)","v":""},{"$f":"IF(様式C_研究責任医師!J14=\"\",\"\",様式C_研究責任医師!J14)","v":""}]
[null,{"$f":"IF(様式C_研究責任医師!C15=\"\",\"\",様式C_研究責任医師!C15)","v":""},null,{"$f":"IF(様式C_研究責任医師!D15=\"\",\"\",様式C_研究責任医師!D15)","v":""},null,{"$f":"IF(様式C_研究責任医師!E15=\"\",\"\",様式C_研究責任医師!E15)","v":""},null,{"$f":"IF(様式C_研究責任医師!G15=\"\",\"\",様式C_研究責任医師!G15)","v":""},{"$f":"IF(様式C_研究責任医師!I15=\"\",\"\",様式C_研究責任医師!I15)","v":""},{"$f":"IF(様式C_研究責任医師!J15=\"\",\"\",様式C_研究責任医師!J15)","v":""},null,"【特記事項(任意)】"]
[null,{"$f":"IF(様式C_研究責任医師!C16=\"\",\"\",様式C_研究責任医師!C16)","v":""},null,{"$f":"IF(様式C_研究責任医師!D16=\"\",\"\",様式C_研究責任医師!D16)","v":""},null,{"$f":"IF(様式C_研究責任医師!E16=\"\",\"\",様式C_研究責任医師!E16)","v":""},null,{"$f":"IF(様式C_研究責任医師!G16=\"\",\"\",様式C_研究責任医師!G16)","v":""},{"$f":"IF(様式C_研究責任医師!I16=\"\",\"\",様式C_研究責任医師!I16)","v":""},{"$f":"IF(様式C_研究責任医師!J16=\"\",\"\",様式C_研究責任医師!J16)","v":""}]
[null,{"$f":"IF(様式C_研究責任医師!C17=\"\",\"\",様式C_研究責任医師!C17)","v":""},null,{"$f":"IF(様式C_研究責任医師!D17=\"\",\"\",様式C_研究責任医師!D17)","v":""},null,{"$f":"IF(様式C_研究責任医師!E17=\"\",\"\",様式C_研究責任医師!E17)","v":""},null,{"$f":"IF(様式C_研究責任医師!G17=\"\",\"\",様式C_研究責任医師!G17)","v":""},{"$f":"IF(様式C_研究責任医師!I17=\"\",\"\",様式C_研究責任医師!I17)","v":""},{"$f":"IF(様式C_研究責任医師!J17=\"\",\"\",様式C_研究責任医師!J17)","v":""}]
[null,{"$f":"IF(様式C_研究責任医師!C18=\"\",\"\",様式C_研究責任医師!C18)","v":""},null,{"$f":"IF(様式C_研究責任医師!D18=\"\",\"\",様式C_研究責任医師!D18)","v":""},null,{"$f":"IF(様式C_研究責任医師!E18=\"\",\"\",様式C_研究責任医師!E18)","v":""},null,{"$f":"IF(様式C_研究責任医師!G18=\"\",\"\",様式C_研究責任医師!G18)","v":""},{"$f":"IF(様式C_研究責任医師!I18=\"\",\"\",様式C_研究責任医師!I18)","v":""},{"$f":"IF(様式C_研究責任医師!J18=\"\",\"\",様式C_研究責任医師!J18)","v":""}]
[]
["様式B Q2~5で抽出された本研究課題と関わりのある企業等についての利益相反管理計画"]
["本研究課題と\n関わりのある企業等名",null,null,null,null,"研究計画書へのCOI記載","説明文書でのCOI開示","COI管理計画"]
[{"$f":"IF(ISNA(VLOOKUP(1,様式B!$A$17:$H$52,8,FALSE)),\"\",VLOOKUP(1,様式B!$A$17:$H$52,8,FALSE))","v":""},null,{"$f":"IF(H22=\"\",\"\",\"本研究費を提供(Q2)\")","v":""},null,null,null,null,{"$f":"IF(ISNA(VLOOKUP($A22,管理計画Q2,3,FALSE)),\"\",VLOOKUP($A22,管理計画Q2,3,FALSE))","v":""}]
[null,null,{"$f":"IF(H23=\"\",\"\",\"本研究に使用する薬剤・機器等を無償提供・無償貸与(Q3)\")","v":""},null,null,null,null,{"$f":"IF(ISNA(VLOOKUP($A22,管理計画Q3,3,FALSE)),\"\",VLOOKUP($A22,管理計画Q3,3,FALSE))","v":""}]
[null,null,{"$f":"IF(H24=\"\",\"\",\"本研究に役務を提供(Q4)\")","v":""},null,null,null,null,{"$f":"IF(ISNA(VLOOKUP($A22,管理計画Q4,3,FALSE)),\"\",VLOOKUP($A22,管理計画Q4,3,FALSE))","v":""}]
[null,null,{"$f":"IF(H25=\"\",\"\",\"本研究に参加・一部を担当(Q5)\")","v":""},null,null,null,null,{"$f":"IF(ISNA(VLOOKUP($A22,管理計画Q5,3,FALSE)),\"\",VLOOKUP($A22,管理計画Q5,3,FALSE))","v":""}]
[{"$f":"IF(ISNA(VLOOKUP(2,様式B!$A$17:$H$52,8,FALSE)),\"\",VLOOKUP(2,様式B!$A$17:$H$52,8,FALSE))","v":""},null,{"$f":"IF(H26=\"\",\"\",\"本研究費を提供(Q2)\")","v":""},null,null,null,null,{"$f":"IF(ISNA(VLOOKUP($A26,管理計画Q2,3,FALSE)),\"\",VLOOKUP($A26,管理計画Q2,3,FALSE))","v":""}]
[null,null,{"$f":"IF(H27=\"\",\"\",\"本研究に使用する薬剤・機器等を無償提供・無償貸与(Q3)\")","v":""},null,null,null,null,{"$f":"IF(ISNA(VLOOKUP($A26,管理計画Q3,3,FALSE)),\"\",VLOOKUP($A26,管理計画Q3,3,FALSE))","v":""}]
[null,null,{"$f":"IF(H28=\"\",\"\",\"本研究に役務を提供(Q4)\")","v":""},null,null,null,null,{"$f":"IF(ISNA(VLOOKUP($A26,管理計画Q4,3,FALSE)),\"\",VLOOKUP($A26,管理計画Q4,3,FALSE))","v":""}]
[null,null,{"$f":"IF(H29=\"\",\"\",\"本研究に参加・一部を担当(Q5)\")","v":""},null,null,null,null,{"$f":"IF(ISNA(VLOOKUP($A26,管理計画Q5,3,FALSE)),\"\",VLOOKUP($A26,管理計画Q5,3,FALSE))","v":""}]
[{"$f":"IF(ISNA(VLOOKUP(3,様式B!$A$17:$H$52,8,FALSE)),\"\",VLOOKUP(3,様式B!$A$17:$H$52,8,FALSE))","v":""},null,{"$f":"IF(H30=\"\",\"\",\"本研究費を提供(Q2)\")","v":""},null,null,null,null,{"$f":"IF(ISNA(VLOOKUP($A30,管理計画Q2,3,FALSE)),\"\",VLOOKUP($A30,管理計画Q2,3,FALSE))","v":""}]
[null,null,{"$f":"IF(H31=\"\",\"\",\"本研究に使用する薬剤・機器等を無償提供・無償貸与(Q3)\")","v":""},null,null,null,null,{"$f":"IF(ISNA(VLOOKUP($A30,管理計画Q3,3,FALSE)),\"\",VLOOKUP($A30,管理計画Q3,3,FALSE))","v":""}]
[null,null,{"$f":"IF(H32=\"\",\"\",\"本研究に役務を提供(Q4)\")","v":""},null,null,null,null,{"$f":"IF(ISNA(VLOOKUP($A30,管理計画Q4,3,FALSE)),\"\",VLOOKUP($A30,管理計画Q4,3,FALSE))","v":""}]
[null,null,{"$f":"IF(H33=\"\",\"\",\"本研究に参加・一部を担当(Q5)\")","v":""},null,null,null,null,{"$f":"IF(ISNA(VLOOKUP($A30,管理計画Q5,3,FALSE)),\"\",VLOOKUP($A30,管理計画Q5,3,FALSE))","v":""}]
[{"$f":"IF(ISNA(VLOOKUP(4,様式B!$A$17:$H$52,8,FALSE)),\"\",VLOOKUP(4,様式B!$A$17:$H$52,8,FALSE))","v":""},null,{"$f":"IF(H34=\"\",\"\",\"本研究費を提供(Q2)\")","v":""},null,null,null,null,{"$f":"IF(ISNA(VLOOKUP($A34,管理計画Q2,3,FALSE)),\"\",VLOOKUP($A34,管理計画Q2,3,FALSE))","v":""}]
[null,null,{"$f":"IF(H35=\"\",\"\",\"本研究に使用する薬剤・機器等を無償提供・無償貸与(Q3)\")","v":""},null,null,null,null,{"$f":"IF(ISNA(VLOOKUP($A34,管理計画Q3,3,FALSE)),\"\",VLOOKUP($A34,管理計画Q3,3,FALSE))","v":""}]
[null,null,{"$f":"IF(H36=\"\",\"\",\"本研究に役務を提供(Q4)\")","v":""},null,null,null,null,{"$f":"IF(ISNA(VLOOKUP($A34,管理計画Q4,3,FALSE)),\"\",VLOOKUP($A34,管理計画Q4,3,FALSE))","v":""}]
[null,null,{"$f":"IF(H37=\"\",\"\",\"本研究に参加・一部を担当(Q5)\")","v":""},null,null,null,null,{"$f":"IF(ISNA(VLOOKUP($A34,管理計画Q5,3,FALSE)),\"\",VLOOKUP($A34,管理計画Q5,3,FALSE))","v":""}]
[{"$f":"IF(ISNA(VLOOKUP(5,様式B!$A$17:$H$52,8,FALSE)),\"\",VLOOKUP(5,様式B!$A$17:$H$52,8,FALSE))","v":""},null,{"$f":"IF(H38=\"\",\"\",\"本研究費を提供(Q2)\")","v":""},null,null,null,null,{"$f":"IF(ISNA(VLOOKUP($A38,管理計画Q2,3,FALSE)),\"\",VLOOKUP($A38,管理計画Q2,3,FALSE))","v":""}]
[null,null,{"$f":"IF(H39=\"\",\"\",\"本研究に使用する薬剤・機器等を無償提供・無償貸与(Q3)\")","v":""},null,null,null,null,{"$f":"IF(ISNA(VLOOKUP($A38,管理計画Q3,3,FALSE)),\"\",VLOOKUP($A38,管理計画Q3,3,FALSE))","v":""}]
[null,null,{"$f":"IF(H40=\"\",\"\",\"本研究に役務を提供(Q4)\")","v":""},null,null,null,null,{"$f":"IF(ISNA(VLOOKUP($A38,管理計画Q4,3,FALSE)),\"\",VLOOKUP($A38,管理計画Q4,3,FALSE))","v":""}]
[null,null,{"$f":"IF(H41=\"\",\"\",\"本研究に参加・一部を担当(Q5)\")","v":""},null,null,null,null,{"$f":"IF(ISNA(VLOOKUP($A38,管理計画Q5,3,FALSE)),\"\",VLOOKUP($A38,管理計画Q5,3,FALSE))","v":""}]
[]
["様式B Q1で抽出された本研究対象医薬品等の製造販売業者等との、様式D Q1~6で確認された内容を踏まえた利益相反管理計画"]
[{"$f":"IF(使用不可_選択肢!A19=\"\",\"\",使用不可_選択肢!A19&\"とのCOIについて\")","v":""},null,null,null,"様式Cの提出が必要な全ての利益相反申告者について、"]
["立場","氏名","COI状況","研究計画書へのCOI記載","説明文書でのCOI開示","COI管理計画 (管理計画はプルダウンで選択後、自由記載の場合のみ手入力してください）",null,null,null,null,null,null,"COIについての事実確認","COI管理計画の確認状況"]
[null,null,null,null,null,null,{"$f":"IF(F46=\"基準1\",\"基準１に従い研究計画書に、利益相反について、正確に記載し、説明文書に明示し、研究成果公表時に開示する。\",IF(F46=\"基準1と5\",\"基準１に従い研究計画書に、利益相反について、正確に記載し、説明文書に明示し、研究成果公表時に開示する。\n基準5に該当するため、データ管理、モニタリング及び統計・解析等に関与する業務に従事せず、かつ研究期間中に監査を受け、研究の公正性に努める（研究責任医師のみ）\",IF(F46=\"基準1と6\",\"基準１に従い研究計画書に、利益相反について、正確に記載し、説明文書に明示し、研究成果公表時に開示する。\n配偶者又は同居の一親等の親族が基準6に該当するため、データ管理、モニタリング及び統計・解析に関与する業務に従事しない（研究責任医師のみ）　。\",IF(F46=\"基準1と7\",\"基準１に従い研究計画書に、利益相反について、正確に記載し、説明文書に明示し、研究成果公表時に開示する。\n基準7に該当するため、データ管理、モニタリング及び統計・解析に関与する業務に従事しない（研究分担医師のみ）\",IF(F46=\"助言・勧告（自由記載）\",\"\",\"\")))))","v":""}]
[null,null,null,null,null,null,""]
[null,null,null,null,null,null,""]
[null,null,null,null,null,null,""]
[null,null,null,null,null,null,""]
[null,null,null,null,null,null,""]
[null,null,null,null,null,null,""]
[null,null,null,null,null,null,""]
[]
[{"$f":"IF(使用不可_選択肢!A20=\"\",\"\",使用不可_選択肢!A20&\"とのCOIについて\")","v":""},null,null,null,"様式Cの提出が必要な全ての利益相反申告者について、"]
["立場","氏名","COI状況","研究計画書へのCOI記載","説明文書でのCOI開示","COI管理計画 (管理計画はプルダウンで選択後、自由記載の場合のみ手入力してください）",null,null,null,null,null,null,"COIについての事実確認","COI管理計画の確認状況"]
[null,null,null,null,null,null,{"$f":"IF(F57=\"基準1\",\"基準１に従い研究計画書に、利益相反について、正確に記載し、説明文書に明示し、研究成果公表時に開示する。\",IF(F57=\"基準1と5\",\"基準１に従い研究計画書に、利益相反について、正確に記載し、説明文書に明示し、研究成果公表時に開示する。\n基準5に該当するため、データ管理、モニタリング及び統計・解析等に関与する業務に従事せず、かつ研究期間中に監査を受け、研究の公正性に努める（研究責任医師のみ）\",IF(F57=\"基準1と6\",\"基準１に従い研究計画書に、利益相反について、正確に記載し、説明文書に明示し、研究成果公表時に開示する。\n配偶者又は同居の一親等の親族が基準6に該当するため、データ管理、モニタリング及び統計・解析に関与する業務に従事しない（研究責任医師のみ）　。\",IF(F57=\"基準1と7\",\"基準１に従い研究計画書に、利益相反について、正確に記載し、説明文書に明示し、研究成果公表時に開示する。\n基準7に該当するため、データ管理、モニタリング及び統計・解析に関与する業務に従事しない（研究分担医師のみ）\",IF(F57=\"助言・勧告（自由記載）\",\"\",\"\")))))","v":""}]
[null,null,null,null,null,null,""]
[null,null,null,null,null,null,""]
[null,null,null,null,null,null,""]
[null,null,null,null,null,null,""]
[null,null,null,null,null,null,""]
[null,null,null,null,null,null,""]
[null,null,null,null,null,null,""]
[]
[{"$f":"IF(使用不可_選択肢!A21=\"\",\"\",使用不可_選択肢!A21&\"とのCOIについて\")","v":""},null,null,null,"様式Cの提出が必要な全ての利益相反申告者について、"]
["立場","氏名","COI状況","研究計画書へのCOI記載","説明文書でのCOI開示","COI管理計画 (管理計画はプルダウンで選択後、自由記載の場合のみ手入力してください）",null,null,null,null,null,null,"COIについての事実確認","COI管理計画の確認状況"]
[null,null,null,null,null,null,{"$f":"IF(F68=\"基準1\",\"基準１に従い研究計画書に、利益相反について、正確に記載し、説明文書に明示し、研究成果公表時に開示する。\",IF(F68=\"基準1と5\",\"基準１に従い研究計画書に、利益相反について、正確に記載し、説明文書に明示し、研究成果公表時に開示する。\n基準5に該当するため、データ管理、モニタリング及び統計・解析等に関与する業務に従事せず、かつ研究期間中に監査を受け、研究の公正性に努める（研究責任医師のみ）\",IF(F68=\"基準1と6\",\"基準１に従い研究計画書に、利益相反について、正確に記載し、説明文書に明示し、研究成果公表時に開示する。\n配偶者又は同居の一親等の親族が基準6に該当するため、データ管理、モニタリング及び統計・解析に関与する業務に従事しない（研究責任医師のみ）　。\",IF(F68=\"基準1と7\",\"基準１に従い研究計画書に、利益相反について、正確に記載し、説明文書に明示し、研究成果公表時に開示する。\n基準7に該当するため、データ管理、モニタリング及び統計・解析に関与する業務に従事しない（研究分担医師のみ）\",IF(F68=\"助言・勧告（自由記載）\",\"\",\"\")))))","v":""}]
[null,null,null,null,null,null,""]
[null,null,null,null,null,null,""]
[null,null,null,null,null,null,""]
[null,null,null,null,null,null,""]
[null,null,null,null,null,null,""]
[null,null,null,null,null,null,""]
[null,null,null,null,null,null,""]
[]
[{"$f":"IF(使用不可_選択肢!A22=\"\",\"\",使用不可_選択肢!A22&\"とのCOIについて\")","v":""},null,null,null,"様式Cの提出が必要な全ての利益相反申告者について、"]
["立場","氏名","COI状況","研究計画書へのCOI記載","説明文書でのCOI開示","COI管理計画 (管理計画はプルダウンで選択後、自由記載の場合のみ手入力してください）",null,null,null,null,null,null,"COIについての事実確認","COI管理計画の確認状況"]
[null,null,null,null,null,null,{"$f":"IF(F79=\"基準1\",\"基準１に従い研究計画書に、利益相反について、正確に記載し、説明文書に明示し、研究成果公表時に開示する。\",IF(F79=\"基準1と5\",\"基準１に従い研究計画書に、利益相反について、正確に記載し、説明文書に明示し、研究成果公表時に開示する。\n基準5に該当するため、データ管理、モニタリング及び統計・解析等に関与する業務に従事せず、かつ研究期間中に監査を受け、研究の公正性に努める（研究責任医師のみ）\",IF(F79=\"基準1と6\",\"基準１に従い研究計画書に、利益相反について、正確に記載し、説明文書に明示し、研究成果公表時に開示する。\n配偶者又は同居の一親等の親族が基準6に該当するため、データ管理、モニタリング及び統計・解析に関与する業務に従事しない（研究責任医師のみ）　。\",IF(F79=\"基準1と7\",\"基準１に従い研究計画書に、利益相反について、正確に記載し、説明文書に明示し、研究成果公表時に開示する。\n基準7に該当するため、データ管理、モニタリング及び統計・解析に関与する業務に従事しない（研究分担医師のみ）\",IF(F79=\"助言・勧告（自由記載）\",\"\",\"\")))))","v":""}]
[null,null,null,null,null,null,""]
[null,null,null,null,null,null,""]
[null,null,null,null,null,null,""]
[null,null,null,null,null,null,""]
[null,null,null,null,null,null,""]
[null,null,null,null,null,null,""]
[null,null,null,null,null,null,""]
[]
[{"$f":"IF(使用不可_選択肢!A23=\"\",\"\",使用不可_選択肢!A23&\"とのCOIについて\")","v":""},null,null,null,"様式Cの提出が必要な全ての利益相反申告者について、"]
["立場","氏名","COI状況","研究計画書へのCOI記載","説明文書でのCOI開示","COI管理計画 (管理計画はプルダウンで選択後、自由記載の場合のみ手入力してください）",null,null,null,null,null,null,"COIについての事実確認","COI管理計画の確認状況"]
[null,null,null,null,null,null,{"$f":"IF(F90=\"基準1\",\"基準１に従い研究計画書に、利益相反について、正確に記載し、説明文書に明示し、研究成果公表時に開示する。\",IF(F90=\"基準1と5\",\"基準１に従い研究計画書に、利益相反について、正確に記載し、説明文書に明示し、研究成果公表時に開示する。\n基準5に該当するため、データ管理、モニタリング及び統計・解析等に関与する業務に従事せず、かつ研究期間中に監査を受け、研究の公正性に努める（研究責任医師のみ）\",IF(F90=\"基準1と6\",\"基準１に従い研究計画書に、利益相反について、正確に記載し、説明文書に明示し、研究成果公表時に開示する。\n配偶者又は同居の一親等の親族が基準6に該当するため、データ管理、モニタリング及び統計・解析に関与する業務に従事しない（研究責任医師のみ）　。\",IF(F90=\"基準1と7\",\"基準１に従い研究計画書に、利益相反について、正確に記載し、説明文書に明示し、研究成果公表時に開示する。\n基準7に該当するため、データ管理、モニタリング及び統計・解析に関与する業務に従事しない（研究分担医師のみ）\",IF(F90=\"助言・勧告（自由記載）\",\"\",\"\")))))","v":""}]
[null,null,null,null,null,null,""]
[null,null,null,null,null,null,""]
[null,null,null,null,null,null,""]
[null,null,null,null,null,null,""]
[null,null,null,null,null,null,""]
[null,null,null,null,null,null,""]
[null,null,null,null,null,null,""]

{"sheet":"使用不可_選択肢","index":7,"n_rows":29,"n_cols":8,"rows_kept":29,"cut":false,"hidden":true,"merged":[]}
[]
["【様式B】",null,null,null,null,"企業名","詳細","管理計画"]
["基準1","基準１に従い研究計画書に、利益相反について、正確に記載し、説明文書に明示し、研究成果公表時に開示する。(基準1)",null,12,"Q1",{"$f":"IF(様式B!H12=\"\",\"\",様式B!H12)","v":""},{"$f":"IF(様式B!J12=\"\",\"\",様式B!J12)","v":""},{"$f":"IF(様式B!K12=\"\",\"\",様式B!K12)","v":""}]
["基準1と2","基準１に従い研究計画書に、利益相反について、正確に記載し、説明文書に明示し、研究成果公表時に開示する。基準2に従い、医薬品等製造販売業者等からの研究資金等の受領は、契約を締結する。(基準1と2）",null,13,null,{"$f":"IF(様式B!H13=\"\",\"\",様式B!H13)","v":""},{"$f":"IF(様式B!J13=\"\",\"\",様式B!J13)","v":""},{"$f":"IF(様式B!K13=\"\",\"\",様式B!K13)","v":""}]
["基準1と8-1","基準１に従い研究計画書に、利益相反について、正確に記載し、説明文書に明示し、研究成果公表時に開示する。基準8－1に従い、研究責任医師は、本研究と関わりのある企業等の研究者が研究に関与する場合、原則として企業等の研究者に被験者のリクルート及びデータ管理（効果安全性評価委員会への参画を含む）、モニタリング、統計・解析に関与する業務には関与させない。（基準1と基準8-1）",null,14,null,{"$f":"IF(様式B!H14=\"\",\"\",様式B!H14)","v":""},{"$f":"IF(様式B!J14=\"\",\"\",様式B!J14)","v":""},{"$f":"IF(様式B!K14=\"\",\"\",様式B!K14)","v":""}]
["基準1と8-2","基準１に従い研究計画書に、利益相反について、正確に記載し、説明文書に明示し、研究成果公表時に開示する。基準8-2に従い、企業等の研究者をデータ管理（効果安全性評価委員会への参画を含まない）、統計・解析に関与する業務に関与させる必要がある場合には、研究期間中に監査を受ける。（基準1と基準8-2）",null,15,null,{"$f":"IF(様式B!H15=\"\",\"\",様式B!H15)","v":""},{"$f":"IF(様式B!J15=\"\",\"\",様式B!J15)","v":""},{"$f":"IF(様式B!K15=\"\",\"\",様式B!K15)","v":""}]
[null,null,null,16,null,{"$f":"IF(様式B!H16=\"\",\"\",様式B!H16)","v":""},{"$f":"IF(様式B!J16=\"\",\"\",様式B!J16)","v":""},{"$f":"IF(様式B!K16=\"\",\"\",様式B!K16)","v":""}]
["【様式C】",null,null,17,"Q2",{"$f":"IF(様式B!H17=\"\",\"\",様式B!H17)","v":""},{"$f":"IF(様式B!J17=\"\",\"\",様式B!J17)","v":""},{"$f":"IF(様式B!K17=\"\",\"\",様式B!K17)","v":""}]
["基準1","基準１に従い研究計画書に、利益相反について、正確に記載し、説明文書に明示し、研究成果公表時に開示する。",null,21,null,{"$f":"IF(様式B!H21=\"\",\"\",様式B!H21)","v":""},{"$f":"IF(様式B!J21=\"\",\"\",様式B!J21)","v":""},{"$f":"IF(様式B!K21=\"\",\"\",様式B!K21)","v":""}]
["基準1と5","基準１に従い研究計画書に、利益相反について、正確に記載し、説明文書に明示し、研究成果公表時に開示する。\n基準5に該当するため、データ管理、モニタリング及び統計・解析に関与する業務に従事せず、かつ研究期間中に監査を受け、研究の公正性に努める（研究責任医師のみ）",null,25,null,{"$f":"IF(様式B!H25=\"\",\"\",様式B!H25)","v":""},{"$f":"IF(様式B!J25=\"\",\"\",様式B!J25)","v":""},{"$f":"IF(様式B!K25=\"\",\"\",様式B!K25)","v":""}]
["基準1と6","基準１に従い研究計画書に、利益相反について、正確に記載し、説明文書に明示し、研究成果公表時に開示する。\n配偶者又は同居の一親等の親族が基準6に該当するため、データ管理、モニタリング及び統計・解析に関与する業務に従事しない（研究責任医師のみ）　。",null,29,"Q3",{"$f":"IF(様式B!H29=\"\",\"\",様式B!H29)","v":""},{"$f":"IF(様式B!J29=\"\",\"\",様式B!J29)","v":""},{"$f":"IF(様式B!K29=\"\",\"\",様式B!K29)","v":""}]
["基準1と7","基準１に従い研究計画書に、利益相反について、正確に記載し、説明文書に明示し、研究成果公表時に開示する。\n基準7に該当するため、データ管理、モニタリング及び統計・解析に関与する業務に従事しない（研究分担医師のみ）",null,31,null,{"$f":"IF(様式B!H31=\"\",\"\",様式B!H31)","v":""},{"$f":"IF(様式B!J31=\"\",\"\",様式B!J31)","v":""},{"$f":"IF(様式B!K31=\"\",\"\",様式B!K31)","v":""}]
["助言・勧告（自由記載）","　",null,33,null,{"$f":"IF(様式B!H33=\"\",\"\",様式B!H33)","v":""},{"$f":"IF(様式B!J33=\"\",\"\",様式B!J33)","v":""},{"$f":"IF(様式B!K33=\"\",\"\",様式B!K33)","v":""}]
[null,null,null,35,"Q4",{"$f":"IF(様式B!H35=\"\",\"\",様式B!H35)","v":""},{"$f":"IF(様式B!J35=\"\",\"\",様式B!J35)","v":""},{"$f":"IF(様式B!K35=\"\",\"\",様式B!K35)","v":""}]
[null,null,null,38,null,{"$f":"IF(様式B!H38=\"\",\"\",様式B!H38)","v":""},{"$f":"IF(様式B!J38=\"\",\"\",様式B!J38)","v":""},{"$f":"IF(様式B!K38=\"\",\"\",様式B!K38)","v":""}]
[null,null,null,41,null,{"$f":"IF(様式B!H41=\"\",\"\",様式B!H41)","v":""},{"$f":"IF(様式B!J41=\"\",\"\",様式B!J41)","v":""},{"$f":"IF(様式B!K41=\"\",\"\",様式B!K41)","v":""}]
[null,null,null,44,"Q5",{"$f":"IF(様式B!H44=\"\",\"\",様式B!H44)","v":""},{"$f":"IF(様式B!J44=\"\",\"\",様式B!J44)","v":""},{"$f":"IF(様式B!K44=\"\",\"\",様式B!K44)","v":""}]
["【様式BのQ1が”はい”の先】",null,null,47,null,{"$f":"IF(様式B!H47=\"\",\"\",様式B!H47)","v":""},{"$f":"IF(様式B!J47=\"\",\"\",様式B!J47)","v":""},{"$f":"IF(様式B!K47=\"\",\"\",様式B!K47)","v":""}]
[{"$f":"IF(様式B!H12=\"\",\"\",様式B!H12)","v":""},null,null,50,null,{"$f":"IF(様式B!H50=\"\",\"\",様式B!H50)","v":""},{"$f":"IF(様式B!J50=\"\",\"\",様式B!J50)","v":""},{"$f":"IF(様式B!K50=\"\",\"\",様式B!K50)","v":""}]
[{"$f":"IF(様式B!H13=\"\",\"\",様式B!H13)","v":""}]
[{"$f":"IF(様式B!H14=\"\",\"\",様式B!H14)","v":""}]
[{"$f":"IF(様式B!H15=\"\",\"\",様式B!H15)","v":""}]
[{"$f":"IF(様式B!H16=\"\",\"\",様式B!H16)","v":""}]
["【様式C】"]
["基準1","基準１に従い研究計画書に、利益相反について、正確に記載し、説明文書に明示し、研究成果公表時に開示する。(基準1)"]
["基準1と5","基準１に従い研究計画書に、利益相反について、正確に記載し、説明文書に明示し、研究成果公表時に開示する。\n基準5に該当するため、データ管理、モニタリング及び統計・解析に関与する業務に従事せず、かつ研究期間中に監査を受け、研究の公正性に努める（研究責任医師のみ）(基準1と5)"]
["基準1と6","基準１に従い研究計画書に、利益相反について、正確に記載し、説明文書に明示し、研究成果公表時に開示する。\n配偶者又は同居の一親等の親族が基準6に該当するため、データ管理、モニタリング及び統計・解析に関与する業務に従事しない（研究責任医師のみ）　。 (基準1と6)"]
["基準1と7","基準１に従い研究計画書に、利益相反について、正確に記載し、説明文書に明示し、研究成果公表時に開示する。\n基準7に該当するため、データ管理、モニタリング及び統計・解析に関与する業務に従事しない（研究分担医師のみ）(基準1と7)"]
["助言・勧告（自由記載）","　"]